BEGIN:VCALENDAR
VERSION:2.0
PRODID:-//Neighborhood Council Valley Village - ECPv6.15.20//NONSGML v1.0//EN
CALSCALE:GREGORIAN
METHOD:PUBLISH
X-ORIGINAL-URL:https://www.myvalleyvillage.com
X-WR-CALDESC:Events for Neighborhood Council Valley Village
REFRESH-INTERVAL;VALUE=DURATION:PT1H
X-Robots-Tag:noindex
X-PUBLISHED-TTL:PT1H
BEGIN:VTIMEZONE
TZID:America/Los_Angeles
BEGIN:DAYLIGHT
TZOFFSETFROM:-0800
TZOFFSETTO:-0700
TZNAME:PDT
DTSTART:20170312T100000
END:DAYLIGHT
BEGIN:STANDARD
TZOFFSETFROM:-0700
TZOFFSETTO:-0800
TZNAME:PST
DTSTART:20171105T090000
END:STANDARD
BEGIN:DAYLIGHT
TZOFFSETFROM:-0800
TZOFFSETTO:-0700
TZNAME:PDT
DTSTART:20180311T100000
END:DAYLIGHT
BEGIN:STANDARD
TZOFFSETFROM:-0700
TZOFFSETTO:-0800
TZNAME:PST
DTSTART:20181104T090000
END:STANDARD
BEGIN:DAYLIGHT
TZOFFSETFROM:-0800
TZOFFSETTO:-0700
TZNAME:PDT
DTSTART:20190310T100000
END:DAYLIGHT
BEGIN:STANDARD
TZOFFSETFROM:-0700
TZOFFSETTO:-0800
TZNAME:PST
DTSTART:20191103T090000
END:STANDARD
BEGIN:DAYLIGHT
TZOFFSETFROM:-0800
TZOFFSETTO:-0700
TZNAME:PDT
DTSTART:20200308T100000
END:DAYLIGHT
BEGIN:STANDARD
TZOFFSETFROM:-0700
TZOFFSETTO:-0800
TZNAME:PST
DTSTART:20201101T090000
END:STANDARD
END:VTIMEZONE
BEGIN:VEVENT
DTSTART;TZID=America/Los_Angeles:20191113T150000
DTEND;TZID=America/Los_Angeles:20191113T170000
DTSTAMP:20260424T001315
CREATED:20191105T184726Z
LAST-MODIFIED:20191105T184726Z
UID:5537-1573657200-1573664400@www.myvalleyvillage.com
SUMMARY:Homeless Services Listening Session
DESCRIPTION:The Los Angeles County Homeless Initiative is seeking your input on how they should be using your local Measure H tax dollars and additional State funding to combat and prevent homelessness. Each session is an opportunity for you to weigh in on what is working well\, what gaps exist\, and the most effective ways to use this funding. Everyone is welcome and encouraged to share their insights and recommendations on how they should be investing this funding to solve our homelessness crisis.
URL:https://www.myvalleyvillage.com/event/homeless-services-listening-session/
LOCATION:Zev Yaroslavsky Family Support Center\, 7555 Van Nuys Blvd\, Van Nuys\, 91405
CATEGORIES:events
END:VEVENT
BEGIN:VEVENT
DTSTART;TZID=America/Los_Angeles:20180228T130000
DTEND;TZID=America/Los_Angeles:20180228T163000
DTSTAMP:20260424T001315
CREATED:20180207T024500Z
LAST-MODIFIED:20180207T024500Z
UID:4187-1519822800-1519835400@www.myvalleyvillage.com
SUMMARY:Homeless Count Debrief Session
DESCRIPTION:SAN FERNANDO VALLEY\nZev Yaroslavsky Family Support Center\n7555 Van Nuys Blvd\nVan Nuys\, CA 91405\nWednesday\, February 28\, 2018\n1:00 pm –2:15pm(SFVHC)\n2:15 pm –4:30 pm (LA CoC Quarterly Meeting)
URL:https://www.myvalleyvillage.com/event/homeless-count-debrief-session/
LOCATION:Zev Yaroslavsky Family Support Center\, 7555 Van Nuys Blvd\, Van Nuys\, 91405
CATEGORIES:events
END:VEVENT
END:VCALENDAR