BEGIN:VCALENDAR
VERSION:2.0
PRODID:-//Neighborhood Council Valley Village - ECPv6.15.20//NONSGML v1.0//EN
CALSCALE:GREGORIAN
METHOD:PUBLISH
X-WR-CALNAME:Neighborhood Council Valley Village
X-ORIGINAL-URL:https://www.myvalleyvillage.com
X-WR-CALDESC:Events for Neighborhood Council Valley Village
REFRESH-INTERVAL;VALUE=DURATION:PT1H
X-Robots-Tag:noindex
X-PUBLISHED-TTL:PT1H
BEGIN:VTIMEZONE
TZID:America/Los_Angeles
BEGIN:DAYLIGHT
TZOFFSETFROM:-0800
TZOFFSETTO:-0700
TZNAME:PDT
DTSTART:20160313T100000
END:DAYLIGHT
BEGIN:STANDARD
TZOFFSETFROM:-0700
TZOFFSETTO:-0800
TZNAME:PST
DTSTART:20161106T090000
END:STANDARD
BEGIN:DAYLIGHT
TZOFFSETFROM:-0800
TZOFFSETTO:-0700
TZNAME:PDT
DTSTART:20170312T100000
END:DAYLIGHT
BEGIN:STANDARD
TZOFFSETFROM:-0700
TZOFFSETTO:-0800
TZNAME:PST
DTSTART:20171105T090000
END:STANDARD
BEGIN:DAYLIGHT
TZOFFSETFROM:-0800
TZOFFSETTO:-0700
TZNAME:PDT
DTSTART:20180311T100000
END:DAYLIGHT
BEGIN:STANDARD
TZOFFSETFROM:-0700
TZOFFSETTO:-0800
TZNAME:PST
DTSTART:20181104T090000
END:STANDARD
BEGIN:DAYLIGHT
TZOFFSETFROM:-0800
TZOFFSETTO:-0700
TZNAME:PDT
DTSTART:20190310T100000
END:DAYLIGHT
BEGIN:STANDARD
TZOFFSETFROM:-0700
TZOFFSETTO:-0800
TZNAME:PST
DTSTART:20191103T090000
END:STANDARD
BEGIN:DAYLIGHT
TZOFFSETFROM:-0800
TZOFFSETTO:-0700
TZNAME:PDT
DTSTART:20200308T100000
END:DAYLIGHT
BEGIN:STANDARD
TZOFFSETFROM:-0700
TZOFFSETTO:-0800
TZNAME:PST
DTSTART:20201101T090000
END:STANDARD
BEGIN:DAYLIGHT
TZOFFSETFROM:-0800
TZOFFSETTO:-0700
TZNAME:PDT
DTSTART:20210314T100000
END:DAYLIGHT
BEGIN:STANDARD
TZOFFSETFROM:-0700
TZOFFSETTO:-0800
TZNAME:PST
DTSTART:20211107T090000
END:STANDARD
BEGIN:DAYLIGHT
TZOFFSETFROM:-0800
TZOFFSETTO:-0700
TZNAME:PDT
DTSTART:20220313T100000
END:DAYLIGHT
BEGIN:STANDARD
TZOFFSETFROM:-0700
TZOFFSETTO:-0800
TZNAME:PST
DTSTART:20221106T090000
END:STANDARD
END:VTIMEZONE
BEGIN:VEVENT
DTSTART;TZID=America/Los_Angeles:20211218T100000
DTEND;TZID=America/Los_Angeles:20211218T140000
DTSTAMP:20260423T210220
CREATED:20211123T183756Z
LAST-MODIFIED:20211123T183756Z
UID:7571-1639821600-1639836000@www.myvalleyvillage.com
SUMMARY:Winter Wonderland Toy Giveaway
DESCRIPTION:
URL:https://www.myvalleyvillage.com/event/winter-wonderland-toy-giveaway/
LOCATION:Whitsett Soccer Fields\, 12413 Vanowen St.\, North Hollywood\, 91605
CATEGORIES:events
GEO:34.1939509;-118.4033955
X-APPLE-STRUCTURED-LOCATION;VALUE=URI;X-ADDRESS=Whitsett Soccer Fields 12413 Vanowen St. North Hollywood 91605;X-APPLE-RADIUS=500;X-TITLE=12413 Vanowen St.:geo:-118.4033955,34.1939509
END:VEVENT
BEGIN:VEVENT
DTSTART;TZID=America/Los_Angeles:20210903T090000
DTEND;TZID=America/Los_Angeles:20210903T120000
DTSTAMP:20260423T210220
CREATED:20210901T221912Z
LAST-MODIFIED:20210901T221912Z
UID:7377-1630659600-1630670400@www.myvalleyvillage.com
SUMMARY:Food Giveaway
DESCRIPTION:
URL:https://www.myvalleyvillage.com/event/food-giveaway/
LOCATION:Whitsett Soccer Fields\, 12413 Vanowen St.\, North Hollywood\, 91605
CATEGORIES:events
GEO:34.1939509;-118.4033955
X-APPLE-STRUCTURED-LOCATION;VALUE=URI;X-ADDRESS=Whitsett Soccer Fields 12413 Vanowen St. North Hollywood 91605;X-APPLE-RADIUS=500;X-TITLE=12413 Vanowen St.:geo:-118.4033955,34.1939509
END:VEVENT
BEGIN:VEVENT
DTSTART;TZID=America/Los_Angeles:20170503T153000
DTEND;TZID=America/Los_Angeles:20170503T163000
DTSTAMP:20260423T210220
CREATED:20170417T234147Z
LAST-MODIFIED:20170417T234147Z
UID:3566-1493825400-1493829000@www.myvalleyvillage.com
SUMMARY:Whitsett Soccer Field Ribbon Cutting
DESCRIPTION:
URL:https://www.myvalleyvillage.com/event/whitsett-soccer-field-ribbon-cutting/
LOCATION:Whitsett Soccer Fields\, 12413 Vanowen St.\, North Hollywood\, 91605
CATEGORIES:events
GEO:34.1939509;-118.4033955
X-APPLE-STRUCTURED-LOCATION;VALUE=URI;X-ADDRESS=Whitsett Soccer Fields 12413 Vanowen St. North Hollywood 91605;X-APPLE-RADIUS=500;X-TITLE=12413 Vanowen St.:geo:-118.4033955,34.1939509
END:VEVENT
END:VCALENDAR