BEGIN:VCALENDAR
VERSION:2.0
PRODID:-//Neighborhood Council Valley Village - ECPv6.15.20//NONSGML v1.0//EN
CALSCALE:GREGORIAN
METHOD:PUBLISH
X-ORIGINAL-URL:https://www.myvalleyvillage.com
X-WR-CALDESC:Events for Neighborhood Council Valley Village
REFRESH-INTERVAL;VALUE=DURATION:PT1H
X-Robots-Tag:noindex
X-PUBLISHED-TTL:PT1H
BEGIN:VTIMEZONE
TZID:America/Los_Angeles
BEGIN:DAYLIGHT
TZOFFSETFROM:-0800
TZOFFSETTO:-0700
TZNAME:PDT
DTSTART:20190310T100000
END:DAYLIGHT
BEGIN:STANDARD
TZOFFSETFROM:-0700
TZOFFSETTO:-0800
TZNAME:PST
DTSTART:20191103T090000
END:STANDARD
BEGIN:DAYLIGHT
TZOFFSETFROM:-0800
TZOFFSETTO:-0700
TZNAME:PDT
DTSTART:20200308T100000
END:DAYLIGHT
BEGIN:STANDARD
TZOFFSETFROM:-0700
TZOFFSETTO:-0800
TZNAME:PST
DTSTART:20201101T090000
END:STANDARD
BEGIN:DAYLIGHT
TZOFFSETFROM:-0800
TZOFFSETTO:-0700
TZNAME:PDT
DTSTART:20210314T100000
END:DAYLIGHT
BEGIN:STANDARD
TZOFFSETFROM:-0700
TZOFFSETTO:-0800
TZNAME:PST
DTSTART:20211107T090000
END:STANDARD
END:VTIMEZONE
BEGIN:VEVENT
DTSTART;TZID=America/Los_Angeles:20200401T183000
DTEND;TZID=America/Los_Angeles:20200401T200000
DTSTAMP:20260423T225222
CREATED:20200320T235153Z
LAST-MODIFIED:20200320T235153Z
UID:5844-1585765800-1585771200@www.myvalleyvillage.com
SUMMARY:NextGen Bus Virtual Workshop
DESCRIPTION:NextGen is gathering public input and still needs your input to keep this important project moving forward. \n\nYou can still explore the NextGen Virtual Workshop. This includes the ability to explore the full plan using interactive maps and detailed line-by-line descriptions\, as well as provide comments.\nJoin the NextGen team at the countywide Live Webcast and Q&A on March 31 at 6pm and Telephone Town Hall on April 1 at 6:30pm. English speakers: 1.888.400.1932\,\nCall-in number for Spanish speakers: 1.888.400.9342\nSubmit your NextGen comments via email at nextgen@metro.net\n\nPlanning for the future of bus service in LA County is still a top focus for our Metro staff so we can provide LA County residents the best possible bus service when this health pandemic passes. We will stay in touch to let you know the latest developments on NextGen and the North SFV BRT Project.
URL:https://www.myvalleyvillage.com/event/nextgen-bus-virtual-workshop/
LOCATION:Virtual Meeting
CATEGORIES:events
END:VEVENT
END:VCALENDAR