BEGIN:VCALENDAR
VERSION:2.0
PRODID:-//Neighborhood Council Valley Village - ECPv6.15.20//NONSGML v1.0//EN
CALSCALE:GREGORIAN
METHOD:PUBLISH
X-ORIGINAL-URL:https://www.myvalleyvillage.com
X-WR-CALDESC:Events for Neighborhood Council Valley Village
REFRESH-INTERVAL;VALUE=DURATION:PT1H
X-Robots-Tag:noindex
X-PUBLISHED-TTL:PT1H
BEGIN:VTIMEZONE
TZID:America/Los_Angeles
BEGIN:DAYLIGHT
TZOFFSETFROM:-0800
TZOFFSETTO:-0700
TZNAME:PDT
DTSTART:20190310T100000
END:DAYLIGHT
BEGIN:STANDARD
TZOFFSETFROM:-0700
TZOFFSETTO:-0800
TZNAME:PST
DTSTART:20191103T090000
END:STANDARD
BEGIN:DAYLIGHT
TZOFFSETFROM:-0800
TZOFFSETTO:-0700
TZNAME:PDT
DTSTART:20200308T100000
END:DAYLIGHT
BEGIN:STANDARD
TZOFFSETFROM:-0700
TZOFFSETTO:-0800
TZNAME:PST
DTSTART:20201101T090000
END:STANDARD
BEGIN:DAYLIGHT
TZOFFSETFROM:-0800
TZOFFSETTO:-0700
TZNAME:PDT
DTSTART:20210314T100000
END:DAYLIGHT
BEGIN:STANDARD
TZOFFSETFROM:-0700
TZOFFSETTO:-0800
TZNAME:PST
DTSTART:20211107T090000
END:STANDARD
END:VTIMEZONE
BEGIN:VEVENT
DTSTART;TZID=America/Los_Angeles:20200131T190000
DTEND;TZID=America/Los_Angeles:20200131T200000
DTSTAMP:20260423T225344
CREATED:20200124T021616Z
LAST-MODIFIED:20200124T021616Z
UID:5707-1580497200-1580500800@www.myvalleyvillage.com
SUMMARY:Bang Bang You're Dead
DESCRIPTION:You are invited to the teen ensemble’s presentation of William Mastrosimone’s powerful play Bang\, Bang You’re Dead.  Performances are on Friday\, January 31\, 7PM\, February 1\, 3PM and 7PM and Sunday\, February 2\, 3PM.  Admission is free!\n\nWilliam Mastrosimone wrote this play in the late 1990s in response to a violent threat that occurred at his son’s high school.  He went on to create a play designed to be performed by students for students – its running time was to fit within a 45-minute class period.  It was first performed at Thurston High School in Oregon six months after the school suffered a school shooting.  The play was a powerful and healing experience for the community.  Mastrosimone then decided to offer the play for free via a website.  Students quickly started performing the play around the nation and the world.  Showtime Networks would eventually broadcast a movie that was inspired by the play.\n\nVillage Arts decided to take on this play to offer an opportunity for our students to create a piece that is sadly still relevant and where the cast could explore a different form of theatre that emphasized ensemble and collaboration.  It is our plan that this play is the first of many where our older students get to explore relevant topics that speak to them and their peers.\n\nDue to the topic parental discretion is advised\, as the play may not be suitable for children under 8 years old.
URL:https://www.myvalleyvillage.com/event/bang-bang-youre-dead/2020-01-31/
LOCATION:Village Arts Theater\, 5000 Colfax Ave\, Valley Village
CATEGORIES:events
END:VEVENT
END:VCALENDAR