BEGIN:VCALENDAR
VERSION:2.0
PRODID:-//Neighborhood Council Valley Village - ECPv6.15.20//NONSGML v1.0//EN
CALSCALE:GREGORIAN
METHOD:PUBLISH
X-WR-CALNAME:Neighborhood Council Valley Village
X-ORIGINAL-URL:https://www.myvalleyvillage.com
X-WR-CALDESC:Events for Neighborhood Council Valley Village
REFRESH-INTERVAL;VALUE=DURATION:PT1H
X-Robots-Tag:noindex
X-PUBLISHED-TTL:PT1H
BEGIN:VTIMEZONE
TZID:America/Los_Angeles
BEGIN:DAYLIGHT
TZOFFSETFROM:-0800
TZOFFSETTO:-0700
TZNAME:PDT
DTSTART:20180311T100000
END:DAYLIGHT
BEGIN:STANDARD
TZOFFSETFROM:-0700
TZOFFSETTO:-0800
TZNAME:PST
DTSTART:20181104T090000
END:STANDARD
BEGIN:DAYLIGHT
TZOFFSETFROM:-0800
TZOFFSETTO:-0700
TZNAME:PDT
DTSTART:20190310T100000
END:DAYLIGHT
BEGIN:STANDARD
TZOFFSETFROM:-0700
TZOFFSETTO:-0800
TZNAME:PST
DTSTART:20191103T090000
END:STANDARD
BEGIN:DAYLIGHT
TZOFFSETFROM:-0800
TZOFFSETTO:-0700
TZNAME:PDT
DTSTART:20200308T100000
END:DAYLIGHT
BEGIN:STANDARD
TZOFFSETFROM:-0700
TZOFFSETTO:-0800
TZNAME:PST
DTSTART:20201101T090000
END:STANDARD
END:VTIMEZONE
BEGIN:VEVENT
DTSTART;TZID=America/Los_Angeles:20190608T110000
DTEND;TZID=America/Los_Angeles:20190608T140000
DTSTAMP:20260423T225054
CREATED:20190524T174007Z
LAST-MODIFIED:20190606T202146Z
UID:5201-1559991600-1560002400@www.myvalleyvillage.com
SUMMARY:Creativity Summit
DESCRIPTION:Please join Assemblymember Nazarian as we kickoff our 5th Annual Creativity Summit\, supporting the talents of our local students and Valley residents! \nThe event will feature a gallery of student art work and projects\, arts & crafts\, a digital playground\, and student performances! Bring your family\, friends and neighbors to check out this free event. \nRSVP \nSaturday\, June 8\n11 a.m. – 2 p.m. \nState Building\n6150 Van Nuys Blvd.\nVan Nuys\, CA 91401 \nThis year we will showcase the importance of STEAM education and its role in encouraging students to take thoughtful risks\, engage in experiential learning\, persist in problem-solving\, embrace collaboration\, and work through the creative process. \nIf you are interested in having your art work or project displayed\, please contact my office at (818) 376-4246 or Vanessa.Carr@asm.ca.gov.
URL:https://www.myvalleyvillage.com/event/creativity-summit/
LOCATION:Van Nuys State Building\, 6150 Van Nuys Blvd\, Van Nuys\, 91401
CATEGORIES:events
END:VEVENT
BEGIN:VEVENT
DTSTART;TZID=America/Los_Angeles:20190117T180000
DTEND;TZID=America/Los_Angeles:20190117T200000
DTSTAMP:20260423T225054
CREATED:20190114T192443Z
LAST-MODIFIED:20190114T192801Z
UID:4895-1547748000-1547755200@www.myvalleyvillage.com
SUMMARY:Renter's Rights Workshop
DESCRIPTION:Assemblymember Nazarian invites you to attend a Renters’ Rights Workshop with Coalition for Economic Survival (CES)\, Housing Rights Center\, and LA’s Housing + Community Investment Department (HCIDLA) to educate tenants on their rights. Topics include the new Tenant Buyout Notification Program\, and the Rent Stabilization Ordinance (RSO)\, which regulates rents on about 600\,000 Los Angeles rental units\, and which applies to 85 percent of the City’s rental housing. Tenants\, landlords\, Neighborhood Council Planning & Land Use committees\, and any Angeleno interested in learning more about renters’ rights is invited to attend this workshop. \nThursday January 17\, 2019\n6 p.m. – 8 p.m. \nVan Nuys State Building Auditorium\n6150 Van Nuys Boulevard\nVan Nuys\, CA 91401-3370 \nRSVP For This Event \nParking: Street parking also available on surrounding side streets. \nWe hope you can join us. \nOfreceremos traducción en Español \nFor more information\, please contact Emma.Taylor@asm.ca.gov or call my office at (818) 376-4246.
URL:https://www.myvalleyvillage.com/event/renters-rights-workshop/
LOCATION:Van Nuys State Building\, 6150 Van Nuys Blvd\, Van Nuys\, 91401
CATEGORIES:events
END:VEVENT
END:VCALENDAR