BEGIN:VCALENDAR
VERSION:2.0
PRODID:-//Neighborhood Council Valley Village - ECPv6.15.20//NONSGML v1.0//EN
CALSCALE:GREGORIAN
METHOD:PUBLISH
X-WR-CALNAME:Neighborhood Council Valley Village
X-ORIGINAL-URL:https://www.myvalleyvillage.com
X-WR-CALDESC:Events for Neighborhood Council Valley Village
REFRESH-INTERVAL;VALUE=DURATION:PT1H
X-Robots-Tag:noindex
X-PUBLISHED-TTL:PT1H
BEGIN:VTIMEZONE
TZID:America/Los_Angeles
BEGIN:DAYLIGHT
TZOFFSETFROM:-0800
TZOFFSETTO:-0700
TZNAME:PDT
DTSTART:20160313T100000
END:DAYLIGHT
BEGIN:STANDARD
TZOFFSETFROM:-0700
TZOFFSETTO:-0800
TZNAME:PST
DTSTART:20161106T090000
END:STANDARD
BEGIN:DAYLIGHT
TZOFFSETFROM:-0800
TZOFFSETTO:-0700
TZNAME:PDT
DTSTART:20170312T100000
END:DAYLIGHT
BEGIN:STANDARD
TZOFFSETFROM:-0700
TZOFFSETTO:-0800
TZNAME:PST
DTSTART:20171105T090000
END:STANDARD
BEGIN:DAYLIGHT
TZOFFSETFROM:-0800
TZOFFSETTO:-0700
TZNAME:PDT
DTSTART:20180311T100000
END:DAYLIGHT
BEGIN:STANDARD
TZOFFSETFROM:-0700
TZOFFSETTO:-0800
TZNAME:PST
DTSTART:20181104T090000
END:STANDARD
BEGIN:DAYLIGHT
TZOFFSETFROM:-0800
TZOFFSETTO:-0700
TZNAME:PDT
DTSTART:20190310T100000
END:DAYLIGHT
BEGIN:STANDARD
TZOFFSETFROM:-0700
TZOFFSETTO:-0800
TZNAME:PST
DTSTART:20191103T090000
END:STANDARD
BEGIN:DAYLIGHT
TZOFFSETFROM:-0800
TZOFFSETTO:-0700
TZNAME:PDT
DTSTART:20200308T100000
END:DAYLIGHT
BEGIN:STANDARD
TZOFFSETFROM:-0700
TZOFFSETTO:-0800
TZNAME:PST
DTSTART:20201101T090000
END:STANDARD
END:VTIMEZONE
BEGIN:VEVENT
DTSTART;TZID=America/Los_Angeles:20190806T183000
DTEND;TZID=America/Los_Angeles:20190806T203000
DTSTAMP:20260423T132941
CREATED:20190513T221547Z
LAST-MODIFIED:20190731T213133Z
UID:5177-1565116200-1565123400@www.myvalleyvillage.com
SUMMARY:National Night Out
DESCRIPTION:Join us for our annual National Night Out for crime prevention\, food\, music\, and valuable information from LAPD. Join us at Valley Village Park\, 5000 Westpark Drive from 6:30-8:30 for free food\, music\, raffles. Meet Rob Benavidez\, your LAPD Senior Lead Officer. LAPD will join us for a glow stick walk. Turn on your porch light to fight crime!
URL:https://www.myvalleyvillage.com/event/national-night-out-2/
LOCATION:Valley Village Park\, Hesby and Westpark
CATEGORIES:events
GEO:34.1621791;-118.3828946
X-APPLE-STRUCTURED-LOCATION;VALUE=URI;X-ADDRESS=Valley Village Park Hesby and Westpark;X-APPLE-RADIUS=500;X-TITLE=Hesby and Westpark:geo:-118.3828946,34.1621791
END:VEVENT
BEGIN:VEVENT
DTSTART;TZID=America/Los_Angeles:20190427T090000
DTEND;TZID=America/Los_Angeles:20190427T120000
DTSTAMP:20260423T132941
CREATED:20190222T212623Z
LAST-MODIFIED:20190409T165255Z
UID:4964-1556355600-1556366400@www.myvalleyvillage.com
SUMMARY:Earth Day Shredding Event
DESCRIPTION:Are you tripping over old files\, tax returns or health records?\nDo you have stacks of newspapers\, magazines and mail that you’d like to get rid of?\nNeighborhood Council Valley Village\nwill come to your rescue!\nSHREDDING EVENT\nSaturday\, April 27\, 2019\nValley Village Park\n(Hesby and 5000 Westpark Drive)\n9AM to NOON \nA certified shredding truck will be on site to destroy all unwanted material. It’s a free service and our way of celebrating Earth Day\, which is really every day. While you’re at it\, bring the old batteries you’ve been collecting and your assortment of used light bulbs. We’ll take those too. You don’t have to live in Valley Village to take advantage of this opportunity\, so spread the word. \nFor more information contact Ginny Hatfield at info@myvalleyvillage.com
URL:https://www.myvalleyvillage.com/event/earth-day-shredding-event/
LOCATION:Valley Village Park\, Hesby and Westpark
CATEGORIES:events
GEO:34.1621791;-118.3828946
X-APPLE-STRUCTURED-LOCATION;VALUE=URI;X-ADDRESS=Valley Village Park Hesby and Westpark;X-APPLE-RADIUS=500;X-TITLE=Hesby and Westpark:geo:-118.3828946,34.1621791
END:VEVENT
BEGIN:VEVENT
DTSTART;TZID=America/Los_Angeles:20180807T183000
DTEND;TZID=America/Los_Angeles:20180807T203000
DTSTAMP:20260423T132941
CREATED:20180730T235923Z
LAST-MODIFIED:20180731T005056Z
UID:4541-1533666600-1533673800@www.myvalleyvillage.com
SUMMARY:Valley Village National Night Out
DESCRIPTION:Valley Village National Night Out\nTuesday\, August 7\, 6:30 pm – 8:30 pm\nValley Village Park\n5000 Westpark Dr. \nNational Night Out is an annual celebration for neighborhoods across Los Angeles and the nation to take a stand against crime. The yearly tradition spotlights the partnership of local groups\, elected officials and law enforcement officers that keep our neighborhoods safe. The event is free and will include fun activities and entertainment for the whole family.
URL:https://www.myvalleyvillage.com/event/valley-village-national-night-out/
LOCATION:Valley Village Park\, Hesby and Westpark
CATEGORIES:events
GEO:34.1621791;-118.3828946
X-APPLE-STRUCTURED-LOCATION;VALUE=URI;X-ADDRESS=Valley Village Park Hesby and Westpark;X-APPLE-RADIUS=500;X-TITLE=Hesby and Westpark:geo:-118.3828946,34.1621791
END:VEVENT
BEGIN:VEVENT
DTSTART;TZID=America/Los_Angeles:20180421T090000
DTEND;TZID=America/Los_Angeles:20180421T120000
DTSTAMP:20260423T132941
CREATED:20180314T235434Z
LAST-MODIFIED:20180328T203707Z
UID:4251-1524301200-1524312000@www.myvalleyvillage.com
SUMMARY:Valley Village Earth Day Celebration: Shredding Event
DESCRIPTION:NCVV Sponsors Annual Earth Day Shredding Event on April 21\nAre you tripping over old files\, tax returns\, or health records\, or do you have stacks of newspapers\, magazines or mail you’d like to get rid of? Join the your NCVV Board and members of our Events and Outreach Committee as we sponsor the second annual Shredding Event at Valley Village Park in honor of Earth Day 2018. A Certified Shredding Truck will be on site to destroy your paper products. This is a free service from your NCVV Board. We will also be collecting old batteries and used light bulbs. For more information contact Ginny Hatfield at 818-970-4577 or Suzanne Lewis at 818-769-1153.
URL:https://www.myvalleyvillage.com/event/valley-village-earth-day-celebration/
LOCATION:Valley Village Park\, Hesby and Westpark
CATEGORIES:events
GEO:34.1621791;-118.3828946
X-APPLE-STRUCTURED-LOCATION;VALUE=URI;X-ADDRESS=Valley Village Park Hesby and Westpark;X-APPLE-RADIUS=500;X-TITLE=Hesby and Westpark:geo:-118.3828946,34.1621791
END:VEVENT
BEGIN:VEVENT
DTSTART;TZID=America/Los_Angeles:20170801T183000
DTEND;TZID=America/Los_Angeles:20170801T203000
DTSTAMP:20260423T132941
CREATED:20170711T171545Z
LAST-MODIFIED:20170721T183719Z
UID:3799-1501612200-1501619400@www.myvalleyvillage.com
SUMMARY:National Night Out
DESCRIPTION:Neighborhood Council Valley Village is proud to be part of the 34th annual National Night Out event\, Tuesday August 1 in Valley Village Park. Sponsored by your NCVV Board of Directors\, this community gathering will feature music\, food\, ice cream\, and raffles as well as important information about crime prevention. Guest speakers include our City Councilman Paul Krekorian\, our State Assemblymember Adrin Nazarian\, and our Senior Lead Officer Manny Arreygue. Art in the Park will be back once again showcasing the work of local artists from Valley Village. And NCVV will be paying tribute to our some of our valley LAPD officers who work hard to keep us safe. \nThis year’s national sponsors include ringwifi smart doorbell systems\, ADT security systems and King’s Hawaiian Bread. A ringwifi smart doorbell system and other great prizes will be raffled off to lucky stakeholders. Activities begin at 6:30 pm\, and at sunset we will join officers from LAPD for our traditional “Glo-Stick walk” around the neighborhood. \nBe sure to Turn On Your Porch Light to show your support of our LAPD officers and our community’s effort to take back the streets from crime. Mark your calendar now for August 1\, and join with your neighbors for a family friendly evening of fun at this year’s National Night Out! \n 
URL:https://www.myvalleyvillage.com/event/national-night-out/
LOCATION:Valley Village Park\, Hesby and Westpark
CATEGORIES:events
GEO:34.1621791;-118.3828946
X-APPLE-STRUCTURED-LOCATION;VALUE=URI;X-ADDRESS=Valley Village Park Hesby and Westpark;X-APPLE-RADIUS=500;X-TITLE=Hesby and Westpark:geo:-118.3828946,34.1621791
END:VEVENT
BEGIN:VEVENT
DTSTART;TZID=America/Los_Angeles:20170713T170000
DTEND;TZID=America/Los_Angeles:20170713T193000
DTSTAMP:20260423T132941
CREATED:20170630T230141Z
LAST-MODIFIED:20170630T230141Z
UID:3785-1499965200-1499974200@www.myvalleyvillage.com
SUMMARY:Pastries in the Park - Bake Sale
DESCRIPTION:Thursday\, July 13\, 5 pm – 7:30 pm\nValley Village Park\n4950 Westpark Dr.\nNorth Hollywood \nJoin No Hungry Kid for a special bake sale to raise funds in the fight to end child hunger. Meet at the park to get a taste of delicious baked goods and raise awareness for an important cause.
URL:https://www.myvalleyvillage.com/event/pastries-in-the-park-bake-sale/
LOCATION:Valley Village Park\, Hesby and Westpark
CATEGORIES:events
GEO:34.1621791;-118.3828946
X-APPLE-STRUCTURED-LOCATION;VALUE=URI;X-ADDRESS=Valley Village Park Hesby and Westpark;X-APPLE-RADIUS=500;X-TITLE=Hesby and Westpark:geo:-118.3828946,34.1621791
END:VEVENT
BEGIN:VEVENT
DTSTART;TZID=America/Los_Angeles:20170429T090000
DTEND;TZID=America/Los_Angeles:20170429T120000
DTSTAMP:20260423T132941
CREATED:20170417T233704Z
LAST-MODIFIED:20170417T233704Z
UID:3559-1493456400-1493467200@www.myvalleyvillage.com
SUMMARY:Free Shredding Event
DESCRIPTION:NCVV will celebrate Earth Day 2017 with several events in Valley Village.  On Saturday April 29\, NCVV’s Board of Directors is sponsoring a “shredding event” in Valley Village Park from 9 am until 12 noon.  Bring old personal papers\, tax and financial records\, magazines and newspapers to the park to be shredded and recycled.  We will also be collecting batteries and light bulbs for safe\, appropriate disposal. \n \n 
URL:https://www.myvalleyvillage.com/event/free-shredding-event/
LOCATION:Valley Village Park\, Hesby and Westpark
CATEGORIES:events
GEO:34.1621791;-118.3828946
X-APPLE-STRUCTURED-LOCATION;VALUE=URI;X-ADDRESS=Valley Village Park Hesby and Westpark;X-APPLE-RADIUS=500;X-TITLE=Hesby and Westpark:geo:-118.3828946,34.1621791
END:VEVENT
END:VCALENDAR