BEGIN:VCALENDAR
VERSION:2.0
PRODID:-//Neighborhood Council Valley Village - ECPv6.15.20//NONSGML v1.0//EN
CALSCALE:GREGORIAN
METHOD:PUBLISH
X-WR-CALNAME:Neighborhood Council Valley Village
X-ORIGINAL-URL:https://www.myvalleyvillage.com
X-WR-CALDESC:Events for Neighborhood Council Valley Village
REFRESH-INTERVAL;VALUE=DURATION:PT1H
X-Robots-Tag:noindex
X-PUBLISHED-TTL:PT1H
BEGIN:VTIMEZONE
TZID:America/Los_Angeles
BEGIN:DAYLIGHT
TZOFFSETFROM:-0800
TZOFFSETTO:-0700
TZNAME:PDT
DTSTART:20230312T100000
END:DAYLIGHT
BEGIN:STANDARD
TZOFFSETFROM:-0700
TZOFFSETTO:-0800
TZNAME:PST
DTSTART:20231105T090000
END:STANDARD
BEGIN:DAYLIGHT
TZOFFSETFROM:-0800
TZOFFSETTO:-0700
TZNAME:PDT
DTSTART:20240310T100000
END:DAYLIGHT
BEGIN:STANDARD
TZOFFSETFROM:-0700
TZOFFSETTO:-0800
TZNAME:PST
DTSTART:20241103T090000
END:STANDARD
BEGIN:DAYLIGHT
TZOFFSETFROM:-0800
TZOFFSETTO:-0700
TZNAME:PDT
DTSTART:20250309T100000
END:DAYLIGHT
BEGIN:STANDARD
TZOFFSETFROM:-0700
TZOFFSETTO:-0800
TZNAME:PST
DTSTART:20251102T090000
END:STANDARD
BEGIN:DAYLIGHT
TZOFFSETFROM:-0800
TZOFFSETTO:-0700
TZNAME:PDT
DTSTART:20260308T100000
END:DAYLIGHT
BEGIN:STANDARD
TZOFFSETFROM:-0700
TZOFFSETTO:-0800
TZNAME:PST
DTSTART:20261101T090000
END:STANDARD
BEGIN:DAYLIGHT
TZOFFSETFROM:-0800
TZOFFSETTO:-0700
TZNAME:PDT
DTSTART:20270314T100000
END:DAYLIGHT
BEGIN:STANDARD
TZOFFSETFROM:-0700
TZOFFSETTO:-0800
TZNAME:PST
DTSTART:20271107T090000
END:STANDARD
END:VTIMEZONE
BEGIN:VEVENT
DTSTART;TZID=America/Los_Angeles:20260315T103000
DTEND;TZID=America/Los_Angeles:20260315T123000
DTSTAMP:20260423T143133
CREATED:20260306T184442Z
LAST-MODIFIED:20260306T184442Z
UID:11308-1773570600-1773577800@www.myvalleyvillage.com
SUMMARY:Self Defense Workshop
DESCRIPTION:This month’s District 2 Self-Defense Workshop will be held at: \n10:30 AM to 12:30 PM\nSunday\, March 15\, 2026 \nValley Plaza Recreation Center\n12240 Archwood Street\nNorth Hollywood\, CA 91606 \nBuild self-confidence and learn tips and tricks to save your life\, techniques you’ll remember even if you panic. \nRegister
URL:https://www.myvalleyvillage.com/event/self-defense-workshop-2/
LOCATION:Valley Plaza Park\, 12240 Archwood St\, North Hollywood\, 91606
CATEGORIES:events
END:VEVENT
BEGIN:VEVENT
DTSTART;TZID=America/Los_Angeles:20260307T090000
DTEND;TZID=America/Los_Angeles:20260307T150000
DTSTAMP:20260423T143133
CREATED:20260227T184013Z
LAST-MODIFIED:20260227T184013Z
UID:11286-1772874000-1772895600@www.myvalleyvillage.com
SUMMARY:Summer Night Lights Hiring Hub
DESCRIPTION:
URL:https://www.myvalleyvillage.com/event/summer-night-lights-hiring-hub/
LOCATION:Valley Plaza Park\, 12240 Archwood St\, North Hollywood\, 91606
CATEGORIES:events
END:VEVENT
BEGIN:VEVENT
DTSTART;TZID=America/Los_Angeles:20251213T160000
DTEND;TZID=America/Los_Angeles:20251213T170000
DTSTAMP:20260423T143133
CREATED:20251104T181033Z
LAST-MODIFIED:20251209T232242Z
UID:10992-1765641600-1765645200@www.myvalleyvillage.com
SUMMARY:Let it Snow
DESCRIPTION:🎄 LET IT SNOW!\n📅 Friday\, December 13th\n⏰ 4:00 PM\n📍 Valley Plaza Recreation Center\n12240 Archwood St.\, North Hollywood\, CA 91606 \nJoin us for an afternoon full of holiday fun\, including:\n✨ Free Toy Giveaway\n❄️ Snow Falling Experience\n🎶 Live Music\n🎅 A Visit from Santa \nThis is a free\, family-friendly event open to all. We look forward to celebrating the season with you!
URL:https://www.myvalleyvillage.com/event/let-it-snow/
LOCATION:Valley Plaza Park\, 12240 Archwood St\, North Hollywood\, 91606
CATEGORIES:events
END:VEVENT
BEGIN:VEVENT
DTSTART;TZID=America/Los_Angeles:20250824T110000
DTEND;TZID=America/Los_Angeles:20250824T130000
DTSTAMP:20260423T143133
CREATED:20250818T190237Z
LAST-MODIFIED:20250818T190237Z
UID:10856-1756033200-1756040400@www.myvalleyvillage.com
SUMMARY:Self Defense Clinic
DESCRIPTION:Councilmember Nazarian invites you to a FREE self-defense clinic at Valley Plaza Recreation Center in North Hollywood. \nSunday\, August 24\, 2025\n11:00 AM to 1:00 PM\nValley Plaza Recreation Center\n12240 Archwood Street\nNorth Hollywood\, CA 91606 \nLearn tips and tricks to help save your life\, and defensive techniques you’ll remember even if you panic. \nRSVP to register for this FREE workshop. Call 818 213 7783 for more information.
URL:https://www.myvalleyvillage.com/event/self-defense-clinic-2/
LOCATION:Valley Plaza Park\, 12240 Archwood St\, North Hollywood\, 91606
CATEGORIES:events
END:VEVENT
BEGIN:VEVENT
DTSTART;TZID=America/Los_Angeles:20240921T100000
DTEND;TZID=America/Los_Angeles:20240921T140000
DTSTAMP:20260423T143133
CREATED:20240919T174421Z
LAST-MODIFIED:20240919T174421Z
UID:10131-1726912800-1726927200@www.myvalleyvillage.com
SUMMARY:Fur Fest
DESCRIPTION:
URL:https://www.myvalleyvillage.com/event/fur-fest/
LOCATION:Valley Plaza Park\, 12240 Archwood St\, North Hollywood\, 91606
CATEGORIES:events
END:VEVENT
END:VCALENDAR