BEGIN:VCALENDAR
VERSION:2.0
PRODID:-//Neighborhood Council Valley Village - ECPv6.15.20//NONSGML v1.0//EN
CALSCALE:GREGORIAN
METHOD:PUBLISH
X-WR-CALNAME:Neighborhood Council Valley Village
X-ORIGINAL-URL:https://www.myvalleyvillage.com
X-WR-CALDESC:Events for Neighborhood Council Valley Village
REFRESH-INTERVAL;VALUE=DURATION:PT1H
X-Robots-Tag:noindex
X-PUBLISHED-TTL:PT1H
BEGIN:VTIMEZONE
TZID:America/Los_Angeles
BEGIN:DAYLIGHT
TZOFFSETFROM:-0800
TZOFFSETTO:-0700
TZNAME:PDT
DTSTART:20180311T100000
END:DAYLIGHT
BEGIN:STANDARD
TZOFFSETFROM:-0700
TZOFFSETTO:-0800
TZNAME:PST
DTSTART:20181104T090000
END:STANDARD
BEGIN:DAYLIGHT
TZOFFSETFROM:-0800
TZOFFSETTO:-0700
TZNAME:PDT
DTSTART:20190310T100000
END:DAYLIGHT
BEGIN:STANDARD
TZOFFSETFROM:-0700
TZOFFSETTO:-0800
TZNAME:PST
DTSTART:20191103T090000
END:STANDARD
BEGIN:DAYLIGHT
TZOFFSETFROM:-0800
TZOFFSETTO:-0700
TZNAME:PDT
DTSTART:20200308T100000
END:DAYLIGHT
BEGIN:STANDARD
TZOFFSETFROM:-0700
TZOFFSETTO:-0800
TZNAME:PST
DTSTART:20201101T090000
END:STANDARD
END:VTIMEZONE
BEGIN:VEVENT
DTSTART;TZID=America/Los_Angeles:20191019T110000
DTEND;TZID=America/Los_Angeles:20191019T160000
DTSTAMP:20260423T161950
CREATED:20191011T002213Z
LAST-MODIFIED:20191011T002709Z
UID:5478-1571482800-1571500800@www.myvalleyvillage.com
SUMMARY:The Market at Wesley
DESCRIPTION:The Market at Wesley (formerly known as The Fall Flash Sale) is back on Saturday\, October 19th from 11am-4pm. Come shop our amazing collection of over 30 vendors who will donate 20% of their sales back to The Wesley School. \nThere is something for everyone! If you’re looking for clothing\, jewelry\, home goods\, food\, and beauty items\, The Market has you covered. Plus\, it’s a great way to get your holiday shopping started early while supporting our school at the same time. \nEnter to win great raffle prizes donated from all of our vendors! Plus\, that coveted school event parking spot is up for grabs again! \nThis year we have the exciting new addition of Los Angeles’ top food trucks lining Tujunga Avenue on the day of the event\, including CVT Ice Cream\, WAFL\, Surfer Taco\, and The Grilled Cheese Truck! Bring an appetite but most importantly\, bring your friends and family. It’s open to the public so please spread the word!
URL:https://www.myvalleyvillage.com/event/the-market-at-wesley/
LOCATION:The Wesley School\, 4832 Tujunga Ave\, North Hollywood
CATEGORIES:events
END:VEVENT
END:VCALENDAR