BEGIN:VCALENDAR
VERSION:2.0
PRODID:-//Neighborhood Council Valley Village - ECPv6.15.20//NONSGML v1.0//EN
CALSCALE:GREGORIAN
METHOD:PUBLISH
X-WR-CALNAME:Neighborhood Council Valley Village
X-ORIGINAL-URL:https://www.myvalleyvillage.com
X-WR-CALDESC:Events for Neighborhood Council Valley Village
REFRESH-INTERVAL;VALUE=DURATION:PT1H
X-Robots-Tag:noindex
X-PUBLISHED-TTL:PT1H
BEGIN:VTIMEZONE
TZID:America/Los_Angeles
BEGIN:DAYLIGHT
TZOFFSETFROM:-0800
TZOFFSETTO:-0700
TZNAME:PDT
DTSTART:20170312T100000
END:DAYLIGHT
BEGIN:STANDARD
TZOFFSETFROM:-0700
TZOFFSETTO:-0800
TZNAME:PST
DTSTART:20171105T090000
END:STANDARD
BEGIN:DAYLIGHT
TZOFFSETFROM:-0800
TZOFFSETTO:-0700
TZNAME:PDT
DTSTART:20180311T100000
END:DAYLIGHT
BEGIN:STANDARD
TZOFFSETFROM:-0700
TZOFFSETTO:-0800
TZNAME:PST
DTSTART:20181104T090000
END:STANDARD
BEGIN:DAYLIGHT
TZOFFSETFROM:-0800
TZOFFSETTO:-0700
TZNAME:PDT
DTSTART:20190310T100000
END:DAYLIGHT
BEGIN:STANDARD
TZOFFSETFROM:-0700
TZOFFSETTO:-0800
TZNAME:PST
DTSTART:20191103T090000
END:STANDARD
END:VTIMEZONE
BEGIN:VEVENT
DTSTART;TZID=America/Los_Angeles:20181110T103000
DTEND;TZID=America/Los_Angeles:20181110T123000
DTSTAMP:20260423T225344
CREATED:20181103T001221Z
LAST-MODIFIED:20181103T001221Z
UID:4759-1541845800-1541853000@www.myvalleyvillage.com
SUMMARY:Civic Saturday
DESCRIPTION:The Skirball Cultural Center to invites the Van Nuys neighborhood to join us as Citizen University hosts LA’s first Civic Saturday on November 10. Be inspired to turn words and ideas into action! \nAt this civic analogue to a faith gathering\, nurture your civic spirit and reflect on American civic religion—the unifying creed of liberty\, equality\, and self-government. Enjoy live music by Marisa Martínez\, poetry by Mila Cuda\, and listen to inspiring words from founder Eric Liu. \nHere’s what you need to know:\nCivic Saturday\nWHEN: Saturday\, November 10\, 10:30 a.m.–12:30 p.m.\nWHERE: The Skirball Cultural Center\nHOW: FREE\nRESERVE: https://www.skirball.org/programs/words-and-ideas/civic-saturday\nFACEBOOK EVENT: https://www.facebook.com/events/494409561060578/
URL:https://www.myvalleyvillage.com/event/civic-saturday/
LOCATION:The Skirball Cultural Center\, 2701 N. Sepulveda Boulevard\, Los Angeles\, 90049
CATEGORIES:events
END:VEVENT
END:VCALENDAR