BEGIN:VCALENDAR
VERSION:2.0
PRODID:-//Neighborhood Council Valley Village - ECPv6.15.20//NONSGML v1.0//EN
CALSCALE:GREGORIAN
METHOD:PUBLISH
X-ORIGINAL-URL:https://www.myvalleyvillage.com
X-WR-CALDESC:Events for Neighborhood Council Valley Village
REFRESH-INTERVAL;VALUE=DURATION:PT1H
X-Robots-Tag:noindex
X-PUBLISHED-TTL:PT1H
BEGIN:VTIMEZONE
TZID:America/Los_Angeles
BEGIN:DAYLIGHT
TZOFFSETFROM:-0800
TZOFFSETTO:-0700
TZNAME:PDT
DTSTART:20160313T100000
END:DAYLIGHT
BEGIN:STANDARD
TZOFFSETFROM:-0700
TZOFFSETTO:-0800
TZNAME:PST
DTSTART:20161106T090000
END:STANDARD
BEGIN:DAYLIGHT
TZOFFSETFROM:-0800
TZOFFSETTO:-0700
TZNAME:PDT
DTSTART:20170312T100000
END:DAYLIGHT
BEGIN:STANDARD
TZOFFSETFROM:-0700
TZOFFSETTO:-0800
TZNAME:PST
DTSTART:20171105T090000
END:STANDARD
BEGIN:DAYLIGHT
TZOFFSETFROM:-0800
TZOFFSETTO:-0700
TZNAME:PDT
DTSTART:20180311T100000
END:DAYLIGHT
BEGIN:STANDARD
TZOFFSETFROM:-0700
TZOFFSETTO:-0800
TZNAME:PST
DTSTART:20181104T090000
END:STANDARD
BEGIN:DAYLIGHT
TZOFFSETFROM:-0800
TZOFFSETTO:-0700
TZNAME:PDT
DTSTART:20190310T100000
END:DAYLIGHT
BEGIN:STANDARD
TZOFFSETFROM:-0700
TZOFFSETTO:-0800
TZNAME:PST
DTSTART:20191103T090000
END:STANDARD
BEGIN:DAYLIGHT
TZOFFSETFROM:-0800
TZOFFSETTO:-0700
TZNAME:PDT
DTSTART:20200308T100000
END:DAYLIGHT
BEGIN:STANDARD
TZOFFSETFROM:-0700
TZOFFSETTO:-0800
TZNAME:PST
DTSTART:20201101T090000
END:STANDARD
END:VTIMEZONE
BEGIN:VEVENT
DTSTART;TZID=America/Los_Angeles:20190512T080000
DTEND;TZID=America/Los_Angeles:20190512T110000
DTSTAMP:20260423T225300
CREATED:20190501T170716Z
LAST-MODIFIED:20190501T170716Z
UID:5107-1557648000-1557658800@www.myvalleyvillage.com
SUMMARY:Stamp Out Hunger
DESCRIPTION:Come help unload trucks into our storage facility on Sunday\, May 12. We need help sorting and organizing the food. And please leave a bag of non perishables for your mail carrier on Saturday\, May 11. \nTo volunteer please contact nohollywoodinterfaithpantry@gmail.com or call Barbara at 323-646-7801.
URL:https://www.myvalleyvillage.com/event/stamp-out-hunger/
LOCATION:Temple Beth Hillel\, 12326 Riverside Dr.\, Valley Village
CATEGORIES:events
GEO:34.1572194;-118.4016699
X-APPLE-STRUCTURED-LOCATION;VALUE=URI;X-ADDRESS=Temple Beth Hillel 12326 Riverside Dr. Valley Village;X-APPLE-RADIUS=500;X-TITLE=12326 Riverside Dr.:geo:-118.4016699,34.1572194
END:VEVENT
BEGIN:VEVENT
DTSTART;TZID=America/Los_Angeles:20170625T090000
DTEND;TZID=America/Los_Angeles:20170625T120000
DTSTAMP:20260423T225300
CREATED:20170519T231536Z
LAST-MODIFIED:20170610T010052Z
UID:3681-1498381200-1498392000@www.myvalleyvillage.com
SUMMARY:Disaster Awareness Course
DESCRIPTION:Your Board of Directors and the NCVV City Services Committee present a half day Disaster Awareness Course (DAC) led by LAFD Captain Stacy Gerlich. The 3-hour training will help you know how to prepare for an emergency – including earthquakes – and offer valuable instruction on search & rescue\, first response\, personal safety and triage/first aid. At the end of the training\, you will know how to make a survival kit for your family and develop an emergency response plan to keep them safe. \nThe training will be held at Temple Beth Hillel\, in the Mercaz Room\, 12326 Riverside Drive. Seats are limited – to RSVP contact dorothyapple@myvalleyvillage.com or call 818-424-4440.
URL:https://www.myvalleyvillage.com/event/disaster-awareness-course/
LOCATION:Temple Beth Hillel\, 12326 Riverside Dr.\, Valley Village
CATEGORIES:events
GEO:34.1572194;-118.4016699
X-APPLE-STRUCTURED-LOCATION;VALUE=URI;X-ADDRESS=Temple Beth Hillel 12326 Riverside Dr. Valley Village;X-APPLE-RADIUS=500;X-TITLE=12326 Riverside Dr.:geo:-118.4016699,34.1572194
END:VEVENT
BEGIN:VEVENT
DTSTART;TZID=America/Los_Angeles:20170506T183000
DTEND;TZID=America/Los_Angeles:20170506T233000
DTSTAMP:20260423T225300
CREATED:20170407T154816Z
LAST-MODIFIED:20170407T154816Z
UID:3551-1494095400-1494113400@www.myvalleyvillage.com
SUMMARY:Temple Beth Hillel 70th Anniversary
DESCRIPTION:Temple Beth Hillel is delighted to announce that we are celebrating our 70th year of serving the Reform Jewish community of the San Fernando Valley. \nA Gala to commemorate this milestone anniversary\, “Celebrating 70”\, will be held Saturday evening\, May 6\, 2017. Over Temple Beth Hillel’s 70 year history\, we have provided our congregation\, friends\, families and neighbors\, a rich array of religious\, spiritual\, cultural\, and educational opportunities to explore Reform Judaism as well as to celebrate with and support members of our community during their important life cycle events. \nMore information
URL:https://www.myvalleyvillage.com/event/temple-beth-hillel-70th-anniversary/
LOCATION:Temple Beth Hillel\, 12326 Riverside Dr.\, Valley Village
CATEGORIES:events
GEO:34.1572194;-118.4016699
X-APPLE-STRUCTURED-LOCATION;VALUE=URI;X-ADDRESS=Temple Beth Hillel 12326 Riverside Dr. Valley Village;X-APPLE-RADIUS=500;X-TITLE=12326 Riverside Dr.:geo:-118.4016699,34.1572194
END:VEVENT
BEGIN:VEVENT
DTSTART;TZID=America/Los_Angeles:20170222T090000
DTEND;TZID=America/Los_Angeles:20170222T110000
DTSTAMP:20260423T225300
CREATED:20170218T010609Z
LAST-MODIFIED:20170218T010609Z
UID:3379-1487754000-1487761200@www.myvalleyvillage.com
SUMMARY:LAPD Operations Valley Bureau Multi-Faith Religions  Community Forum
DESCRIPTION:Join the LAPD and LAFD command Staff to discuss emerging community issues\, your public safety concerns and suggestions. Guest speakers include\, Mayor Eric Garcetti\, Deputy Chief Downing\, LAPD counterterrorism and Special Operations Bureau and Soraya Deen\, founder of the Muslim Women Speakers Movement.
URL:https://www.myvalleyvillage.com/event/lapd-operations-valley-bureau-multi-faith-religions-community-forum/
LOCATION:Temple Beth Hillel\, 12326 Riverside Dr.\, Valley Village
CATEGORIES:events
GEO:34.1572194;-118.4016699
X-APPLE-STRUCTURED-LOCATION;VALUE=URI;X-ADDRESS=Temple Beth Hillel 12326 Riverside Dr. Valley Village;X-APPLE-RADIUS=500;X-TITLE=12326 Riverside Dr.:geo:-118.4016699,34.1572194
END:VEVENT
END:VCALENDAR