BEGIN:VCALENDAR
VERSION:2.0
PRODID:-//Neighborhood Council Valley Village - ECPv6.15.20//NONSGML v1.0//EN
CALSCALE:GREGORIAN
METHOD:PUBLISH
X-WR-CALNAME:Neighborhood Council Valley Village
X-ORIGINAL-URL:https://www.myvalleyvillage.com
X-WR-CALDESC:Events for Neighborhood Council Valley Village
REFRESH-INTERVAL;VALUE=DURATION:PT1H
X-Robots-Tag:noindex
X-PUBLISHED-TTL:PT1H
BEGIN:VTIMEZONE
TZID:America/Los_Angeles
BEGIN:DAYLIGHT
TZOFFSETFROM:-0800
TZOFFSETTO:-0700
TZNAME:PDT
DTSTART:20220313T100000
END:DAYLIGHT
BEGIN:STANDARD
TZOFFSETFROM:-0700
TZOFFSETTO:-0800
TZNAME:PST
DTSTART:20221106T090000
END:STANDARD
BEGIN:DAYLIGHT
TZOFFSETFROM:-0800
TZOFFSETTO:-0700
TZNAME:PDT
DTSTART:20230312T100000
END:DAYLIGHT
BEGIN:STANDARD
TZOFFSETFROM:-0700
TZOFFSETTO:-0800
TZNAME:PST
DTSTART:20231105T090000
END:STANDARD
BEGIN:DAYLIGHT
TZOFFSETFROM:-0800
TZOFFSETTO:-0700
TZNAME:PDT
DTSTART:20240310T100000
END:DAYLIGHT
BEGIN:STANDARD
TZOFFSETFROM:-0700
TZOFFSETTO:-0800
TZNAME:PST
DTSTART:20241103T090000
END:STANDARD
END:VTIMEZONE
BEGIN:VEVENT
DTSTART;TZID=America/Los_Angeles:20231014T130000
DTEND;TZID=America/Los_Angeles:20231014T150000
DTSTAMP:20260424T003418
CREATED:20231006T212158Z
LAST-MODIFIED:20231006T212542Z
UID:9378-1697288400-1697295600@www.myvalleyvillage.com
SUMMARY:High Density Town Hall
DESCRIPTION:Take Action to Stop 4 to 5-Story Apartments from Being Built Next to Your Home at this Town Hall October 14\, 1pm \nLOCATION\nSt. Michael’s Antiochian Orthodox Church\, 16643 Vanowen St\, Lake Balboa 91406 \nDATE AND TIME\n10/14/23 1:00pm – 10/14/23 3:00pm \nHousing Element — What will be the impact on our communities. Presented by: Jeff Kalban and Jeffrey Hartsough — IN PERSON EVENT \nRSVP: https://tiny.cc/79abvz
URL:https://www.myvalleyvillage.com/event/high-density-town-hall/
LOCATION:St. Michael’s Antiochian Orthodox Church\, 16643 Vanowen St\, Lake Balboa\, 91406
CATEGORIES:events
END:VEVENT
END:VCALENDAR