BEGIN:VCALENDAR
VERSION:2.0
PRODID:-//Neighborhood Council Valley Village - ECPv6.15.20//NONSGML v1.0//EN
CALSCALE:GREGORIAN
METHOD:PUBLISH
X-WR-CALNAME:Neighborhood Council Valley Village
X-ORIGINAL-URL:https://www.myvalleyvillage.com
X-WR-CALDESC:Events for Neighborhood Council Valley Village
REFRESH-INTERVAL;VALUE=DURATION:PT1H
X-Robots-Tag:noindex
X-PUBLISHED-TTL:PT1H
BEGIN:VTIMEZONE
TZID:America/Los_Angeles
BEGIN:DAYLIGHT
TZOFFSETFROM:-0800
TZOFFSETTO:-0700
TZNAME:PDT
DTSTART:20230312T100000
END:DAYLIGHT
BEGIN:STANDARD
TZOFFSETFROM:-0700
TZOFFSETTO:-0800
TZNAME:PST
DTSTART:20231105T090000
END:STANDARD
BEGIN:DAYLIGHT
TZOFFSETFROM:-0800
TZOFFSETTO:-0700
TZNAME:PDT
DTSTART:20240310T100000
END:DAYLIGHT
BEGIN:STANDARD
TZOFFSETFROM:-0700
TZOFFSETTO:-0800
TZNAME:PST
DTSTART:20241103T090000
END:STANDARD
BEGIN:DAYLIGHT
TZOFFSETFROM:-0800
TZOFFSETTO:-0700
TZNAME:PDT
DTSTART:20250309T100000
END:DAYLIGHT
BEGIN:STANDARD
TZOFFSETFROM:-0700
TZOFFSETTO:-0800
TZNAME:PST
DTSTART:20251102T090000
END:STANDARD
END:VTIMEZONE
BEGIN:VEVENT
DTSTART;TZID=America/Los_Angeles:20241006T120000
DTEND;TZID=America/Los_Angeles:20241006T150000
DTSTAMP:20260423T191409
CREATED:20240919T175255Z
LAST-MODIFIED:20240919T175255Z
UID:10135-1728216000-1728226800@www.myvalleyvillage.com
SUMMARY:Diverse Needs Fitness Fair
DESCRIPTION:On Sunday\, October 6th join us for 3 hours of fun\, live classes including boxing\, yoga\, zumba\, martial arts\, fitness training\, circus\, ballet and more. \nLocation: Sherman Oaks East Valley Adult Center:\n5056 Van Nuys Blvd. Sherman Oaks\, CA 91423 \nTime: 12:00 pm – 3:00 pm \nIt’s Free but you do Need to Register
URL:https://www.myvalleyvillage.com/event/diverse-needs-fitness-fair/
LOCATION:Sherman Oaks East Valley Adult Center\, 5056 Van Nuys Blvd\, Sherman Oaks\, 91423
CATEGORIES:events
END:VEVENT
END:VCALENDAR