BEGIN:VCALENDAR
VERSION:2.0
PRODID:-//Neighborhood Council Valley Village - ECPv6.15.20//NONSGML v1.0//EN
CALSCALE:GREGORIAN
METHOD:PUBLISH
X-ORIGINAL-URL:https://www.myvalleyvillage.com
X-WR-CALDESC:Events for Neighborhood Council Valley Village
REFRESH-INTERVAL;VALUE=DURATION:PT1H
X-Robots-Tag:noindex
X-PUBLISHED-TTL:PT1H
BEGIN:VTIMEZONE
TZID:America/Los_Angeles
BEGIN:DAYLIGHT
TZOFFSETFROM:-0800
TZOFFSETTO:-0700
TZNAME:PDT
DTSTART:20160313T100000
END:DAYLIGHT
BEGIN:STANDARD
TZOFFSETFROM:-0700
TZOFFSETTO:-0800
TZNAME:PST
DTSTART:20161106T090000
END:STANDARD
BEGIN:DAYLIGHT
TZOFFSETFROM:-0800
TZOFFSETTO:-0700
TZNAME:PDT
DTSTART:20170312T100000
END:DAYLIGHT
BEGIN:STANDARD
TZOFFSETFROM:-0700
TZOFFSETTO:-0800
TZNAME:PST
DTSTART:20171105T090000
END:STANDARD
BEGIN:DAYLIGHT
TZOFFSETFROM:-0800
TZOFFSETTO:-0700
TZNAME:PDT
DTSTART:20180311T100000
END:DAYLIGHT
BEGIN:STANDARD
TZOFFSETFROM:-0700
TZOFFSETTO:-0800
TZNAME:PST
DTSTART:20181104T090000
END:STANDARD
END:VTIMEZONE
BEGIN:VEVENT
DTSTART;TZID=America/Los_Angeles:20170415T120000
DTEND;TZID=America/Los_Angeles:20170415T140000
DTSTAMP:20260424T003243
CREATED:20170406T210359Z
LAST-MODIFIED:20170406T210359Z
UID:3546-1492257600-1492264800@www.myvalleyvillage.com
SUMMARY:Financial Fitness Seminar
DESCRIPTION:
URL:https://www.myvalleyvillage.com/event/financial-fitness-seminar/
LOCATION:Red Moon Restaurant\, 12516 Riverside Dr.\, Valley Village
CATEGORIES:events
GEO:34.157348;-118.4058695
X-APPLE-STRUCTURED-LOCATION;VALUE=URI;X-ADDRESS=Red Moon Restaurant 12516 Riverside Dr. Valley Village;X-APPLE-RADIUS=500;X-TITLE=12516 Riverside Dr.:geo:-118.4058695,34.157348
END:VEVENT
END:VCALENDAR