BEGIN:VCALENDAR
VERSION:2.0
PRODID:-//Neighborhood Council Valley Village - ECPv6.15.20//NONSGML v1.0//EN
CALSCALE:GREGORIAN
METHOD:PUBLISH
X-WR-CALNAME:Neighborhood Council Valley Village
X-ORIGINAL-URL:https://www.myvalleyvillage.com
X-WR-CALDESC:Events for Neighborhood Council Valley Village
REFRESH-INTERVAL;VALUE=DURATION:PT1H
X-Robots-Tag:noindex
X-PUBLISHED-TTL:PT1H
BEGIN:VTIMEZONE
TZID:America/Los_Angeles
BEGIN:DAYLIGHT
TZOFFSETFROM:-0800
TZOFFSETTO:-0700
TZNAME:PDT
DTSTART:20170312T100000
END:DAYLIGHT
BEGIN:STANDARD
TZOFFSETFROM:-0700
TZOFFSETTO:-0800
TZNAME:PST
DTSTART:20171105T090000
END:STANDARD
BEGIN:DAYLIGHT
TZOFFSETFROM:-0800
TZOFFSETTO:-0700
TZNAME:PDT
DTSTART:20180311T100000
END:DAYLIGHT
BEGIN:STANDARD
TZOFFSETFROM:-0700
TZOFFSETTO:-0800
TZNAME:PST
DTSTART:20181104T090000
END:STANDARD
BEGIN:DAYLIGHT
TZOFFSETFROM:-0800
TZOFFSETTO:-0700
TZNAME:PDT
DTSTART:20190310T100000
END:DAYLIGHT
BEGIN:STANDARD
TZOFFSETFROM:-0700
TZOFFSETTO:-0800
TZNAME:PST
DTSTART:20191103T090000
END:STANDARD
END:VTIMEZONE
BEGIN:VEVENT
DTSTART;TZID=America/Los_Angeles:20180517T123000
DTEND;TZID=America/Los_Angeles:20180517T143000
DTSTAMP:20260423T175410
CREATED:20180511T220104Z
LAST-MODIFIED:20180511T220104Z
UID:4389-1526560200-1526567400@www.myvalleyvillage.com
SUMMARY:Community Forum on the Primary Election
DESCRIPTION:There are many very important offices and ballot measures on this year’s state-wide ballot – including candidates running for Governor\, Lt. Governor\, US Senate\, all US House seats\, and county and city races. There are also five ballot initiatives including a request to approve bonds for parks\, additional transportation funding\, and an amendment to the state’s Cap-and-Trade program. It is important that everyone vote\, and to help you with decisions\, the League of Women Voters is sponsoring a Community Forum on the Primary Election. The meeting will be held May 17\, from 12:30 – 2:30\, at Platt Library\, 23600 Victory Boulevard in Woodland Hills.
URL:https://www.myvalleyvillage.com/event/community-forum-on-the-primary-election/
LOCATION:Platt Library\, 23600 Victory Boulevard\, Woodland Hills
CATEGORIES:events
END:VEVENT
END:VCALENDAR