BEGIN:VCALENDAR
VERSION:2.0
PRODID:-//Neighborhood Council Valley Village - ECPv6.15.20//NONSGML v1.0//EN
CALSCALE:GREGORIAN
METHOD:PUBLISH
X-WR-CALNAME:Neighborhood Council Valley Village
X-ORIGINAL-URL:https://www.myvalleyvillage.com
X-WR-CALDESC:Events for Neighborhood Council Valley Village
REFRESH-INTERVAL;VALUE=DURATION:PT1H
X-Robots-Tag:noindex
X-PUBLISHED-TTL:PT1H
BEGIN:VTIMEZONE
TZID:America/Los_Angeles
BEGIN:DAYLIGHT
TZOFFSETFROM:-0800
TZOFFSETTO:-0700
TZNAME:PDT
DTSTART:20160313T100000
END:DAYLIGHT
BEGIN:STANDARD
TZOFFSETFROM:-0700
TZOFFSETTO:-0800
TZNAME:PST
DTSTART:20161106T090000
END:STANDARD
BEGIN:DAYLIGHT
TZOFFSETFROM:-0800
TZOFFSETTO:-0700
TZNAME:PDT
DTSTART:20170312T100000
END:DAYLIGHT
BEGIN:STANDARD
TZOFFSETFROM:-0700
TZOFFSETTO:-0800
TZNAME:PST
DTSTART:20171105T090000
END:STANDARD
BEGIN:DAYLIGHT
TZOFFSETFROM:-0800
TZOFFSETTO:-0700
TZNAME:PDT
DTSTART:20180311T100000
END:DAYLIGHT
BEGIN:STANDARD
TZOFFSETFROM:-0700
TZOFFSETTO:-0800
TZNAME:PST
DTSTART:20181104T090000
END:STANDARD
END:VTIMEZONE
BEGIN:VEVENT
DTSTART;TZID=America/Los_Angeles:20170509T190000
DTEND;TZID=America/Los_Angeles:20170509T210000
DTSTAMP:20260423T174909
CREATED:20170506T235846Z
LAST-MODIFIED:20170506T235846Z
UID:3615-1494356400-1494363600@www.myvalleyvillage.com
SUMMARY:City Services Committee Meeting
DESCRIPTION:May 2017 City Services Agenda \nPlease join us for our next City Services Committee Meeting on Tuesday\, May 9\, 7pm at the Oakwood School Secondary Campus\, Room C\, 11605 Magnolia Blvd. \n 
URL:https://www.myvalleyvillage.com/event/city-services-committee-meeting/
LOCATION:Oakwood School Secondary Campus\, 11605 Magnolia Boulevard\, Valley Village\, California\, 91607
CATEGORIES:meetings
GEO:34.1651255;-118.385001
X-APPLE-STRUCTURED-LOCATION;VALUE=URI;X-ADDRESS=Oakwood School Secondary Campus 11605 Magnolia Boulevard Valley Village California 91607;X-APPLE-RADIUS=500;X-TITLE=11605 Magnolia Boulevard:geo:-118.385001,34.1651255
END:VEVENT
BEGIN:VEVENT
DTSTART;TZID=America/Los_Angeles:20170314T225807
DTEND;TZID=America/Los_Angeles:20170314T225807
DTSTAMP:20260423T174909
CREATED:20170313T211734Z
LAST-MODIFIED:20170314T225806Z
UID:3476-1489532287-1489532287@www.myvalleyvillage.com
SUMMARY:City Services Committee
DESCRIPTION:March 2017 CSC Meeting Agenda – MARCH MEETING CANCELLED
URL:https://www.myvalleyvillage.com/event/city-services-committee/
LOCATION:Oakwood School Secondary Campus\, 11605 Magnolia Boulevard\, Valley Village\, California\, 91607
GEO:34.1651255;-118.385001
X-APPLE-STRUCTURED-LOCATION;VALUE=URI;X-ADDRESS=Oakwood School Secondary Campus 11605 Magnolia Boulevard Valley Village California 91607;X-APPLE-RADIUS=500;X-TITLE=11605 Magnolia Boulevard:geo:-118.385001,34.1651255
END:VEVENT
END:VCALENDAR