BEGIN:VCALENDAR
VERSION:2.0
PRODID:-//Neighborhood Council Valley Village - ECPv6.15.20//NONSGML v1.0//EN
CALSCALE:GREGORIAN
METHOD:PUBLISH
X-ORIGINAL-URL:https://www.myvalleyvillage.com
X-WR-CALDESC:Events for Neighborhood Council Valley Village
REFRESH-INTERVAL;VALUE=DURATION:PT1H
X-Robots-Tag:noindex
X-PUBLISHED-TTL:PT1H
BEGIN:VTIMEZONE
TZID:America/Los_Angeles
BEGIN:DAYLIGHT
TZOFFSETFROM:-0800
TZOFFSETTO:-0700
TZNAME:PDT
DTSTART:20170312T100000
END:DAYLIGHT
BEGIN:STANDARD
TZOFFSETFROM:-0700
TZOFFSETTO:-0800
TZNAME:PST
DTSTART:20171105T090000
END:STANDARD
BEGIN:DAYLIGHT
TZOFFSETFROM:-0800
TZOFFSETTO:-0700
TZNAME:PDT
DTSTART:20180311T100000
END:DAYLIGHT
BEGIN:STANDARD
TZOFFSETFROM:-0700
TZOFFSETTO:-0800
TZNAME:PST
DTSTART:20181104T090000
END:STANDARD
BEGIN:DAYLIGHT
TZOFFSETFROM:-0800
TZOFFSETTO:-0700
TZNAME:PDT
DTSTART:20190310T100000
END:DAYLIGHT
BEGIN:STANDARD
TZOFFSETFROM:-0700
TZOFFSETTO:-0800
TZNAME:PST
DTSTART:20191103T090000
END:STANDARD
BEGIN:DAYLIGHT
TZOFFSETFROM:-0800
TZOFFSETTO:-0700
TZNAME:PDT
DTSTART:20200308T100000
END:DAYLIGHT
BEGIN:STANDARD
TZOFFSETFROM:-0700
TZOFFSETTO:-0800
TZNAME:PST
DTSTART:20201101T090000
END:STANDARD
END:VTIMEZONE
BEGIN:VEVENT
DTSTART;TZID=America/Los_Angeles:20191012T090000
DTEND;TZID=America/Los_Angeles:20191012T133000
DTSTAMP:20260423T193051
CREATED:20190826T230252Z
LAST-MODIFIED:20190826T230350Z
UID:5396-1570870800-1570887000@www.myvalleyvillage.com
SUMMARY:Valley Disaster Preparedness Fair
DESCRIPTION:Free admission • Free family EP kits* • Free parking\nFree food* (all-beef hamburgers and veggieburgers)\nEverything is free at the Fair to encourage everyone to be disaster ready.\nYou will have more time to enjoy the Fair and your family will be eligible for a free\nFamily Emergency Preparedness (EP) Starter Kit. Only one registration per family is needed. \nRegister Now: https://valleydisasterfair.com/
URL:https://www.myvalleyvillage.com/event/valley-disaster-preparedness-fair-2/
LOCATION:Northridge Fashion Center\, 9400 Shirely Ave.\, Northridge
CATEGORIES:events
END:VEVENT
BEGIN:VEVENT
DTSTART;TZID=America/Los_Angeles:20180929T090000
DTEND;TZID=America/Los_Angeles:20180929T133000
DTSTAMP:20260423T193051
CREATED:20180731T005703Z
LAST-MODIFIED:20180731T005703Z
UID:4554-1538211600-1538227800@www.myvalleyvillage.com
SUMMARY:Valley Disaster Preparedness Fair
DESCRIPTION:
URL:https://www.myvalleyvillage.com/event/valley-disaster-preparedness-fair/
LOCATION:Northridge Fashion Center\, 9400 Shirely Ave.\, Northridge
CATEGORIES:events
END:VEVENT
END:VCALENDAR