BEGIN:VCALENDAR
VERSION:2.0
PRODID:-//Neighborhood Council Valley Village - ECPv6.15.20//NONSGML v1.0//EN
CALSCALE:GREGORIAN
METHOD:PUBLISH
X-WR-CALNAME:Neighborhood Council Valley Village
X-ORIGINAL-URL:https://www.myvalleyvillage.com
X-WR-CALDESC:Events for Neighborhood Council Valley Village
REFRESH-INTERVAL;VALUE=DURATION:PT1H
X-Robots-Tag:noindex
X-PUBLISHED-TTL:PT1H
BEGIN:VTIMEZONE
TZID:America/Los_Angeles
BEGIN:DAYLIGHT
TZOFFSETFROM:-0800
TZOFFSETTO:-0700
TZNAME:PDT
DTSTART:20160313T100000
END:DAYLIGHT
BEGIN:STANDARD
TZOFFSETFROM:-0700
TZOFFSETTO:-0800
TZNAME:PST
DTSTART:20161106T090000
END:STANDARD
BEGIN:DAYLIGHT
TZOFFSETFROM:-0800
TZOFFSETTO:-0700
TZNAME:PDT
DTSTART:20170312T100000
END:DAYLIGHT
BEGIN:STANDARD
TZOFFSETFROM:-0700
TZOFFSETTO:-0800
TZNAME:PST
DTSTART:20171105T090000
END:STANDARD
BEGIN:DAYLIGHT
TZOFFSETFROM:-0800
TZOFFSETTO:-0700
TZNAME:PDT
DTSTART:20180311T100000
END:DAYLIGHT
BEGIN:STANDARD
TZOFFSETFROM:-0700
TZOFFSETTO:-0800
TZNAME:PST
DTSTART:20181104T090000
END:STANDARD
BEGIN:DAYLIGHT
TZOFFSETFROM:-0800
TZOFFSETTO:-0700
TZNAME:PDT
DTSTART:20190310T100000
END:DAYLIGHT
BEGIN:STANDARD
TZOFFSETFROM:-0700
TZOFFSETTO:-0800
TZNAME:PST
DTSTART:20191103T090000
END:STANDARD
BEGIN:DAYLIGHT
TZOFFSETFROM:-0800
TZOFFSETTO:-0700
TZNAME:PDT
DTSTART:20200308T100000
END:DAYLIGHT
BEGIN:STANDARD
TZOFFSETFROM:-0700
TZOFFSETTO:-0800
TZNAME:PST
DTSTART:20201101T090000
END:STANDARD
END:VTIMEZONE
BEGIN:VEVENT
DTSTART;TZID=America/Los_Angeles:20190327T163000
DTEND;TZID=America/Los_Angeles:20190327T190000
DTSTAMP:20260424T003352
CREATED:20190312T193857Z
LAST-MODIFIED:20190312T193857Z
UID:5024-1553704200-1553713200@www.myvalleyvillage.com
SUMMARY:Metro Orange Line BRT Project Community Meeting
DESCRIPTION:Wednesday\, March 27\,\n4:30 pm to 7 pm\nNorth Hollywood Senior Center\n5301 Tujunga Ave.\nNorth Hollywood\, CA 91601 \nJoin Metro for an information sessions about the Orange Line BRT Improvements Project and speak directly with Metro staff about the project’s details. Metro staff will be sharing new information including updates on the pilot gate\, grade separations\, and traffic analysis.
URL:https://www.myvalleyvillage.com/event/metro-orange-line-brt-project-community-meeting/
LOCATION:North Hollywood Senior Citizen Center\, 5301 Tujunga Ave.\, North Hollywood\, 91601
CATEGORIES:events
GEO:34.1671344;-118.3790801
X-APPLE-STRUCTURED-LOCATION;VALUE=URI;X-ADDRESS=North Hollywood Senior Citizen Center 5301 Tujunga Ave. North Hollywood 91601;X-APPLE-RADIUS=500;X-TITLE=5301 Tujunga Ave.:geo:-118.3790801,34.1671344
END:VEVENT
BEGIN:VEVENT
DTSTART;TZID=America/Los_Angeles:20180625T180000
DTEND;TZID=America/Los_Angeles:20180625T200000
DTSTAMP:20260424T003352
CREATED:20180619T165604Z
LAST-MODIFIED:20180619T165604Z
UID:4429-1529949600-1529956800@www.myvalleyvillage.com
SUMMARY:Metro Orange Line Open House
DESCRIPTION:NORTH HOLLYWOOD – Metro is hosting a community meeting in Council District 2 to tell you about upcoming Orange Line operating speeds\, capacity and safety improvements. \nMonday\, June 25\nOpen House from 6 pm to 8 pm\nNorth Hollywood Recreation Center – Senior Building\n11430 Chandler Blvd.\nNorth Hollywood\, CA 91601 \nLast year\, the Metro board voted for a plan to improve the Orange Line\, the system’s most popular bus rapid transit line. The board approved recommendations to begin a formal environmental study of railroad-style crossing gates throughout the line and at grade separations along the 18-mile San Fernando Valley corridor. The project also recommends building a new one-mile long bridge between Sepulveda and Van Nuys boulevards. In total\, the project is slated to improve bus travel speeds and will help prepare the Orange Line for future conversion to light rail. \nAs of now\, Metro has completed a technical study that evaluated grade separations on major streets\, minor street closures\, better signal priority technology\, electronic bus connectivity and a four-quadrant gating system. Metro is also working with LADOT to implement a pilot installation of railroad gates at a non-public\, traffic signal-controlled intersection on the Orange Line. \nThe improvements were championed by Councilmember Krekorian and are part of the scope of Measure M projects slated for the San Fernando Valley. \nIf you can’t attend the meeting in person\, join via live webcast at tinyurl.com/metroorangeline. The live webcast presentation begins at 6:30 pm.
URL:https://www.myvalleyvillage.com/event/metro-orange-line-open-house/
LOCATION:North Hollywood Senior Citizen Center\, 5301 Tujunga Ave.\, North Hollywood\, 91601
CATEGORIES:events
GEO:34.1671344;-118.3790801
X-APPLE-STRUCTURED-LOCATION;VALUE=URI;X-ADDRESS=North Hollywood Senior Citizen Center 5301 Tujunga Ave. North Hollywood 91601;X-APPLE-RADIUS=500;X-TITLE=5301 Tujunga Ave.:geo:-118.3790801,34.1671344
END:VEVENT
BEGIN:VEVENT
DTSTART;TZID=America/Los_Angeles:20170508T183000
DTEND;TZID=America/Los_Angeles:20170508T203000
DTSTAMP:20260424T003352
CREATED:20170506T004554Z
LAST-MODIFIED:20170506T004554Z
UID:3599-1494268200-1494275400@www.myvalleyvillage.com
SUMMARY:Dog Park Community Meeting
DESCRIPTION:
URL:https://www.myvalleyvillage.com/event/dog-park-community-meeting/
LOCATION:North Hollywood Senior Citizen Center\, 5301 Tujunga Ave.\, North Hollywood\, 91601
CATEGORIES:events
GEO:34.1671344;-118.3790801
X-APPLE-STRUCTURED-LOCATION;VALUE=URI;X-ADDRESS=North Hollywood Senior Citizen Center 5301 Tujunga Ave. North Hollywood 91601;X-APPLE-RADIUS=500;X-TITLE=5301 Tujunga Ave.:geo:-118.3790801,34.1671344
END:VEVENT
END:VCALENDAR