BEGIN:VCALENDAR
VERSION:2.0
PRODID:-//Neighborhood Council Valley Village - ECPv6.15.20//NONSGML v1.0//EN
CALSCALE:GREGORIAN
METHOD:PUBLISH
X-ORIGINAL-URL:https://www.myvalleyvillage.com
X-WR-CALDESC:Events for Neighborhood Council Valley Village
REFRESH-INTERVAL;VALUE=DURATION:PT1H
X-Robots-Tag:noindex
X-PUBLISHED-TTL:PT1H
BEGIN:VTIMEZONE
TZID:America/Los_Angeles
BEGIN:DAYLIGHT
TZOFFSETFROM:-0800
TZOFFSETTO:-0700
TZNAME:PDT
DTSTART:20160313T100000
END:DAYLIGHT
BEGIN:STANDARD
TZOFFSETFROM:-0700
TZOFFSETTO:-0800
TZNAME:PST
DTSTART:20161106T090000
END:STANDARD
BEGIN:DAYLIGHT
TZOFFSETFROM:-0800
TZOFFSETTO:-0700
TZNAME:PDT
DTSTART:20170312T100000
END:DAYLIGHT
BEGIN:STANDARD
TZOFFSETFROM:-0700
TZOFFSETTO:-0800
TZNAME:PST
DTSTART:20171105T090000
END:STANDARD
BEGIN:DAYLIGHT
TZOFFSETFROM:-0800
TZOFFSETTO:-0700
TZNAME:PDT
DTSTART:20180311T100000
END:DAYLIGHT
BEGIN:STANDARD
TZOFFSETFROM:-0700
TZOFFSETTO:-0800
TZNAME:PST
DTSTART:20181104T090000
END:STANDARD
BEGIN:DAYLIGHT
TZOFFSETFROM:-0800
TZOFFSETTO:-0700
TZNAME:PDT
DTSTART:20190310T100000
END:DAYLIGHT
BEGIN:STANDARD
TZOFFSETFROM:-0700
TZOFFSETTO:-0800
TZNAME:PST
DTSTART:20191103T090000
END:STANDARD
END:VTIMEZONE
BEGIN:VEVENT
DTSTART;TZID=America/Los_Angeles:20180417T100000
DTEND;TZID=America/Los_Angeles:20180417T120000
DTSTAMP:20260423T173917
CREATED:20180314T232703Z
LAST-MODIFIED:20180314T232703Z
UID:4245-1523959200-1523966400@www.myvalleyvillage.com
SUMMARY:Older Adult Transportation Pop Up
DESCRIPTION:
URL:https://www.myvalleyvillage.com/event/older-adult-transportation-pop-up/
LOCATION:North Hollywood Recreation Center Auditorium\, 11430 Chandler Blvd\, North Hollywood\, 91601
CATEGORIES:events
GEO:34.1675946;-118.3799724
X-APPLE-STRUCTURED-LOCATION;VALUE=URI;X-ADDRESS=North Hollywood Recreation Center Auditorium 11430 Chandler Blvd North Hollywood 91601;X-APPLE-RADIUS=500;X-TITLE=11430 Chandler Blvd:geo:-118.3799724,34.1675946
END:VEVENT
BEGIN:VEVENT
DTSTART;TZID=America/Los_Angeles:20170325T140000
DTEND;TZID=America/Los_Angeles:20170325T160000
DTSTAMP:20260423T173917
CREATED:20170324T235918Z
LAST-MODIFIED:20170325T000004Z
UID:3501-1490450400-1490457600@www.myvalleyvillage.com
SUMMARY:Free Women’s Self-Defense Workshops
DESCRIPTION:From Assemblymember Adrin Nazarian: Please join me for a free women’s self-defense class to learn how to protect yourself and discuss legislative issues. We are hosting several fun classes in different locations all through March. \nNorth Hollywood Recreation Center\n11430 Chandler Blvd.\nNorth Hollywood \nRSVP Now
URL:https://www.myvalleyvillage.com/event/free-womens-self-defense-workshops/
LOCATION:North Hollywood Recreation Center Auditorium\, 11430 Chandler Blvd\, North Hollywood\, 91601
CATEGORIES:events
GEO:34.1675946;-118.3799724
X-APPLE-STRUCTURED-LOCATION;VALUE=URI;X-ADDRESS=North Hollywood Recreation Center Auditorium 11430 Chandler Blvd North Hollywood 91601;X-APPLE-RADIUS=500;X-TITLE=11430 Chandler Blvd:geo:-118.3799724,34.1675946
END:VEVENT
BEGIN:VEVENT
DTSTART;TZID=America/Los_Angeles:20170222T180000
DTEND;TZID=America/Los_Angeles:20170222T200000
DTSTAMP:20260423T173917
CREATED:20170218T005430Z
LAST-MODIFIED:20170218T005430Z
UID:3370-1487786400-1487793600@www.myvalleyvillage.com
SUMMARY:Great Streets Community Open House - Reimagine Lankershim
DESCRIPTION:Join Councilmember Krekorian and the Great Streets Initiative for a community open house to reimagine Lankershim Boulevard. In 2013\, Mayor Eric Garcetti and Councilmember Paul Krekorian designated Lankershim Boulevard as one of LA’s first 15 Great Streets. LA will be investing in improvements along the corridor to enhance economic vitality\, safety and quality of life for residents\, business owners and visitors. Share your input on how to create a better and safer street for the community.
URL:https://www.myvalleyvillage.com/event/great-streets-community-open-house-reimagine-lankershim/
LOCATION:North Hollywood Recreation Center Auditorium\, 11430 Chandler Blvd\, North Hollywood\, 91601
CATEGORIES:events
GEO:34.1675946;-118.3799724
X-APPLE-STRUCTURED-LOCATION;VALUE=URI;X-ADDRESS=North Hollywood Recreation Center Auditorium 11430 Chandler Blvd North Hollywood 91601;X-APPLE-RADIUS=500;X-TITLE=11430 Chandler Blvd:geo:-118.3799724,34.1675946
END:VEVENT
END:VCALENDAR