BEGIN:VCALENDAR
VERSION:2.0
PRODID:-//Neighborhood Council Valley Village - ECPv6.15.20//NONSGML v1.0//EN
CALSCALE:GREGORIAN
METHOD:PUBLISH
X-WR-CALNAME:Neighborhood Council Valley Village
X-ORIGINAL-URL:https://www.myvalleyvillage.com
X-WR-CALDESC:Events for Neighborhood Council Valley Village
REFRESH-INTERVAL;VALUE=DURATION:PT1H
X-Robots-Tag:noindex
X-PUBLISHED-TTL:PT1H
BEGIN:VTIMEZONE
TZID:America/Los_Angeles
BEGIN:DAYLIGHT
TZOFFSETFROM:-0800
TZOFFSETTO:-0700
TZNAME:PDT
DTSTART:20160313T100000
END:DAYLIGHT
BEGIN:STANDARD
TZOFFSETFROM:-0700
TZOFFSETTO:-0800
TZNAME:PST
DTSTART:20161106T090000
END:STANDARD
BEGIN:DAYLIGHT
TZOFFSETFROM:-0800
TZOFFSETTO:-0700
TZNAME:PDT
DTSTART:20170312T100000
END:DAYLIGHT
BEGIN:STANDARD
TZOFFSETFROM:-0700
TZOFFSETTO:-0800
TZNAME:PST
DTSTART:20171105T090000
END:STANDARD
BEGIN:DAYLIGHT
TZOFFSETFROM:-0800
TZOFFSETTO:-0700
TZNAME:PDT
DTSTART:20180311T100000
END:DAYLIGHT
BEGIN:STANDARD
TZOFFSETFROM:-0700
TZOFFSETTO:-0800
TZNAME:PST
DTSTART:20181104T090000
END:STANDARD
BEGIN:DAYLIGHT
TZOFFSETFROM:-0800
TZOFFSETTO:-0700
TZNAME:PDT
DTSTART:20190310T100000
END:DAYLIGHT
BEGIN:STANDARD
TZOFFSETFROM:-0700
TZOFFSETTO:-0800
TZNAME:PST
DTSTART:20191103T090000
END:STANDARD
BEGIN:DAYLIGHT
TZOFFSETFROM:-0800
TZOFFSETTO:-0700
TZNAME:PDT
DTSTART:20200308T100000
END:DAYLIGHT
BEGIN:STANDARD
TZOFFSETFROM:-0700
TZOFFSETTO:-0800
TZNAME:PST
DTSTART:20201101T090000
END:STANDARD
END:VTIMEZONE
BEGIN:VEVENT
DTSTART;TZID=America/Los_Angeles:20191022T183000
DTEND;TZID=America/Los_Angeles:20191022T203000
DTSTAMP:20260423T115506
CREATED:20191011T001856Z
LAST-MODIFIED:20191011T001856Z
UID:5474-1571769000-1571776200@www.myvalleyvillage.com
SUMMARY:North Hollywood High School Pre-Construction Community Meeting
DESCRIPTION:Project update: They are ready to begin construction and will present the latest developments on the plan for the school. \n\nOverview of Project Scope\nPlan for removal and replacement of trees impacted by construction\nConstruction schedule and phases\nEnsuring safety\n\n 
URL:https://www.myvalleyvillage.com/event/north-hollywood-high-school-pre-construction-community-meeting/
LOCATION:North Hollywood High School\, 5231 Colfax Avenue\, North Hollywood\, CA\, 91601
CATEGORIES:events
GEO:34.1665787;-118.3889878
X-APPLE-STRUCTURED-LOCATION;VALUE=URI;X-ADDRESS=North Hollywood High School 5231 Colfax Avenue North Hollywood CA 91601;X-APPLE-RADIUS=500;X-TITLE=5231 Colfax Avenue:geo:-118.3889878,34.1665787
END:VEVENT
BEGIN:VEVENT
DTSTART;TZID=America/Los_Angeles:20190905T180000
DTEND;TZID=America/Los_Angeles:20190905T200000
DTSTAMP:20260423T115506
CREATED:20190828T190608Z
LAST-MODIFIED:20190828T190608Z
UID:5400-1567706400-1567713600@www.myvalleyvillage.com
SUMMARY:North Hollywood High School Community Meeting
DESCRIPTION:We have for you an exciting update on the COMPREHENSIVE MODERNIZATION PROJECT at North Hollywood H.S. Over the past year\, our developers\, designers\, architects\, and construction engineers have been hard at work and will present the latest information at a Community Meeting. \n· Meet the team working this project\n· See the latest design for this extensive modernization\n· Learn about the construction phases of the project\n· Removal and replacement of trees and landscaping improvements\n· Get answers to your questions and comments\n· Be a part of shaping the future at North Hollywood HS!
URL:https://www.myvalleyvillage.com/event/north-hollywood-high-school-community-meeting-2/
LOCATION:North Hollywood High School\, 5231 Colfax Avenue\, North Hollywood\, CA\, 91601
CATEGORIES:events
GEO:34.1665787;-118.3889878
X-APPLE-STRUCTURED-LOCATION;VALUE=URI;X-ADDRESS=North Hollywood High School 5231 Colfax Avenue North Hollywood CA 91601;X-APPLE-RADIUS=500;X-TITLE=5231 Colfax Avenue:geo:-118.3889878,34.1665787
END:VEVENT
BEGIN:VEVENT
DTSTART;TZID=America/Los_Angeles:20180516T180000
DTEND;TZID=America/Los_Angeles:20180516T200000
DTSTAMP:20260423T115506
CREATED:20180511T031413Z
LAST-MODIFIED:20180511T031413Z
UID:4379-1526493600-1526500800@www.myvalleyvillage.com
SUMMARY:Community Meeting: North Hollywood HS Modernization Project
DESCRIPTION:
URL:https://www.myvalleyvillage.com/event/community-meeting-north-hollywood-hs-modernization-project/
LOCATION:North Hollywood High School\, 5231 Colfax Avenue\, North Hollywood\, CA\, 91601
CATEGORIES:events
GEO:34.1665787;-118.3889878
X-APPLE-STRUCTURED-LOCATION;VALUE=URI;X-ADDRESS=North Hollywood High School 5231 Colfax Avenue North Hollywood CA 91601;X-APPLE-RADIUS=500;X-TITLE=5231 Colfax Avenue:geo:-118.3889878,34.1665787
END:VEVENT
BEGIN:VEVENT
DTSTART;TZID=America/Los_Angeles:20171129T180000
DTEND;TZID=America/Los_Angeles:20171129T200000
DTSTAMP:20260423T115506
CREATED:20171127T220827Z
LAST-MODIFIED:20171127T220827Z
UID:4063-1511978400-1511985600@www.myvalleyvillage.com
SUMMARY:North Hollywood High School Community Meeting
DESCRIPTION:
URL:https://www.myvalleyvillage.com/event/north-hollywood-high-school-community-meeting/
LOCATION:North Hollywood High School\, 5231 Colfax Avenue\, North Hollywood\, CA\, 91601
CATEGORIES:events
GEO:34.1665787;-118.3889878
X-APPLE-STRUCTURED-LOCATION;VALUE=URI;X-ADDRESS=North Hollywood High School 5231 Colfax Avenue North Hollywood CA 91601;X-APPLE-RADIUS=500;X-TITLE=5231 Colfax Avenue:geo:-118.3889878,34.1665787
END:VEVENT
BEGIN:VEVENT
DTSTART;TZID=America/Los_Angeles:20170518T180000
DTEND;TZID=America/Los_Angeles:20170518T200000
DTSTAMP:20260423T115506
CREATED:20170513T154417Z
LAST-MODIFIED:20170513T154417Z
UID:3647-1495130400-1495137600@www.myvalleyvillage.com
SUMMARY:Community Meeting on North Hollywood High Modernization
DESCRIPTION:North Hollywood High has proposed changes to their campus that will modernize the highly acclaimed school. Preliminary meetings are happening now and the public is encouraged to attend. The next meeting is May 18\, at 6:00 pm in the school auditorium. \nPlease join us at a COMMUNITY MEETING to review PRELIMINARY DESIGN CONCEPTS for this great COMPREHENSIVE MODERNIZATION project! \nFlyer
URL:https://www.myvalleyvillage.com/event/community-meeting-on-north-hollywood-high-modernization/
LOCATION:North Hollywood High School\, 5231 Colfax Avenue\, North Hollywood\, CA\, 91601
CATEGORIES:events
GEO:34.1665787;-118.3889878
X-APPLE-STRUCTURED-LOCATION;VALUE=URI;X-ADDRESS=North Hollywood High School 5231 Colfax Avenue North Hollywood CA 91601;X-APPLE-RADIUS=500;X-TITLE=5231 Colfax Avenue:geo:-118.3889878,34.1665787
END:VEVENT
END:VCALENDAR