BEGIN:VCALENDAR
VERSION:2.0
PRODID:-//Neighborhood Council Valley Village - ECPv6.15.20//NONSGML v1.0//EN
CALSCALE:GREGORIAN
METHOD:PUBLISH
X-WR-CALNAME:Neighborhood Council Valley Village
X-ORIGINAL-URL:https://www.myvalleyvillage.com
X-WR-CALDESC:Events for Neighborhood Council Valley Village
REFRESH-INTERVAL;VALUE=DURATION:PT1H
X-Robots-Tag:noindex
X-PUBLISHED-TTL:PT1H
BEGIN:VTIMEZONE
TZID:America/Los_Angeles
BEGIN:DAYLIGHT
TZOFFSETFROM:-0800
TZOFFSETTO:-0700
TZNAME:PDT
DTSTART:20160313T100000
END:DAYLIGHT
BEGIN:STANDARD
TZOFFSETFROM:-0700
TZOFFSETTO:-0800
TZNAME:PST
DTSTART:20161106T090000
END:STANDARD
BEGIN:DAYLIGHT
TZOFFSETFROM:-0800
TZOFFSETTO:-0700
TZNAME:PDT
DTSTART:20170312T100000
END:DAYLIGHT
BEGIN:STANDARD
TZOFFSETFROM:-0700
TZOFFSETTO:-0800
TZNAME:PST
DTSTART:20171105T090000
END:STANDARD
BEGIN:DAYLIGHT
TZOFFSETFROM:-0800
TZOFFSETTO:-0700
TZNAME:PDT
DTSTART:20180311T100000
END:DAYLIGHT
BEGIN:STANDARD
TZOFFSETFROM:-0700
TZOFFSETTO:-0800
TZNAME:PST
DTSTART:20181104T090000
END:STANDARD
BEGIN:DAYLIGHT
TZOFFSETFROM:-0800
TZOFFSETTO:-0700
TZNAME:PDT
DTSTART:20190310T100000
END:DAYLIGHT
BEGIN:STANDARD
TZOFFSETFROM:-0700
TZOFFSETTO:-0800
TZNAME:PST
DTSTART:20191103T090000
END:STANDARD
BEGIN:DAYLIGHT
TZOFFSETFROM:-0800
TZOFFSETTO:-0700
TZNAME:PDT
DTSTART:20200308T100000
END:DAYLIGHT
BEGIN:STANDARD
TZOFFSETFROM:-0700
TZOFFSETTO:-0800
TZNAME:PST
DTSTART:20201101T090000
END:STANDARD
BEGIN:DAYLIGHT
TZOFFSETFROM:-0800
TZOFFSETTO:-0700
TZNAME:PDT
DTSTART:20210314T100000
END:DAYLIGHT
BEGIN:STANDARD
TZOFFSETFROM:-0700
TZOFFSETTO:-0800
TZNAME:PST
DTSTART:20211107T090000
END:STANDARD
END:VTIMEZONE
BEGIN:VEVENT
DTSTART;TZID=America/Los_Angeles:20200307T100000
DTEND;TZID=America/Los_Angeles:20200307T140000
DTSTAMP:20260423T210323
CREATED:20200304T004147Z
LAST-MODIFIED:20200304T004147Z
UID:5809-1583575200-1583589600@www.myvalleyvillage.com
SUMMARY:Free Income Tax Preparation
DESCRIPTION:Free income tax preparation and filing by CSUN through the IRS Volunteer Income Tax Assistance program. \nAppointments are recommended\, but not required. Walk-ins are welcome on a first come\, first served basis. \nTax forms we prepare are Form 1040 (U.S. Individual Income Tax Return) and CA Form 540 (California Resident Income). These services are available to people with household annual income of $56\,000 or less. Both spouses must be present for joint returns.\n\n\n\nWhat to bring on the day of your visit:\n\nA valid CA Driver’s License\, ID\, or Passport\nSocial Security Numbers or ITINs for the Taxpayer\, spouse and dependents\nBirth Dates for the Taxpayer\, spouse\, and dependents (month\, date\, and year)\nTax Documents (Forms W-2\, W-2G\, 1099-R\, 1099-INT\, 1099-DIV\, 1099-MISC\, and all other tax documents)\nBlank “voided” check for direct deposit of refund\n\nIf this applies to you\, also bring:\n\nAll Forms 1095\, Health Form Statements\nCalifornia Renters’ Credit – Landlord’s name\, address\, and phone number\nDay Care Providers Information\, including total amount paid for day care per child\, day care provider’s name\, address\, phone number\, and tax ID number\nTotal Education Expenses (books\, laptops\, etc.)\n\nFor further information\, please visit http://vita.csun.edu
URL:https://www.myvalleyvillage.com/event/free-income-tax-preparation/2020-03-07/
LOCATION:North Hollywood Amelia Earhart Regional Library\, 5211 Tujunga Ave\, North Hollywood\, 91601
CATEGORIES:events
GEO:34.1655706;-118.3794632
X-APPLE-STRUCTURED-LOCATION;VALUE=URI;X-ADDRESS=North Hollywood Amelia Earhart Regional Library 5211 Tujunga Ave North Hollywood 91601;X-APPLE-RADIUS=500;X-TITLE=5211 Tujunga Ave:geo:-118.3794632,34.1655706
END:VEVENT
BEGIN:VEVENT
DTSTART;TZID=America/Los_Angeles:20200130T170000
DTEND;TZID=America/Los_Angeles:20200130T193000
DTSTAMP:20260423T210323
CREATED:20191119T231450Z
LAST-MODIFIED:20191119T231450Z
UID:5603-1580403600-1580412600@www.myvalleyvillage.com
SUMMARY:Orange Line Transit Neighborhood Plans Community Meetings
DESCRIPTION:January 22\, 5 pm to 8 pm\nMarvin Braude San Fernando Valley Constituent Service Center\n6262 Van Nuys Blvd. Room 1B\nVan Nuys\, 91401 \nJanuary 30\, 5 pm to 7:30 pm\nNorth Hollywood Regional Library\n5211 Tujunga Ave.\nNorth Hollywood\, 91601 \nLos Angeles City Planning invites you to attend a Community Open House to learn about recent progress amd the latest zoning proposals\, as well as give feedback on this important plan\, for the Orange Line station areas in Van Nuys and North Hollywood. For more information\, contact Jordan Fraade at (818) 374-9902 or email jordan.fraade@lacity.org.
URL:https://www.myvalleyvillage.com/event/orange-line-transit-neighborhood-plans-community-meetings-2/
LOCATION:North Hollywood Amelia Earhart Regional Library\, 5211 Tujunga Ave\, North Hollywood\, 91601
CATEGORIES:events
GEO:34.1655706;-118.3794632
X-APPLE-STRUCTURED-LOCATION;VALUE=URI;X-ADDRESS=North Hollywood Amelia Earhart Regional Library 5211 Tujunga Ave North Hollywood 91601;X-APPLE-RADIUS=500;X-TITLE=5211 Tujunga Ave:geo:-118.3794632,34.1655706
END:VEVENT
BEGIN:VEVENT
DTSTART;TZID=America/Los_Angeles:20191109T140000
DTEND;TZID=America/Los_Angeles:20191109T153000
DTSTAMP:20260423T210323
CREATED:20191031T011101Z
LAST-MODIFIED:20191031T011101Z
UID:5506-1573308000-1573313400@www.myvalleyvillage.com
SUMMARY:The Hand Behind the Word
DESCRIPTION:Join graphologist Lena Rivkin for an interactive workshop on what your handwriting says about you! Using examples drawn from famous authors\, artists\, public figures and willing audience members we will explore the mysterious and sound connection between how we write and who we are.
URL:https://www.myvalleyvillage.com/event/the-hand-behind-the-word/
LOCATION:North Hollywood Amelia Earhart Regional Library\, 5211 Tujunga Ave\, North Hollywood\, 91601
CATEGORIES:events
GEO:34.1655706;-118.3794632
X-APPLE-STRUCTURED-LOCATION;VALUE=URI;X-ADDRESS=North Hollywood Amelia Earhart Regional Library 5211 Tujunga Ave North Hollywood 91601;X-APPLE-RADIUS=500;X-TITLE=5211 Tujunga Ave:geo:-118.3794632,34.1655706
END:VEVENT
BEGIN:VEVENT
DTSTART;TZID=America/Los_Angeles:20190627T143000
DTEND;TZID=America/Los_Angeles:20190627T200000
DTSTAMP:20260423T210323
CREATED:20190606T005355Z
LAST-MODIFIED:20190606T005355Z
UID:5220-1561645800-1561665600@www.myvalleyvillage.com
SUMMARY:National Archives
DESCRIPTION:The National Archives and Records Administration is the nation’s record keeper with over 40 facilities nationwide\, including field archives\, Federal Records Centers\, and Presidential Libraries\, among others. Established by Congress in 1934\, its mission is providing public access to holdings dating from 1775 to the present. The National Archives at Riverside holds permanent records created for historic or legal reasons by Federal agencies and courts in Arizona\, California\, and Nevada\, covering the aerospace industry\, genealogy\, Hollywood\, military history and service records\, and other topics created by the Immigration and Naturalization Service\, Bureau of Indian Affairs\, Bureau of Land Management\, NASA\, and U.S. District Courts. These include the Chinese Exclusion Acts\, Japanese Internment\, Enemy Aliens\, Native American history\, criminal and civil court records\, and land issues. \nTHURSDAY\, JUNE 27\, 2019 \n2:30 – 4:30 PM — Presentation tailored to writers\, scholars\, students and educators\n6:00 – 8:00 PM — General interest session for anyone 14 years of age and older \nAdmission Free • Space is Limited • Register at Eventbrite.com \nhttps://www.eventbrite.com/e/the-national-archives-unlocking-americas-records-tickets-61009029650
URL:https://www.myvalleyvillage.com/event/national-archives/
LOCATION:North Hollywood Amelia Earhart Regional Library\, 5211 Tujunga Ave\, North Hollywood\, 91601
CATEGORIES:events
GEO:34.1655706;-118.3794632
X-APPLE-STRUCTURED-LOCATION;VALUE=URI;X-ADDRESS=North Hollywood Amelia Earhart Regional Library 5211 Tujunga Ave North Hollywood 91601;X-APPLE-RADIUS=500;X-TITLE=5211 Tujunga Ave:geo:-118.3794632,34.1655706
END:VEVENT
BEGIN:VEVENT
DTSTART;TZID=America/Los_Angeles:20181021T140000
DTEND;TZID=America/Los_Angeles:20181021T160000
DTSTAMP:20260423T210323
CREATED:20181013T001055Z
LAST-MODIFIED:20181013T001055Z
UID:4744-1540130400-1540137600@www.myvalleyvillage.com
SUMMARY:Discussion: Immigrant Rights\, Human Rights Close to Home
DESCRIPTION:
URL:https://www.myvalleyvillage.com/event/discussion-immigrant-rights-human-rights-close-to-home/
LOCATION:North Hollywood Amelia Earhart Regional Library\, 5211 Tujunga Ave\, North Hollywood\, 91601
CATEGORIES:events
GEO:34.1655706;-118.3794632
X-APPLE-STRUCTURED-LOCATION;VALUE=URI;X-ADDRESS=North Hollywood Amelia Earhart Regional Library 5211 Tujunga Ave North Hollywood 91601;X-APPLE-RADIUS=500;X-TITLE=5211 Tujunga Ave:geo:-118.3794632,34.1655706
END:VEVENT
BEGIN:VEVENT
DTSTART;TZID=America/Los_Angeles:20181015T173000
DTEND;TZID=America/Los_Angeles:20181015T193000
DTSTAMP:20260423T210323
CREATED:20181003T234826Z
LAST-MODIFIED:20181003T235602Z
UID:4683-1539624600-1539631800@www.myvalleyvillage.com
SUMMARY:Community Plan Open House
DESCRIPTION:
URL:https://www.myvalleyvillage.com/event/community-plan-open-house/
LOCATION:North Hollywood Amelia Earhart Regional Library\, 5211 Tujunga Ave\, North Hollywood\, 91601
CATEGORIES:events
GEO:34.1655706;-118.3794632
X-APPLE-STRUCTURED-LOCATION;VALUE=URI;X-ADDRESS=North Hollywood Amelia Earhart Regional Library 5211 Tujunga Ave North Hollywood 91601;X-APPLE-RADIUS=500;X-TITLE=5211 Tujunga Ave:geo:-118.3794632,34.1655706
END:VEVENT
BEGIN:VEVENT
DTSTART;TZID=America/Los_Angeles:20180822T100000
DTEND;TZID=America/Los_Angeles:20180822T130000
DTSTAMP:20260423T210323
CREATED:20180816T233356Z
LAST-MODIFIED:20180816T233356Z
UID:4566-1534932000-1534942800@www.myvalleyvillage.com
SUMMARY:Healthy Choices
DESCRIPTION:Wednesday\, August 22\, 10 am – 1 pm and\nWednesday\, September 26\, 10 am – 1pm\nNorth Hollywood Regional Branch\n5211 Tujunga Avenue\nNorth Hollywood\, CA 91601 \nThe Los Angeles Public Library is hosting the Healthy Choices program at library branches throughout the city of Los Angeles to help people find out if they qualify for CalFresh and/or Medi-Cal benefits. LA County Department of Public Social Services staff will be available onsite to accept and process CalFresh and/or Medi-Cal applications.
URL:https://www.myvalleyvillage.com/event/healthy-choices/2018-08-22/
LOCATION:North Hollywood Amelia Earhart Regional Library\, 5211 Tujunga Ave\, North Hollywood\, 91601
CATEGORIES:events
GEO:34.1655706;-118.3794632
X-APPLE-STRUCTURED-LOCATION;VALUE=URI;X-ADDRESS=North Hollywood Amelia Earhart Regional Library 5211 Tujunga Ave North Hollywood 91601;X-APPLE-RADIUS=500;X-TITLE=5211 Tujunga Ave:geo:-118.3794632,34.1655706
END:VEVENT
BEGIN:VEVENT
DTSTART;TZID=America/Los_Angeles:20180416T150000
DTEND;TZID=America/Los_Angeles:20180416T190000
DTSTAMP:20260423T210323
CREATED:20180315T000102Z
LAST-MODIFIED:20180315T000102Z
UID:4256-1523890800-1523905200@www.myvalleyvillage.com
SUMMARY:LA Plays
DESCRIPTION:
URL:https://www.myvalleyvillage.com/event/la-plays/
LOCATION:North Hollywood Amelia Earhart Regional Library\, 5211 Tujunga Ave\, North Hollywood\, 91601
CATEGORIES:events
GEO:34.1655706;-118.3794632
X-APPLE-STRUCTURED-LOCATION;VALUE=URI;X-ADDRESS=North Hollywood Amelia Earhart Regional Library 5211 Tujunga Ave North Hollywood 91601;X-APPLE-RADIUS=500;X-TITLE=5211 Tujunga Ave:geo:-118.3794632,34.1655706
END:VEVENT
BEGIN:VEVENT
DTSTART;TZID=America/Los_Angeles:20180127T100000
DTEND;TZID=America/Los_Angeles:20180127T140000
DTSTAMP:20260423T210323
CREATED:20180126T194044Z
LAST-MODIFIED:20180126T194044Z
UID:4164-1517047200-1517061600@www.myvalleyvillage.com
SUMMARY:Free Income Tax Preparation and Filing
DESCRIPTION:Saturday\, January 27\, 2018\nSaturday\, February 03\, 2018\nSaturday\, February 10\, 2018\nSaturday\, February 17\, 2018\nSaturday\, February 24\, 2018\nSaturday\, March 03\, 2018\nSaturday\, March 10\, 2018\nSaturday\, March 17\, 2018\nSaturday\, March 24\, 2018\nSaturday\, March 31\, 2018\nSaturday\, April 07\, 2018\nSaturday\, April 14\, 2018\nTime:\n10:00am to 2:00pm\nLocation:\nNorth Hollywood Amelia Earhart Regional Library\nAudience:\nAdults\, Seniors\nCategory:\nTaxes\nRSVP:\nClick here to make an appointment. \nDescription:\nFree income tax preparation and filing by CSUN through the the IRS Volunteer Income Tax Assistance program. \nAppointments are recommended\, but not required. Walk-ins are welcome on a first come\, first served basis. \nTax forms we prepare are Form 1040 (U.S. Individual Income Tax Return) and CA Form 540 (California Resident Income). These services are available to people with household annual income of $54\,000 or less. Both spouses must be present for joint returns. \nWhat to bring on the day of your visit:\nA valid CA Driver’s License\, ID\, or Passport\nSocial Security Numbers or ITINs for the Taxpayer\, spouse and dependents\nBirth Dates for the Taxpayer\, spouse\, and dependents (month\, date\, and year)\nTax Documents (Forms W-2\, W-2G\, 1099-R\, 1099-INT\, 1099-DIV\, 1099-MISC\, and all other tax documents)\nBlank “voided” check for direct deposit of refund\nIf this applies to you\, also bring:\nAll Forms 1095\, Health Form Statements\nCalifornia Renters’ Credit – Landlord’s name\, address\, and phone number\nDay Care Providers Information\, including total amount paid for day care per child\, day care provider’s name\, address\, phone number\, and tax ID number\nTotal Education Expenses (books\, laptops\, etc.)
URL:https://www.myvalleyvillage.com/event/free-income-tax-preparation-and-filing/2018-01-27/
LOCATION:North Hollywood Amelia Earhart Regional Library\, 5211 Tujunga Ave\, North Hollywood\, 91601
CATEGORIES:events
GEO:34.1655706;-118.3794632
X-APPLE-STRUCTURED-LOCATION;VALUE=URI;X-ADDRESS=North Hollywood Amelia Earhart Regional Library 5211 Tujunga Ave North Hollywood 91601;X-APPLE-RADIUS=500;X-TITLE=5211 Tujunga Ave:geo:-118.3794632,34.1655706
END:VEVENT
BEGIN:VEVENT
DTSTART;TZID=America/Los_Angeles:20170626T140000
DTEND;TZID=America/Los_Angeles:20170626T150000
DTSTAMP:20260423T210323
CREATED:20170614T212921Z
LAST-MODIFIED:20170614T212921Z
UID:3748-1498485600-1498489200@www.myvalleyvillage.com
SUMMARY:LACMA Art Class at the Library: Vision and Transcendence\, Mask Making
DESCRIPTION:June 26\, 2 pm – 3 pm\nNorth Hollywood Regional Library\n5211 Tujunga Ave.\nNorth Hollywood\, CA 91601 \nJoin the Los Angeles County Museum of Art for free art workshops for adults at the North Hollywood Library. The exhibition “The Inner Eye: Vision and Transcendence in African Arts” looks at various examples of African masks and how they possess different characteristics and functions. The class will look at the eyes and gazes in masks and consider their function. Participants will make their own mask with air-dry clay and will add features\, patterns and textures to enhance the mask’s character and identity.
URL:https://www.myvalleyvillage.com/event/lacma-art-class-at-the-library-vision-and-transcendence-mask-making/
LOCATION:North Hollywood Amelia Earhart Regional Library\, 5211 Tujunga Ave\, North Hollywood\, 91601
CATEGORIES:events
GEO:34.1655706;-118.3794632
X-APPLE-STRUCTURED-LOCATION;VALUE=URI;X-ADDRESS=North Hollywood Amelia Earhart Regional Library 5211 Tujunga Ave North Hollywood 91601;X-APPLE-RADIUS=500;X-TITLE=5211 Tujunga Ave:geo:-118.3794632,34.1655706
END:VEVENT
BEGIN:VEVENT
DTSTART;TZID=America/Los_Angeles:20170617T100000
DTEND;TZID=America/Los_Angeles:20170617T120000
DTSTAMP:20260423T210323
CREATED:20170614T212630Z
LAST-MODIFIED:20170614T212630Z
UID:3742-1497693600-1497700800@www.myvalleyvillage.com
SUMMARY:Big Read: Words on Tour
DESCRIPTION:The Museum of the San Fernando Valley is hosting a unique poetry walking tour and workshop through the heart of the North Hollywood Arts District. Join the tour as local poets perform original pieces at historic locations including St. Paul’s First Lutheran School\, Los Angeles Fire Dept. Station 60\, and the Lankershim Train Depot and others\, guided by PE and in collaboration with the LA Poet Society. The event is free and fun for the whole family. For more information\, visit www.eventbrite.com/e/words-on-tour-in-noho-workshop-walking-tour-tickets-34924311556.
URL:https://www.myvalleyvillage.com/event/big-read-words-on-tour/
LOCATION:North Hollywood Amelia Earhart Regional Library\, 5211 Tujunga Ave\, North Hollywood\, 91601
CATEGORIES:events
GEO:34.1655706;-118.3794632
X-APPLE-STRUCTURED-LOCATION;VALUE=URI;X-ADDRESS=North Hollywood Amelia Earhart Regional Library 5211 Tujunga Ave North Hollywood 91601;X-APPLE-RADIUS=500;X-TITLE=5211 Tujunga Ave:geo:-118.3794632,34.1655706
END:VEVENT
BEGIN:VEVENT
DTSTART;TZID=America/Los_Angeles:20170319T140000
DTEND;TZID=America/Los_Angeles:20170319T160000
DTSTAMP:20260423T210323
CREATED:20170307T223653Z
LAST-MODIFIED:20170307T223653Z
UID:3454-1489932000-1489939200@www.myvalleyvillage.com
SUMMARY:LAPL Women's Heritage Month Film Screening
DESCRIPTION:Sunday\, March 19\, 2 pm\nNorth Hollywood Amelia Earhart Regional Library\n5211 Tujunga Avenue \nThe North Hollywood Amelia Earhart Regional Library and the American Association of University Women\, San Fernando Valley Branch\, invite you to a film screening to celebrate Women’s History Month. Learn about the contributions of Inez Milholland to gender equality\, social justice and free speech. Documentary filmmaker Martha Wheelock will join the event to introduce “Forward into Light\,” the recently released documentary about the life of Inez Milholland.
URL:https://www.myvalleyvillage.com/event/lapl-womens-heritage-month-film-screening/
LOCATION:North Hollywood Amelia Earhart Regional Library\, 5211 Tujunga Ave\, North Hollywood\, 91601
CATEGORIES:events
GEO:34.1655706;-118.3794632
X-APPLE-STRUCTURED-LOCATION;VALUE=URI;X-ADDRESS=North Hollywood Amelia Earhart Regional Library 5211 Tujunga Ave North Hollywood 91601;X-APPLE-RADIUS=500;X-TITLE=5211 Tujunga Ave:geo:-118.3794632,34.1655706
END:VEVENT
END:VCALENDAR