BEGIN:VCALENDAR
VERSION:2.0
PRODID:-//Neighborhood Council Valley Village - ECPv6.15.20//NONSGML v1.0//EN
CALSCALE:GREGORIAN
METHOD:PUBLISH
X-ORIGINAL-URL:https://www.myvalleyvillage.com
X-WR-CALDESC:Events for Neighborhood Council Valley Village
REFRESH-INTERVAL;VALUE=DURATION:PT1H
X-Robots-Tag:noindex
X-PUBLISHED-TTL:PT1H
BEGIN:VTIMEZONE
TZID:America/Los_Angeles
BEGIN:DAYLIGHT
TZOFFSETFROM:-0800
TZOFFSETTO:-0700
TZNAME:PDT
DTSTART:20160313T100000
END:DAYLIGHT
BEGIN:STANDARD
TZOFFSETFROM:-0700
TZOFFSETTO:-0800
TZNAME:PST
DTSTART:20161106T090000
END:STANDARD
BEGIN:DAYLIGHT
TZOFFSETFROM:-0800
TZOFFSETTO:-0700
TZNAME:PDT
DTSTART:20170312T100000
END:DAYLIGHT
BEGIN:STANDARD
TZOFFSETFROM:-0700
TZOFFSETTO:-0800
TZNAME:PST
DTSTART:20171105T090000
END:STANDARD
BEGIN:DAYLIGHT
TZOFFSETFROM:-0800
TZOFFSETTO:-0700
TZNAME:PDT
DTSTART:20180311T100000
END:DAYLIGHT
BEGIN:STANDARD
TZOFFSETFROM:-0700
TZOFFSETTO:-0800
TZNAME:PST
DTSTART:20181104T090000
END:STANDARD
END:VTIMEZONE
BEGIN:VEVENT
DTSTART;TZID=America/Los_Angeles:20170805T180000
DTEND;TZID=America/Los_Angeles:20170805T210000
DTSTAMP:20260423T210314
CREATED:20170803T213004Z
LAST-MODIFIED:20170803T213004Z
UID:3857-1501956000-1501966800@www.myvalleyvillage.com
SUMMARY:LACMA Summer Nights at NoHo Plaza
DESCRIPTION:Saturdays\, August 5\, 12\, 19\, 26 | 6–9 pm \nDuring the month of August\, the Los Angeles County Museum of Art (LACMA) will be in the NoHo Arts District on Saturday nights from 6–9 pm! Stop by NoHo Plaza for art projects connected with LACMA’s collection and exhibitions and enjoy a live DJ set. \nNorth Hollywood | NoHo Plaza (People St.)\nFree\, no reservations required\nNote: This program takes place off-site at NoHo Plaza (People St.) between 5223–5225 Lankershim Blvd.\, North Hollywood\, CA 91601 from 6–9 pm.
URL:https://www.myvalleyvillage.com/event/lacma-summer-nights-at-noho-plaza/2017-08-05/
LOCATION:NoHo Plaza\, 5223 Lankershim Blvd.\, North Hollywood
CATEGORIES:events
GEO:34.1656249;-118.3750601
X-APPLE-STRUCTURED-LOCATION;VALUE=URI;X-ADDRESS=NoHo Plaza 5223 Lankershim Blvd. North Hollywood;X-APPLE-RADIUS=500;X-TITLE=5223 Lankershim Blvd.:geo:-118.3750601,34.1656249
END:VEVENT
BEGIN:VEVENT
DTSTART;TZID=America/Los_Angeles:20170629T193000
DTEND;TZID=America/Los_Angeles:20170629T210000
DTSTAMP:20260423T210314
CREATED:20170628T223733Z
LAST-MODIFIED:20170628T223733Z
UID:3768-1498764600-1498770000@www.myvalleyvillage.com
SUMMARY:Experience NoHo Plaza
DESCRIPTION:
URL:https://www.myvalleyvillage.com/event/experience-noho-plaza/2017-06-29/
LOCATION:NoHo Plaza\, 5223 Lankershim Blvd.\, North Hollywood
CATEGORIES:events
GEO:34.1656249;-118.3750601
X-APPLE-STRUCTURED-LOCATION;VALUE=URI;X-ADDRESS=NoHo Plaza 5223 Lankershim Blvd. North Hollywood;X-APPLE-RADIUS=500;X-TITLE=5223 Lankershim Blvd.:geo:-118.3750601,34.1656249
END:VEVENT
END:VCALENDAR