BEGIN:VCALENDAR
VERSION:2.0
PRODID:-//Neighborhood Council Valley Village - ECPv6.15.20//NONSGML v1.0//EN
CALSCALE:GREGORIAN
METHOD:PUBLISH
X-ORIGINAL-URL:https://www.myvalleyvillage.com
X-WR-CALDESC:Events for Neighborhood Council Valley Village
REFRESH-INTERVAL;VALUE=DURATION:PT1H
X-Robots-Tag:noindex
X-PUBLISHED-TTL:PT1H
BEGIN:VTIMEZONE
TZID:America/Los_Angeles
BEGIN:DAYLIGHT
TZOFFSETFROM:-0800
TZOFFSETTO:-0700
TZNAME:PDT
DTSTART:20170312T100000
END:DAYLIGHT
BEGIN:STANDARD
TZOFFSETFROM:-0700
TZOFFSETTO:-0800
TZNAME:PST
DTSTART:20171105T090000
END:STANDARD
BEGIN:DAYLIGHT
TZOFFSETFROM:-0800
TZOFFSETTO:-0700
TZNAME:PDT
DTSTART:20180311T100000
END:DAYLIGHT
BEGIN:STANDARD
TZOFFSETFROM:-0700
TZOFFSETTO:-0800
TZNAME:PST
DTSTART:20181104T090000
END:STANDARD
BEGIN:DAYLIGHT
TZOFFSETFROM:-0800
TZOFFSETTO:-0700
TZNAME:PDT
DTSTART:20190310T100000
END:DAYLIGHT
BEGIN:STANDARD
TZOFFSETFROM:-0700
TZOFFSETTO:-0800
TZNAME:PST
DTSTART:20191103T090000
END:STANDARD
END:VTIMEZONE
BEGIN:VEVENT
DTSTART;TZID=America/Los_Angeles:20180512T160000
DTEND;TZID=America/Los_Angeles:20180512T200000
DTSTAMP:20260423T160410
CREATED:20180511T215820Z
LAST-MODIFIED:20180511T215820Z
UID:4385-1526140800-1526155200@www.myvalleyvillage.com
SUMMARY:NoHo Artwalk
DESCRIPTION:EMX presents the two-year anniversary and expansion of the NoHo ArtWalk stretching from the NoHo Pedestrian Plaza\, along the sidewalks of Lankershim Blvd. to the Art Institute of CA. Collaborators on the event will be EMX\, Noise Revolt\, Space Brains and ActivateLA. There will be 60 visual artists\, two stages\, eight DJs\, a dance battle and live painters. For more information\, visit: https://www.facebook.com/nohoartwalk.
URL:https://www.myvalleyvillage.com/event/noho-artwalk/
LOCATION:NoHo Plaza\, Lankershim and Weddington
CATEGORIES:events
END:VEVENT
END:VCALENDAR