BEGIN:VCALENDAR
VERSION:2.0
PRODID:-//Neighborhood Council Valley Village - ECPv6.15.20//NONSGML v1.0//EN
CALSCALE:GREGORIAN
METHOD:PUBLISH
X-ORIGINAL-URL:https://www.myvalleyvillage.com
X-WR-CALDESC:Events for Neighborhood Council Valley Village
REFRESH-INTERVAL;VALUE=DURATION:PT1H
X-Robots-Tag:noindex
X-PUBLISHED-TTL:PT1H
BEGIN:VTIMEZONE
TZID:America/Los_Angeles
BEGIN:DAYLIGHT
TZOFFSETFROM:-0800
TZOFFSETTO:-0700
TZNAME:PDT
DTSTART:20170312T100000
END:DAYLIGHT
BEGIN:STANDARD
TZOFFSETFROM:-0700
TZOFFSETTO:-0800
TZNAME:PST
DTSTART:20171105T090000
END:STANDARD
BEGIN:DAYLIGHT
TZOFFSETFROM:-0800
TZOFFSETTO:-0700
TZNAME:PDT
DTSTART:20180311T100000
END:DAYLIGHT
BEGIN:STANDARD
TZOFFSETFROM:-0700
TZOFFSETTO:-0800
TZNAME:PST
DTSTART:20181104T090000
END:STANDARD
BEGIN:DAYLIGHT
TZOFFSETFROM:-0800
TZOFFSETTO:-0700
TZNAME:PDT
DTSTART:20190310T100000
END:DAYLIGHT
BEGIN:STANDARD
TZOFFSETFROM:-0700
TZOFFSETTO:-0800
TZNAME:PST
DTSTART:20191103T090000
END:STANDARD
BEGIN:DAYLIGHT
TZOFFSETFROM:-0800
TZOFFSETTO:-0700
TZNAME:PDT
DTSTART:20200308T100000
END:DAYLIGHT
BEGIN:STANDARD
TZOFFSETFROM:-0700
TZOFFSETTO:-0800
TZNAME:PST
DTSTART:20201101T090000
END:STANDARD
END:VTIMEZONE
BEGIN:VEVENT
DTSTART;TZID=America/Los_Angeles:20190119T100000
DTEND;TZID=America/Los_Angeles:20190119T120000
DTSTAMP:20260423T225424
CREATED:20190107T231341Z
LAST-MODIFIED:20190114T191610Z
UID:4864-1547892000-1547899200@www.myvalleyvillage.com
SUMMARY:Candidate Workshop
DESCRIPTION:  \nHave questions about the upcoming NCVV elections and want to talk to a real person? Come to this Candidate Filing Forum! \nSaturday\, January 19\, 2019\, 10:00 a.m. – 12:00 p.m\nMarvin Braude Center\n6262 Van Nuys Blvd\nVan Nuys\, CA 91401\n(first floor\, corner of Van Nuys & Sylvan) \nBe the change in your community – run for a seat on your Neighborhood Council! RSVP required – see a list of upcoming workshops and sign up at http://NCevents.eventbrite.com \nAt our Neighborhood Council Candidate Workshop\, you’ll learn tips for: \n\nrunning a successful campaign\nconnecting with voters\nadvocating for issues you’re passionate about\nwriting your personal statements\n\nWorkshops are being held across the city of Los Angeles between January – March 2019. If the class you want is sold out\, make sure to join the waitlist\, to receive a class packet. \nYou may attend any workshop convenient for your schedule. There are 13 different regional election dates for the 2019 Neighborhood Council elections. To see the dates for your Council\, visit http://EmpowerLA.org/elections and click the Election Dates button.
URL:https://www.myvalleyvillage.com/event/candidate-filing-forum/
LOCATION:Marvin Braude Constituent Services Center\, 6262 Van Nuys Blvd\, Van Nuys\, 91401
CATEGORIES:events
END:VEVENT
BEGIN:VEVENT
DTSTART;TZID=America/Los_Angeles:20181022T173000
DTEND;TZID=America/Los_Angeles:20181022T193000
DTSTAMP:20260423T225424
CREATED:20181009T190948Z
LAST-MODIFIED:20181009T190948Z
UID:4727-1540229400-1540236600@www.myvalleyvillage.com
SUMMARY:Community Plan Open House
DESCRIPTION:
URL:https://www.myvalleyvillage.com/event/community-plan-open-house-2/
LOCATION:Marvin Braude Constituent Services Center\, 6262 Van Nuys Blvd\, Van Nuys\, 91401
CATEGORIES:events
END:VEVENT
BEGIN:VEVENT
DTSTART;TZID=America/Los_Angeles:20180725T180000
DTEND;TZID=America/Los_Angeles:20180725T200000
DTSTAMP:20260423T225424
CREATED:20180720T013752Z
LAST-MODIFIED:20180720T013752Z
UID:4517-1532541600-1532548800@www.myvalleyvillage.com
SUMMARY:Orange Line Transit Neighborhood Plans Community Meeting
DESCRIPTION:The Los Angeles Department of City Planning invites you to the \nEnvironmental Impact Report (EIR) Scoping Meeting \nfor the Orange Line Transit Neighborhood Plans project’s North Hollywood\, Van Nuys\, and Sepulveda Station Areas. \nWednesday\, July 25\n6:00 – 8:00 PM \nMarvin Braude San Fernando Valley Constituent Services Center\n6262 Van Nuys Boulevard\, Room 1B – First Floor Public Meeting Room\nVan Nuys CA\, 91401
URL:https://www.myvalleyvillage.com/event/orange-line-transit-neighborhood-plans-community-meeting/
LOCATION:Marvin Braude Constituent Services Center\, 6262 Van Nuys Blvd\, Van Nuys\, 91401
CATEGORIES:events
END:VEVENT
END:VCALENDAR