BEGIN:VCALENDAR
VERSION:2.0
PRODID:-//Neighborhood Council Valley Village - ECPv6.15.20//NONSGML v1.0//EN
CALSCALE:GREGORIAN
METHOD:PUBLISH
X-ORIGINAL-URL:https://www.myvalleyvillage.com
X-WR-CALDESC:Events for Neighborhood Council Valley Village
REFRESH-INTERVAL;VALUE=DURATION:PT1H
X-Robots-Tag:noindex
X-PUBLISHED-TTL:PT1H
BEGIN:VTIMEZONE
TZID:America/Los_Angeles
BEGIN:DAYLIGHT
TZOFFSETFROM:-0800
TZOFFSETTO:-0700
TZNAME:PDT
DTSTART:20160313T100000
END:DAYLIGHT
BEGIN:STANDARD
TZOFFSETFROM:-0700
TZOFFSETTO:-0800
TZNAME:PST
DTSTART:20161106T090000
END:STANDARD
BEGIN:DAYLIGHT
TZOFFSETFROM:-0800
TZOFFSETTO:-0700
TZNAME:PDT
DTSTART:20170312T100000
END:DAYLIGHT
BEGIN:STANDARD
TZOFFSETFROM:-0700
TZOFFSETTO:-0800
TZNAME:PST
DTSTART:20171105T090000
END:STANDARD
BEGIN:DAYLIGHT
TZOFFSETFROM:-0800
TZOFFSETTO:-0700
TZNAME:PDT
DTSTART:20180311T100000
END:DAYLIGHT
BEGIN:STANDARD
TZOFFSETFROM:-0700
TZOFFSETTO:-0800
TZNAME:PST
DTSTART:20181104T090000
END:STANDARD
END:VTIMEZONE
BEGIN:VEVENT
DTSTART;TZID=America/Los_Angeles:20171214T183000
DTEND;TZID=America/Los_Angeles:20171214T200000
DTSTAMP:20260423T173826
CREATED:20171208T200542Z
LAST-MODIFIED:20171213T040458Z
UID:4090-1513276200-1513281600@www.myvalleyvillage.com
SUMMARY:City Services Committee: Coffee With A Cop
DESCRIPTION: 
URL:https://www.myvalleyvillage.com/event/city-services-committee-coffee-with-a-cop/
LOCATION:Marie et Cie\, 11704 Riverside Dr.\, Valley Village\, 91607
CATEGORIES:meetings
GEO:34.1576421;-118.3879684
X-APPLE-STRUCTURED-LOCATION;VALUE=URI;X-ADDRESS=Marie et Cie 11704 Riverside Dr. Valley Village 91607;X-APPLE-RADIUS=500;X-TITLE=11704 Riverside Dr.:geo:-118.3879684,34.1576421
END:VEVENT
END:VCALENDAR