BEGIN:VCALENDAR
VERSION:2.0
PRODID:-//Neighborhood Council Valley Village - ECPv6.15.20//NONSGML v1.0//EN
CALSCALE:GREGORIAN
METHOD:PUBLISH
X-ORIGINAL-URL:https://www.myvalleyvillage.com
X-WR-CALDESC:Events for Neighborhood Council Valley Village
REFRESH-INTERVAL;VALUE=DURATION:PT1H
X-Robots-Tag:noindex
X-PUBLISHED-TTL:PT1H
BEGIN:VTIMEZONE
TZID:America/Los_Angeles
BEGIN:DAYLIGHT
TZOFFSETFROM:-0800
TZOFFSETTO:-0700
TZNAME:PDT
DTSTART:20170312T100000
END:DAYLIGHT
BEGIN:STANDARD
TZOFFSETFROM:-0700
TZOFFSETTO:-0800
TZNAME:PST
DTSTART:20171105T090000
END:STANDARD
BEGIN:DAYLIGHT
TZOFFSETFROM:-0800
TZOFFSETTO:-0700
TZNAME:PDT
DTSTART:20180311T100000
END:DAYLIGHT
BEGIN:STANDARD
TZOFFSETFROM:-0700
TZOFFSETTO:-0800
TZNAME:PST
DTSTART:20181104T090000
END:STANDARD
BEGIN:DAYLIGHT
TZOFFSETFROM:-0800
TZOFFSETTO:-0700
TZNAME:PDT
DTSTART:20190310T100000
END:DAYLIGHT
BEGIN:STANDARD
TZOFFSETFROM:-0700
TZOFFSETTO:-0800
TZNAME:PST
DTSTART:20191103T090000
END:STANDARD
BEGIN:DAYLIGHT
TZOFFSETFROM:-0800
TZOFFSETTO:-0700
TZNAME:PDT
DTSTART:20200308T100000
END:DAYLIGHT
BEGIN:STANDARD
TZOFFSETFROM:-0700
TZOFFSETTO:-0800
TZNAME:PST
DTSTART:20201101T090000
END:STANDARD
BEGIN:DAYLIGHT
TZOFFSETFROM:-0800
TZOFFSETTO:-0700
TZNAME:PDT
DTSTART:20210314T100000
END:DAYLIGHT
BEGIN:STANDARD
TZOFFSETFROM:-0700
TZOFFSETTO:-0800
TZNAME:PST
DTSTART:20211107T090000
END:STANDARD
BEGIN:DAYLIGHT
TZOFFSETFROM:-0800
TZOFFSETTO:-0700
TZNAME:PDT
DTSTART:20220313T100000
END:DAYLIGHT
BEGIN:STANDARD
TZOFFSETFROM:-0700
TZOFFSETTO:-0800
TZNAME:PST
DTSTART:20221106T090000
END:STANDARD
BEGIN:DAYLIGHT
TZOFFSETFROM:-0800
TZOFFSETTO:-0700
TZNAME:PDT
DTSTART:20230312T100000
END:DAYLIGHT
BEGIN:STANDARD
TZOFFSETFROM:-0700
TZOFFSETTO:-0800
TZNAME:PST
DTSTART:20231105T090000
END:STANDARD
END:VTIMEZONE
BEGIN:VEVENT
DTSTART;TZID=America/Los_Angeles:20221008T080000
DTEND;TZID=America/Los_Angeles:20221008T160000
DTSTAMP:20260423T210439
CREATED:20220909T211140Z
LAST-MODIFIED:20220909T211140Z
UID:8326-1665216000-1665244800@www.myvalleyvillage.com
SUMMARY:LAPD Women on the Rise Hiring Fair
DESCRIPTION:
URL:https://www.myvalleyvillage.com/event/lapd-women-on-the-rise-hiring-fair/
LOCATION:Los Angeles Valley College\, 5800 Fulton Ave\, Valley Glen\, 91401
CATEGORIES:events
END:VEVENT
BEGIN:VEVENT
DTSTART;TZID=America/Los_Angeles:20180926T090000
DTEND;TZID=America/Los_Angeles:20180926T120000
DTSTAMP:20260423T210439
CREATED:20180924T163901Z
LAST-MODIFIED:20180924T163901Z
UID:4665-1537952400-1537963200@www.myvalleyvillage.com
SUMMARY:Homeless Service Professionals Job Fair
DESCRIPTION:Wednesday\, Sept. 26\, 9 am to 12 pm\nLA Valley College\n5800 Fulton Ave\nValley Glen\, CA 91401 \nCalling all job seekers: Mayor Eric Garcetti\, the Los Angeles Homeless Services Authority\, the County of Los Angeles Homeless Initiative\, United Way of Greater Los Angeles and City and County Workforce Development Systems invite you to the third Homeless Service Professionals Job Fair. The job fair will have 30+ employers in attendance\, who are looking to fill hundreds of positions throughout the greater LA area — everything from case managers and outreach workers to housing navigators\, supervisors and executives. For more information\, visit HomelessServiceProfessionalsLA.Eventbrite.com.
URL:https://www.myvalleyvillage.com/event/homeless-service-professionals-job-fair/
LOCATION:Los Angeles Valley College\, 5800 Fulton Ave\, Valley Glen\, 91401
CATEGORIES:events
END:VEVENT
BEGIN:VEVENT
DTSTART;TZID=America/Los_Angeles:20180430T090000
DTEND;TZID=America/Los_Angeles:20180430T120000
DTSTAMP:20260423T210439
CREATED:20180419T223836Z
LAST-MODIFIED:20180419T223836Z
UID:4332-1525078800-1525089600@www.myvalleyvillage.com
SUMMARY:Metro Bus Operator Information Session
DESCRIPTION:You are invited to an information session about the Metro Bridge Academy. The purpose of the training program is to prepare you for an interview with Metro and successfully navigate the pathway to meaningful employment. \nPlease bring the following with you: \nSocial Security Card\nDriver’s License\nCurrent 10 yr. Driving Record (H6 Print Out)\nProof of Unemployment Insurance\nLay-off Letter (If Available)\nCopy of DD214 (Veterans Only)\nCriminal Background (Superior Court Print Out) \nTo RSVP please email angie.aramayo@asm.ca.gov or call office at 818-376-4246.
URL:https://www.myvalleyvillage.com/event/metro-bus-operator-information-session/2018-04-30/
LOCATION:Los Angeles Valley College\, 5800 Fulton Ave\, Valley Glen\, 91401
CATEGORIES:events
END:VEVENT
END:VCALENDAR