BEGIN:VCALENDAR
VERSION:2.0
PRODID:-//Neighborhood Council Valley Village - ECPv6.15.20//NONSGML v1.0//EN
CALSCALE:GREGORIAN
METHOD:PUBLISH
X-ORIGINAL-URL:https://www.myvalleyvillage.com
X-WR-CALDESC:Events for Neighborhood Council Valley Village
REFRESH-INTERVAL;VALUE=DURATION:PT1H
X-Robots-Tag:noindex
X-PUBLISHED-TTL:PT1H
BEGIN:VTIMEZONE
TZID:America/Los_Angeles
BEGIN:DAYLIGHT
TZOFFSETFROM:-0800
TZOFFSETTO:-0700
TZNAME:PDT
DTSTART:20180311T100000
END:DAYLIGHT
BEGIN:STANDARD
TZOFFSETFROM:-0700
TZOFFSETTO:-0800
TZNAME:PST
DTSTART:20181104T090000
END:STANDARD
BEGIN:DAYLIGHT
TZOFFSETFROM:-0800
TZOFFSETTO:-0700
TZNAME:PDT
DTSTART:20190310T100000
END:DAYLIGHT
BEGIN:STANDARD
TZOFFSETFROM:-0700
TZOFFSETTO:-0800
TZNAME:PST
DTSTART:20191103T090000
END:STANDARD
BEGIN:DAYLIGHT
TZOFFSETFROM:-0800
TZOFFSETTO:-0700
TZNAME:PDT
DTSTART:20200308T100000
END:DAYLIGHT
BEGIN:STANDARD
TZOFFSETFROM:-0700
TZOFFSETTO:-0800
TZNAME:PST
DTSTART:20201101T090000
END:STANDARD
END:VTIMEZONE
BEGIN:VEVENT
DTSTART;TZID=America/Los_Angeles:20190506T180000
DTEND;TZID=America/Los_Angeles:20190506T210000
DTSTAMP:20260424T003244
CREATED:20190417T185305Z
LAST-MODIFIED:20190417T185305Z
UID:5083-1557165600-1557176400@www.myvalleyvillage.com
SUMMARY:Community Police Academy
DESCRIPTION:LAPD Chief Moore is looking to use more volunteers to enable more officers to be in the field. Now is your chance to get trained and get involved! This training is free on Monday evenings for 8 weeks. Please contact Officer Rothman at 818-644-8140.
URL:https://www.myvalleyvillage.com/event/community-police-academy/
LOCATION:LAPD Edward Davis Training Facility\, 12001 Blucher Ave\, Granada Hills\, 91344
CATEGORIES:events
END:VEVENT
END:VCALENDAR