BEGIN:VCALENDAR
VERSION:2.0
PRODID:-//Neighborhood Council Valley Village - ECPv6.15.20//NONSGML v1.0//EN
CALSCALE:GREGORIAN
METHOD:PUBLISH
X-ORIGINAL-URL:https://www.myvalleyvillage.com
X-WR-CALDESC:Events for Neighborhood Council Valley Village
REFRESH-INTERVAL;VALUE=DURATION:PT1H
X-Robots-Tag:noindex
X-PUBLISHED-TTL:PT1H
BEGIN:VTIMEZONE
TZID:America/Los_Angeles
BEGIN:DAYLIGHT
TZOFFSETFROM:-0800
TZOFFSETTO:-0700
TZNAME:PDT
DTSTART:20180311T100000
END:DAYLIGHT
BEGIN:STANDARD
TZOFFSETFROM:-0700
TZOFFSETTO:-0800
TZNAME:PST
DTSTART:20181104T090000
END:STANDARD
BEGIN:DAYLIGHT
TZOFFSETFROM:-0800
TZOFFSETTO:-0700
TZNAME:PDT
DTSTART:20190310T100000
END:DAYLIGHT
BEGIN:STANDARD
TZOFFSETFROM:-0700
TZOFFSETTO:-0800
TZNAME:PST
DTSTART:20191103T090000
END:STANDARD
BEGIN:DAYLIGHT
TZOFFSETFROM:-0800
TZOFFSETTO:-0700
TZNAME:PDT
DTSTART:20200308T100000
END:DAYLIGHT
BEGIN:STANDARD
TZOFFSETFROM:-0700
TZOFFSETTO:-0800
TZNAME:PST
DTSTART:20201101T090000
END:STANDARD
BEGIN:DAYLIGHT
TZOFFSETFROM:-0800
TZOFFSETTO:-0700
TZNAME:PDT
DTSTART:20210314T100000
END:DAYLIGHT
BEGIN:STANDARD
TZOFFSETFROM:-0700
TZOFFSETTO:-0800
TZNAME:PST
DTSTART:20211107T090000
END:STANDARD
BEGIN:DAYLIGHT
TZOFFSETFROM:-0800
TZOFFSETTO:-0700
TZNAME:PDT
DTSTART:20220313T100000
END:DAYLIGHT
BEGIN:STANDARD
TZOFFSETFROM:-0700
TZOFFSETTO:-0800
TZNAME:PST
DTSTART:20221106T090000
END:STANDARD
BEGIN:DAYLIGHT
TZOFFSETFROM:-0800
TZOFFSETTO:-0700
TZNAME:PDT
DTSTART:20230312T100000
END:DAYLIGHT
BEGIN:STANDARD
TZOFFSETFROM:-0700
TZOFFSETTO:-0800
TZNAME:PST
DTSTART:20231105T090000
END:STANDARD
END:VTIMEZONE
BEGIN:VEVENT
DTSTART;TZID=America/Los_Angeles:20220623T170000
DTEND;TZID=America/Los_Angeles:20220623T190000
DTSTAMP:20260423T225358
CREATED:20220616T015853Z
LAST-MODIFIED:20220616T203445Z
UID:8063-1656003600-1656010800@www.myvalleyvillage.com
SUMMARY:Lankershim Arts Center Open House
DESCRIPTION:
URL:https://www.myvalleyvillage.com/event/8063/
LOCATION:Lankershim Arts Center\, 5108 Lankershim Blvd\, North Hollywood\, 91601
CATEGORIES:events
END:VEVENT
BEGIN:VEVENT
DTSTART;TZID=America/Los_Angeles:20190709T173000
DTEND;TZID=America/Los_Angeles:20190709T193000
DTSTAMP:20260423T225358
CREATED:20190708T164255Z
LAST-MODIFIED:20190708T164255Z
UID:5305-1562693400-1562700600@www.myvalleyvillage.com
SUMMARY:North Hollywood to Pasadena Transit Corridor Community Meeting
DESCRIPTION:NORTH HOLLYWOOD – Metro invites you to community meeting to learn more about the North Hollywood to Pasadena Bus Rapid Transit project\, share your comments on the proposal\, and discuss potential environmental issues that the agency should consider in the project’s Draft Environmental Impact Report. \nNorth Hollywood to Pasadena Transit Corridor\nCommunity Meeting\nTuesday July 9\, 5:30 PM to 7:30 PM\nLankershim Arts Center\n5108 Lankershim Bl\nLos Angeles 91601 \nMetro is working to improve bus service connecting the San Fernando and San Gabriel Valleys with a new type of bus service. This new high-quality\, reliable Bus Rapid Transit project will link key activity centers and improve access to jobs\, entertainment and the regional transit system. \nThe North Hollywood to Pasadena BRT Project extends approximately 18 miles and will provide a connection between the Metro Red\, Orange and Gold Lines\, as well as Metrolink and other municipal bus lines. Communities that will be served by the proposed project include North Hollywood\, Burbank\, Glendale\, Eagle Rock and Pasadena. \nFor more information\, visit www.metro.net/nohopasbrt
URL:https://www.myvalleyvillage.com/event/north-hollywood-to-pasadena-transit-corridor-community-meeting/
LOCATION:Lankershim Arts Center\, 5108 Lankershim Blvd\, North Hollywood\, 91601
CATEGORIES:events
END:VEVENT
END:VCALENDAR