BEGIN:VCALENDAR
VERSION:2.0
PRODID:-//Neighborhood Council Valley Village - ECPv6.15.20//NONSGML v1.0//EN
CALSCALE:GREGORIAN
METHOD:PUBLISH
X-ORIGINAL-URL:https://www.myvalleyvillage.com
X-WR-CALDESC:Events for Neighborhood Council Valley Village
REFRESH-INTERVAL;VALUE=DURATION:PT1H
X-Robots-Tag:noindex
X-PUBLISHED-TTL:PT1H
BEGIN:VTIMEZONE
TZID:America/Los_Angeles
BEGIN:DAYLIGHT
TZOFFSETFROM:-0800
TZOFFSETTO:-0700
TZNAME:PDT
DTSTART:20160313T100000
END:DAYLIGHT
BEGIN:STANDARD
TZOFFSETFROM:-0700
TZOFFSETTO:-0800
TZNAME:PST
DTSTART:20161106T090000
END:STANDARD
BEGIN:DAYLIGHT
TZOFFSETFROM:-0800
TZOFFSETTO:-0700
TZNAME:PDT
DTSTART:20170312T100000
END:DAYLIGHT
BEGIN:STANDARD
TZOFFSETFROM:-0700
TZOFFSETTO:-0800
TZNAME:PST
DTSTART:20171105T090000
END:STANDARD
BEGIN:DAYLIGHT
TZOFFSETFROM:-0800
TZOFFSETTO:-0700
TZNAME:PDT
DTSTART:20180311T100000
END:DAYLIGHT
BEGIN:STANDARD
TZOFFSETFROM:-0700
TZOFFSETTO:-0800
TZNAME:PST
DTSTART:20181104T090000
END:STANDARD
END:VTIMEZONE
BEGIN:VEVENT
DTSTART;TZID=America/Los_Angeles:20170729T080000
DTEND;TZID=America/Los_Angeles:20170729T100000
DTSTAMP:20260423T193121
CREATED:20170721T162557Z
LAST-MODIFIED:20170721T164945Z
UID:3817-1501315200-1501322400@www.myvalleyvillage.com
SUMMARY:Walk on Water with DWP
DESCRIPTION:Join LADWP and the Council for Watershed Health on Saturday\, July 29 for a 3.3 mile walk around the Hollywood Reservoir. Learn more about the City’s water supply\, infrastructure and LA’s water future. The event begins with check in at 8:00 am\, at the Lake Hollywood Drive entrance. The walk lasts about 2 hours\, and no pets or bikes are allowed. Participation is limited to 100 and reservations are required. You can RSVP at communityrelations@ladwp.com before July 27 at 5:00pm. For more information click here or call 213-367-1361. If you live in Valley Village and join the July 29 walk\, be sure to take pictures and send them to us at info@myvalleyvillage.com.
URL:https://www.myvalleyvillage.com/event/walk-on-water-with-dwp/
LOCATION:Lake Hollywood\, Lake Hollywood Drive\, Hollywood
CATEGORIES:events
GEO:34.1265058;-118.3308137
X-APPLE-STRUCTURED-LOCATION;VALUE=URI;X-ADDRESS=Lake Hollywood Lake Hollywood Drive Hollywood;X-APPLE-RADIUS=500;X-TITLE=Lake Hollywood Drive:geo:-118.3308137,34.1265058
END:VEVENT
END:VCALENDAR