BEGIN:VCALENDAR
VERSION:2.0
PRODID:-//Neighborhood Council Valley Village - ECPv6.15.20//NONSGML v1.0//EN
CALSCALE:GREGORIAN
METHOD:PUBLISH
X-ORIGINAL-URL:https://www.myvalleyvillage.com
X-WR-CALDESC:Events for Neighborhood Council Valley Village
REFRESH-INTERVAL;VALUE=DURATION:PT1H
X-Robots-Tag:noindex
X-PUBLISHED-TTL:PT1H
BEGIN:VTIMEZONE
TZID:America/Los_Angeles
BEGIN:DAYLIGHT
TZOFFSETFROM:-0800
TZOFFSETTO:-0700
TZNAME:PDT
DTSTART:20160313T100000
END:DAYLIGHT
BEGIN:STANDARD
TZOFFSETFROM:-0700
TZOFFSETTO:-0800
TZNAME:PST
DTSTART:20161106T090000
END:STANDARD
BEGIN:DAYLIGHT
TZOFFSETFROM:-0800
TZOFFSETTO:-0700
TZNAME:PDT
DTSTART:20170312T100000
END:DAYLIGHT
BEGIN:STANDARD
TZOFFSETFROM:-0700
TZOFFSETTO:-0800
TZNAME:PST
DTSTART:20171105T090000
END:STANDARD
BEGIN:DAYLIGHT
TZOFFSETFROM:-0800
TZOFFSETTO:-0700
TZNAME:PDT
DTSTART:20180311T100000
END:DAYLIGHT
BEGIN:STANDARD
TZOFFSETFROM:-0700
TZOFFSETTO:-0800
TZNAME:PST
DTSTART:20181104T090000
END:STANDARD
BEGIN:DAYLIGHT
TZOFFSETFROM:-0800
TZOFFSETTO:-0700
TZNAME:PDT
DTSTART:20190310T100000
END:DAYLIGHT
BEGIN:STANDARD
TZOFFSETFROM:-0700
TZOFFSETTO:-0800
TZNAME:PST
DTSTART:20191103T090000
END:STANDARD
BEGIN:DAYLIGHT
TZOFFSETFROM:-0800
TZOFFSETTO:-0700
TZNAME:PDT
DTSTART:20200308T100000
END:DAYLIGHT
BEGIN:STANDARD
TZOFFSETFROM:-0700
TZOFFSETTO:-0800
TZNAME:PST
DTSTART:20201101T090000
END:STANDARD
END:VTIMEZONE
BEGIN:VEVENT
DTSTART;TZID=America/Los_Angeles:20190117T183000
DTEND;TZID=America/Los_Angeles:20190117T203000
DTSTAMP:20260423T162050
CREATED:20181205T000945Z
LAST-MODIFIED:20190116T231532Z
UID:4833-1547749800-1547757000@www.myvalleyvillage.com
SUMMARY:Public Safety Town Hall
DESCRIPTION:Councilmember Krekorian welcomes newly appointed LAPD Chief of Police Michel Moore for an informative town hall event to discuss public safety priorities in the East San Fernando Valley and what’s being done to improve our city. Chief Moore will discuss the state of public safety in our communities and what the LAPD is doing to meet the challenges we face in our neighborhoods. \nJoin Councilmember Krekorian as we talk with Chief Moore about issues that are important to you and your family. \nThe event will also feature East Valley LAPD leaders who will address your concerns about local policing and the needs of our communities. It will be a great opportunity to hear from the LAPD directly about what’s being done to tackle crime\, and a chance to learn about how you can get involved and be part of the solution. \nNOTE: In order to make the discussion as informative and comprehensive as possible\, only questions submitted prior to the town hall will be addressed by Chief Moore. Submit your questions using the RSVP link: www.paulkrekorian.org/publicsafetytownhall \nContact: 818-788-7676
URL:https://www.myvalleyvillage.com/event/public-safety-town-hall/
LOCATION:LA Valley College Monarch Hall\, 5800 Fulton Ave\, Valley Glen
CATEGORIES:events
GEO:34.1757062;-118.4201438
X-APPLE-STRUCTURED-LOCATION;VALUE=URI;X-ADDRESS=LA Valley College Monarch Hall 5800 Fulton Ave Valley Glen;X-APPLE-RADIUS=500;X-TITLE=5800 Fulton Ave:geo:-118.4201438,34.1757062
END:VEVENT
BEGIN:VEVENT
DTSTART;TZID=America/Los_Angeles:20180920T100000
DTEND;TZID=America/Los_Angeles:20180920T130000
DTSTAMP:20260423T162050
CREATED:20180914T204959Z
LAST-MODIFIED:20180914T204959Z
UID:4640-1537437600-1537448400@www.myvalleyvillage.com
SUMMARY:Homeless Connect Day
DESCRIPTION:VALLEY GLEN – On Thursday\, September 20\, Councilmember Krekorian’s Homeless Connect Day event will be coming to LA Valley College. More than 30 government agencies and community partners will be on campus to connect hundreds of the Valley’s homeless to services and resources. \nHomeless Connect Day\nThursday\, September 20\, 10 am to 1 pm\nLA Valley College\, Monarch Hall\n5800 Fulton Ave.\nValley Glen\, CA 91401 \nThe event is a one-stop shop that will provide people in need with state identification cards\, health and vision screenings\, haircuts\, showers and other supportive services. For more information or if you would like to volunteer\, contact our office: (818) 755-7676.
URL:https://www.myvalleyvillage.com/event/homeless-connect-day/
LOCATION:LA Valley College Monarch Hall\, 5800 Fulton Ave\, Valley Glen
CATEGORIES:events
GEO:34.1757062;-118.4201438
X-APPLE-STRUCTURED-LOCATION;VALUE=URI;X-ADDRESS=LA Valley College Monarch Hall 5800 Fulton Ave Valley Glen;X-APPLE-RADIUS=500;X-TITLE=5800 Fulton Ave:geo:-118.4201438,34.1757062
END:VEVENT
BEGIN:VEVENT
DTSTART;TZID=America/Los_Angeles:20180215T090000
DTEND;TZID=America/Los_Angeles:20180215T140000
DTSTAMP:20260423T162050
CREATED:20180207T024100Z
LAST-MODIFIED:20180207T024140Z
UID:4183-1518685200-1518703200@www.myvalleyvillage.com
SUMMARY:Hero Hired Job Fair
DESCRIPTION:Register on Eventbrite
URL:https://www.myvalleyvillage.com/event/hero-hired-job-fair/
LOCATION:LA Valley College Monarch Hall\, 5800 Fulton Ave\, Valley Glen
CATEGORIES:events
GEO:34.1757062;-118.4201438
X-APPLE-STRUCTURED-LOCATION;VALUE=URI;X-ADDRESS=LA Valley College Monarch Hall 5800 Fulton Ave Valley Glen;X-APPLE-RADIUS=500;X-TITLE=5800 Fulton Ave:geo:-118.4201438,34.1757062
END:VEVENT
BEGIN:VEVENT
DTSTART;TZID=America/Los_Angeles:20180118T183000
DTEND;TZID=America/Los_Angeles:20180118T203000
DTSTAMP:20260423T162050
CREATED:20171205T215515Z
LAST-MODIFIED:20171205T215515Z
UID:4074-1516300200-1516307400@www.myvalleyvillage.com
SUMMARY:Town Hall on Homelessness
DESCRIPTION:
URL:https://www.myvalleyvillage.com/event/town-hall-on-homelessness/
LOCATION:LA Valley College Monarch Hall\, 5800 Fulton Ave\, Valley Glen
CATEGORIES:events
GEO:34.1757062;-118.4201438
X-APPLE-STRUCTURED-LOCATION;VALUE=URI;X-ADDRESS=LA Valley College Monarch Hall 5800 Fulton Ave Valley Glen;X-APPLE-RADIUS=500;X-TITLE=5800 Fulton Ave:geo:-118.4201438,34.1757062
END:VEVENT
BEGIN:VEVENT
DTSTART;TZID=America/Los_Angeles:20171207T090000
DTEND;TZID=America/Los_Angeles:20171207T140000
DTSTAMP:20260423T162050
CREATED:20171205T215631Z
LAST-MODIFIED:20171205T215631Z
UID:4078-1512637200-1512655200@www.myvalleyvillage.com
SUMMARY:Hero Hired Career & Resource Fair
DESCRIPTION:
URL:https://www.myvalleyvillage.com/event/hero-hired-career-resource-fair/
LOCATION:LA Valley College Monarch Hall\, 5800 Fulton Ave\, Valley Glen
CATEGORIES:events
GEO:34.1757062;-118.4201438
X-APPLE-STRUCTURED-LOCATION;VALUE=URI;X-ADDRESS=LA Valley College Monarch Hall 5800 Fulton Ave Valley Glen;X-APPLE-RADIUS=500;X-TITLE=5800 Fulton Ave:geo:-118.4201438,34.1757062
END:VEVENT
END:VCALENDAR