BEGIN:VCALENDAR
VERSION:2.0
PRODID:-//Neighborhood Council Valley Village - ECPv6.15.20//NONSGML v1.0//EN
CALSCALE:GREGORIAN
METHOD:PUBLISH
X-WR-CALNAME:Neighborhood Council Valley Village
X-ORIGINAL-URL:https://www.myvalleyvillage.com
X-WR-CALDESC:Events for Neighborhood Council Valley Village
REFRESH-INTERVAL;VALUE=DURATION:PT1H
X-Robots-Tag:noindex
X-PUBLISHED-TTL:PT1H
BEGIN:VTIMEZONE
TZID:America/Los_Angeles
BEGIN:DAYLIGHT
TZOFFSETFROM:-0800
TZOFFSETTO:-0700
TZNAME:PDT
DTSTART:20180311T100000
END:DAYLIGHT
BEGIN:STANDARD
TZOFFSETFROM:-0700
TZOFFSETTO:-0800
TZNAME:PST
DTSTART:20181104T090000
END:STANDARD
BEGIN:DAYLIGHT
TZOFFSETFROM:-0800
TZOFFSETTO:-0700
TZNAME:PDT
DTSTART:20190310T100000
END:DAYLIGHT
BEGIN:STANDARD
TZOFFSETFROM:-0700
TZOFFSETTO:-0800
TZNAME:PST
DTSTART:20191103T090000
END:STANDARD
BEGIN:DAYLIGHT
TZOFFSETFROM:-0800
TZOFFSETTO:-0700
TZNAME:PDT
DTSTART:20200308T100000
END:DAYLIGHT
BEGIN:STANDARD
TZOFFSETFROM:-0700
TZOFFSETTO:-0800
TZNAME:PST
DTSTART:20201101T090000
END:STANDARD
END:VTIMEZONE
BEGIN:VEVENT
DTSTART;TZID=America/Los_Angeles:20190420T090000
DTEND;TZID=America/Los_Angeles:20190420T130000
DTSTAMP:20260423T210115
CREATED:20190408T214044Z
LAST-MODIFIED:20190408T214044Z
UID:5052-1555750800-1555765200@www.myvalleyvillage.com
SUMMARY:Homelessness Resource Fair
DESCRIPTION:Homelessness Resource Fair April 20: Learn How You Can Help Solve Homelessness in LA \nHomelessness in LA is a complex issue. So many people want to help solve homelessness in their communities\, and don’t know where to start. Our Homelessness Resource Fair is a starting point where Angelenos can learn how they can start making a difference right away. \nYou’ll be able to connect to other local advocates for the homeless and organizations that provide homeless services\, and learn how you can extend these services to homeless neighbors in your own community. At the Fair\, you’ll also hear from government agencies who will present an update on their projects and policies (including Measures H and HHH\, and A Bridge Home). \nThis event is organized by the Department of Neighborhood Empowerment in partnership with the office of LA County Supervisor Hilda Solis and the office of Mayor Eric Garcetti. Come meet fellow community members\, advocacy coalitions\, Neighborhood Councils\, and non-profit organizations are working on everyday ways to help our fellow Angelenos who live on our streets! \nA hygiene product drive will also be part of the event\, so please bring any items you have to donate. \nRSVP now at this link\, to let us know you’re coming\, and to reserve your free parking space: http://tiny.cc/LAHRF \nHomelessness Resource Fair \nSaturday April 20th \n9 am – 1 pm \nGrand Park \n200 N Grand Ave\, DTLA
URL:https://www.myvalleyvillage.com/event/homelessness-resource-fair/
LOCATION:Grand Park\, 200 N. Grand Ave\, Los Angeles\, 90012
CATEGORIES:events
END:VEVENT
END:VCALENDAR