BEGIN:VCALENDAR
VERSION:2.0
PRODID:-//Neighborhood Council Valley Village - ECPv6.15.20//NONSGML v1.0//EN
CALSCALE:GREGORIAN
METHOD:PUBLISH
X-WR-CALNAME:Neighborhood Council Valley Village
X-ORIGINAL-URL:https://www.myvalleyvillage.com
X-WR-CALDESC:Events for Neighborhood Council Valley Village
REFRESH-INTERVAL;VALUE=DURATION:PT1H
X-Robots-Tag:noindex
X-PUBLISHED-TTL:PT1H
BEGIN:VTIMEZONE
TZID:America/Los_Angeles
BEGIN:DAYLIGHT
TZOFFSETFROM:-0800
TZOFFSETTO:-0700
TZNAME:PDT
DTSTART:20160313T100000
END:DAYLIGHT
BEGIN:STANDARD
TZOFFSETFROM:-0700
TZOFFSETTO:-0800
TZNAME:PST
DTSTART:20161106T090000
END:STANDARD
BEGIN:DAYLIGHT
TZOFFSETFROM:-0800
TZOFFSETTO:-0700
TZNAME:PDT
DTSTART:20170312T100000
END:DAYLIGHT
BEGIN:STANDARD
TZOFFSETFROM:-0700
TZOFFSETTO:-0800
TZNAME:PST
DTSTART:20171105T090000
END:STANDARD
BEGIN:DAYLIGHT
TZOFFSETFROM:-0800
TZOFFSETTO:-0700
TZNAME:PDT
DTSTART:20180311T100000
END:DAYLIGHT
BEGIN:STANDARD
TZOFFSETFROM:-0700
TZOFFSETTO:-0800
TZNAME:PST
DTSTART:20181104T090000
END:STANDARD
BEGIN:DAYLIGHT
TZOFFSETFROM:-0800
TZOFFSETTO:-0700
TZNAME:PDT
DTSTART:20190310T100000
END:DAYLIGHT
BEGIN:STANDARD
TZOFFSETFROM:-0700
TZOFFSETTO:-0800
TZNAME:PST
DTSTART:20191103T090000
END:STANDARD
BEGIN:DAYLIGHT
TZOFFSETFROM:-0800
TZOFFSETTO:-0700
TZNAME:PDT
DTSTART:20200308T100000
END:DAYLIGHT
BEGIN:STANDARD
TZOFFSETFROM:-0700
TZOFFSETTO:-0800
TZNAME:PST
DTSTART:20201101T090000
END:STANDARD
BEGIN:DAYLIGHT
TZOFFSETFROM:-0800
TZOFFSETTO:-0700
TZNAME:PDT
DTSTART:20210314T100000
END:DAYLIGHT
BEGIN:STANDARD
TZOFFSETFROM:-0700
TZOFFSETTO:-0800
TZNAME:PST
DTSTART:20211107T090000
END:STANDARD
END:VTIMEZONE
BEGIN:VEVENT
DTSTART;TZID=America/Los_Angeles:20201210T100000
DTEND;TZID=America/Los_Angeles:20201210T120000
DTSTAMP:20260423T175620
CREATED:20201208T182227Z
LAST-MODIFIED:20201208T182439Z
UID:6677-1607594400-1607601600@www.myvalleyvillage.com
SUMMARY:Holiday Food & Toy Drive
DESCRIPTION:From Assemblymember Nazarian: \nCome stop by to drop off your donations via our safe contactless drive-through and wave to your representatives and briefly discuss legislative issues of concern. \nWe are asking all donations to be placed in your car’s trunk in anticipation of the drive to ensure we have a safe contactless donation. If you have any non-perishable foods or unwrapped toys you would like to donate for our holiday toy and food drive\, please feel free to drop them off on December 10. \nWhat to Donate: \nFood: non-perishable food items\, including canned and boxed foods and packaged snacks. Please no glass items.\nToys: unwrapped\, new toys.\nMisc. Items: New blankets\, adult sized coats & and socks preferred. \nThursday\, December 10\n10 a.m. – 12:00 p.m. \nFirst Christian Church Of North Hollywood\n4390 Colfax Ave\nStudio City\, CA 91604
URL:https://www.myvalleyvillage.com/event/holiday-food-toy-drive-3/
LOCATION:First Christian Church\, 4390 Colfax Ave.\, Studio City
CATEGORIES:events
GEO:34.1501988;-118.3872632
X-APPLE-STRUCTURED-LOCATION;VALUE=URI;X-ADDRESS=First Christian Church 4390 Colfax Ave. Studio City;X-APPLE-RADIUS=500;X-TITLE=4390 Colfax Ave.:geo:-118.3872632,34.1501988
END:VEVENT
BEGIN:VEVENT
DTSTART;TZID=America/Los_Angeles:20200509T100000
DTEND;TZID=America/Los_Angeles:20200509T120000
DTSTAMP:20260423T175620
CREATED:20200506T231648Z
LAST-MODIFIED:20200506T231648Z
UID:5939-1589018400-1589025600@www.myvalleyvillage.com
SUMMARY:NHIFP Food Drive
DESCRIPTION:Help support the North Hollywood Interfaith Food Pantry (NHIFP) and donate items to help those most in need. Donations needed include canned soup\, dry cereal\, proteins in a can\, cleaning supplies and paper or plastic bags. For more information\, contact the NHIFP here: nhifp.org/contact.
URL:https://www.myvalleyvillage.com/event/nhifp-food-drive/
LOCATION:First Christian Church\, 4390 Colfax Ave.\, Studio City
CATEGORIES:events
GEO:34.1501988;-118.3872632
X-APPLE-STRUCTURED-LOCATION;VALUE=URI;X-ADDRESS=First Christian Church 4390 Colfax Ave. Studio City;X-APPLE-RADIUS=500;X-TITLE=4390 Colfax Ave.:geo:-118.3872632,34.1501988
END:VEVENT
BEGIN:VEVENT
DTSTART;TZID=America/Los_Angeles:20181129T100000
DTEND;TZID=America/Los_Angeles:20181129T120000
DTSTAMP:20260423T175620
CREATED:20181103T001333Z
LAST-MODIFIED:20181103T001333Z
UID:4763-1543485600-1543492800@www.myvalleyvillage.com
SUMMARY:Holiday Food & Toy Drive
DESCRIPTION:
URL:https://www.myvalleyvillage.com/event/holiday-food-toy-drive-2/
LOCATION:First Christian Church\, 4390 Colfax Ave.\, Studio City
CATEGORIES:events
GEO:34.1501988;-118.3872632
X-APPLE-STRUCTURED-LOCATION;VALUE=URI;X-ADDRESS=First Christian Church 4390 Colfax Ave. Studio City;X-APPLE-RADIUS=500;X-TITLE=4390 Colfax Ave.:geo:-118.3872632,34.1501988
END:VEVENT
BEGIN:VEVENT
DTSTART;TZID=America/Los_Angeles:20171214T100000
DTEND;TZID=America/Los_Angeles:20171214T120000
DTSTAMP:20260423T175620
CREATED:20171205T215751Z
LAST-MODIFIED:20171205T215751Z
UID:4081-1513245600-1513252800@www.myvalleyvillage.com
SUMMARY:Holiday Food & Toy Drive
DESCRIPTION:
URL:https://www.myvalleyvillage.com/event/holiday-food-toy-drive/
LOCATION:First Christian Church\, 4390 Colfax Ave.\, Studio City
CATEGORIES:events
GEO:34.1501988;-118.3872632
X-APPLE-STRUCTURED-LOCATION;VALUE=URI;X-ADDRESS=First Christian Church 4390 Colfax Ave. Studio City;X-APPLE-RADIUS=500;X-TITLE=4390 Colfax Ave.:geo:-118.3872632,34.1501988
END:VEVENT
END:VCALENDAR