BEGIN:VCALENDAR
VERSION:2.0
PRODID:-//Neighborhood Council Valley Village - ECPv6.15.20//NONSGML v1.0//EN
CALSCALE:GREGORIAN
METHOD:PUBLISH
X-ORIGINAL-URL:https://www.myvalleyvillage.com
X-WR-CALDESC:Events for Neighborhood Council Valley Village
REFRESH-INTERVAL;VALUE=DURATION:PT1H
X-Robots-Tag:noindex
X-PUBLISHED-TTL:PT1H
BEGIN:VTIMEZONE
TZID:America/Los_Angeles
BEGIN:DAYLIGHT
TZOFFSETFROM:-0800
TZOFFSETTO:-0700
TZNAME:PDT
DTSTART:20160313T100000
END:DAYLIGHT
BEGIN:STANDARD
TZOFFSETFROM:-0700
TZOFFSETTO:-0800
TZNAME:PST
DTSTART:20161106T090000
END:STANDARD
BEGIN:DAYLIGHT
TZOFFSETFROM:-0800
TZOFFSETTO:-0700
TZNAME:PDT
DTSTART:20170312T100000
END:DAYLIGHT
BEGIN:STANDARD
TZOFFSETFROM:-0700
TZOFFSETTO:-0800
TZNAME:PST
DTSTART:20171105T090000
END:STANDARD
BEGIN:DAYLIGHT
TZOFFSETFROM:-0800
TZOFFSETTO:-0700
TZNAME:PDT
DTSTART:20180311T100000
END:DAYLIGHT
BEGIN:STANDARD
TZOFFSETFROM:-0700
TZOFFSETTO:-0800
TZNAME:PST
DTSTART:20181104T090000
END:STANDARD
END:VTIMEZONE
BEGIN:VEVENT
DTSTART;TZID=America/Los_Angeles:20170611T110000
DTEND;TZID=America/Los_Angeles:20170611T150000
DTSTAMP:20260423T225144
CREATED:20170610T010524Z
LAST-MODIFIED:20170610T010540Z
UID:3710-1497178800-1497193200@www.myvalleyvillage.com
SUMMARY:Adopt a New Member for Your Family
DESCRIPTION:On June 11\, from 11am to 3pm\, you can add a furry friend to your family!  Sponsored by LA Animal Services and the Los Angeles Fire Department\, a pet adoption event will be held at the LAFD Operations Valley Bureau\, Fire Station 83\, 4960 Balboa Boulevard\, Encino 91316.
URL:https://www.myvalleyvillage.com/event/adopt-a-new-member-for-your-family/
LOCATION:Fire Station 83\, 4960 Balboa Blvd\, Encino\, 91316
CATEGORIES:events
GEO:34.1611074;-118.5006781
X-APPLE-STRUCTURED-LOCATION;VALUE=URI;X-ADDRESS=Fire Station 83 4960 Balboa Blvd Encino 91316;X-APPLE-RADIUS=500;X-TITLE=4960 Balboa Blvd:geo:-118.5006781,34.1611074
END:VEVENT
END:VCALENDAR