BEGIN:VCALENDAR
VERSION:2.0
PRODID:-//Neighborhood Council Valley Village - ECPv6.15.20//NONSGML v1.0//EN
CALSCALE:GREGORIAN
METHOD:PUBLISH
X-WR-CALNAME:Neighborhood Council Valley Village
X-ORIGINAL-URL:https://www.myvalleyvillage.com
X-WR-CALDESC:Events for Neighborhood Council Valley Village
REFRESH-INTERVAL;VALUE=DURATION:PT1H
X-Robots-Tag:noindex
X-PUBLISHED-TTL:PT1H
BEGIN:VTIMEZONE
TZID:America/Los_Angeles
BEGIN:DAYLIGHT
TZOFFSETFROM:-0800
TZOFFSETTO:-0700
TZNAME:PDT
DTSTART:20180311T100000
END:DAYLIGHT
BEGIN:STANDARD
TZOFFSETFROM:-0700
TZOFFSETTO:-0800
TZNAME:PST
DTSTART:20181104T090000
END:STANDARD
BEGIN:DAYLIGHT
TZOFFSETFROM:-0800
TZOFFSETTO:-0700
TZNAME:PDT
DTSTART:20190310T100000
END:DAYLIGHT
BEGIN:STANDARD
TZOFFSETFROM:-0700
TZOFFSETTO:-0800
TZNAME:PST
DTSTART:20191103T090000
END:STANDARD
BEGIN:DAYLIGHT
TZOFFSETFROM:-0800
TZOFFSETTO:-0700
TZNAME:PDT
DTSTART:20200308T100000
END:DAYLIGHT
BEGIN:STANDARD
TZOFFSETFROM:-0700
TZOFFSETTO:-0800
TZNAME:PST
DTSTART:20201101T090000
END:STANDARD
BEGIN:DAYLIGHT
TZOFFSETFROM:-0800
TZOFFSETTO:-0700
TZNAME:PDT
DTSTART:20210314T100000
END:DAYLIGHT
BEGIN:STANDARD
TZOFFSETFROM:-0700
TZOFFSETTO:-0800
TZNAME:PST
DTSTART:20211107T090000
END:STANDARD
BEGIN:DAYLIGHT
TZOFFSETFROM:-0800
TZOFFSETTO:-0700
TZNAME:PDT
DTSTART:20220313T100000
END:DAYLIGHT
BEGIN:STANDARD
TZOFFSETFROM:-0700
TZOFFSETTO:-0800
TZNAME:PST
DTSTART:20221106T090000
END:STANDARD
BEGIN:DAYLIGHT
TZOFFSETFROM:-0800
TZOFFSETTO:-0700
TZNAME:PDT
DTSTART:20230312T100000
END:DAYLIGHT
BEGIN:STANDARD
TZOFFSETFROM:-0700
TZOFFSETTO:-0800
TZNAME:PST
DTSTART:20231105T090000
END:STANDARD
BEGIN:DAYLIGHT
TZOFFSETFROM:-0800
TZOFFSETTO:-0700
TZNAME:PDT
DTSTART:20240310T100000
END:DAYLIGHT
BEGIN:STANDARD
TZOFFSETFROM:-0700
TZOFFSETTO:-0800
TZNAME:PST
DTSTART:20241103T090000
END:STANDARD
END:VTIMEZONE
BEGIN:VEVENT
DTSTART;TZID=America/Los_Angeles:20230605T190000
DTEND;TZID=America/Los_Angeles:20230605T200000
DTSTAMP:20260423T230000
CREATED:20230605T200407Z
LAST-MODIFIED:20230605T200724Z
UID:9106-1685991600-1685995200@www.myvalleyvillage.com
SUMMARY:Special Meeting
DESCRIPTION:We will hold a specially scheduled NCVV Meeting June 5\, 7pm at Faith Presbyterian Church. \nJune 5\, 2023 Special Board Meeting Agenda
URL:https://www.myvalleyvillage.com/event/special-meeting-8/
LOCATION:Faith Presbyterian Church\, 5000 Colfax\, Valley Village
CATEGORIES:meetings
GEO:34.1616807;-118.3874832
X-APPLE-STRUCTURED-LOCATION;VALUE=URI;X-ADDRESS=Faith Presbyterian Church 5000 Colfax Valley Village;X-APPLE-RADIUS=500;X-TITLE=5000 Colfax:geo:-118.3874832,34.1616807
END:VEVENT
BEGIN:VEVENT
DTSTART;TZID=America/Los_Angeles:20230513T093000
DTEND;TZID=America/Los_Angeles:20230513T110000
DTSTAMP:20260423T230000
CREATED:20230320T183554Z
LAST-MODIFIED:20230503T002733Z
UID:8875-1683970200-1683975600@www.myvalleyvillage.com
SUMMARY:Coffee With A Cop
DESCRIPTION:
URL:https://www.myvalleyvillage.com/event/coffee-with-a-cop-6/
LOCATION:Faith Presbyterian Church\, 5000 Colfax\, Valley Village
CATEGORIES:events
GEO:34.1616807;-118.3874832
X-APPLE-STRUCTURED-LOCATION;VALUE=URI;X-ADDRESS=Faith Presbyterian Church 5000 Colfax Valley Village;X-APPLE-RADIUS=500;X-TITLE=5000 Colfax:geo:-118.3874832,34.1616807
END:VEVENT
BEGIN:VEVENT
DTSTART;TZID=America/Los_Angeles:20230510T190000
DTEND;TZID=America/Los_Angeles:20230510T203000
DTSTAMP:20260423T230000
CREATED:20230508T231732Z
LAST-MODIFIED:20230508T231732Z
UID:9060-1683745200-1683750600@www.myvalleyvillage.com
SUMMARY:Planning and Land Use Committee Meeting
DESCRIPTION:Join us for the NCVV Planning and Land Use Committee Meeting May 10\, 7pm at Faith Presbyterian Church\, 5000 Colfax Ave. \nMay 10\, 2023 Planning and Land Use Committee Agenda
URL:https://www.myvalleyvillage.com/event/planning-and-land-use-committee-meeting-20/
LOCATION:Faith Presbyterian Church\, 5000 Colfax\, Valley Village
CATEGORIES:meetings
GEO:34.1616807;-118.3874832
X-APPLE-STRUCTURED-LOCATION;VALUE=URI;X-ADDRESS=Faith Presbyterian Church 5000 Colfax Valley Village;X-APPLE-RADIUS=500;X-TITLE=5000 Colfax:geo:-118.3874832,34.1616807
END:VEVENT
BEGIN:VEVENT
DTSTART;TZID=America/Los_Angeles:20230509T190000
DTEND;TZID=America/Los_Angeles:20230509T203000
DTSTAMP:20260423T230000
CREATED:20230506T045058Z
LAST-MODIFIED:20230508T232202Z
UID:9055-1683658800-1683664200@www.myvalleyvillage.com
SUMMARY:City Services Committee Meeting
DESCRIPTION:May 9\, 2023 City Services Committee Agenda
URL:https://www.myvalleyvillage.com/event/city-services-committee-meeting-21/
LOCATION:Faith Presbyterian Church\, 5000 Colfax\, Valley Village
CATEGORIES:meetings
GEO:34.1616807;-118.3874832
X-APPLE-STRUCTURED-LOCATION;VALUE=URI;X-ADDRESS=Faith Presbyterian Church 5000 Colfax Valley Village;X-APPLE-RADIUS=500;X-TITLE=5000 Colfax:geo:-118.3874832,34.1616807
END:VEVENT
BEGIN:VEVENT
DTSTART;TZID=America/Los_Angeles:20230426T190000
DTEND;TZID=America/Los_Angeles:20230426T210000
DTSTAMP:20260423T230000
CREATED:20221118T184019Z
LAST-MODIFIED:20230426T005729Z
UID:8517-1682535600-1682542800@www.myvalleyvillage.com
SUMMARY:Board Meeting
DESCRIPTION:Join us for our In Person meeting of the Neighborhood Council Valley Village\, April 26\, 7pm at Faith Presbyterian Church. \nMeeting documents: \n\nApril 26\, 2023 Board Agenda\nFY23 March NCVV Monthly Expenditure Report\nFY232 March NCVV Transaction Registry (1)\nVVNCBrdMtg2-23\nVVNCBrdMtg3-23
URL:https://www.myvalleyvillage.com/event/board-meeting-4-2023-04-26/
LOCATION:Faith Presbyterian Church\, 5000 Colfax\, Valley Village
CATEGORIES:meetings
GEO:34.1616807;-118.3874832
X-APPLE-STRUCTURED-LOCATION;VALUE=URI;X-ADDRESS=Faith Presbyterian Church 5000 Colfax Valley Village;X-APPLE-RADIUS=500;X-TITLE=5000 Colfax:geo:-118.3874832,34.1616807
END:VEVENT
BEGIN:VEVENT
DTSTART;TZID=America/Los_Angeles:20230419T193000
DTEND;TZID=America/Los_Angeles:20230419T210000
DTSTAMP:20260423T230000
CREATED:20230420T152953Z
LAST-MODIFIED:20230420T152953Z
UID:8896-1681932600-1681938000@www.myvalleyvillage.com
SUMMARY:Elections & Bylaws Committee Meeting
DESCRIPTION:April 19\, 2023 Special Meeting Elections and Bylaws Committee Agenda
URL:https://www.myvalleyvillage.com/event/elections-bylaws-committee-meeting-15/
LOCATION:Faith Presbyterian Church\, 5000 Colfax\, Valley Village
CATEGORIES:meetings
GEO:34.1616807;-118.3874832
X-APPLE-STRUCTURED-LOCATION;VALUE=URI;X-ADDRESS=Faith Presbyterian Church 5000 Colfax Valley Village;X-APPLE-RADIUS=500;X-TITLE=5000 Colfax:geo:-118.3874832,34.1616807
END:VEVENT
BEGIN:VEVENT
DTSTART;TZID=America/Los_Angeles:20220704T080000
DTEND;TZID=America/Los_Angeles:20220704T094500
DTSTAMP:20260423T230000
CREATED:20220622T231609Z
LAST-MODIFIED:20220630T165120Z
UID:8094-1656921600-1656927900@www.myvalleyvillage.com
SUMMARY:Pancake Breakfast
DESCRIPTION:
URL:https://www.myvalleyvillage.com/event/pancake-breakfast-2/
LOCATION:Faith Presbyterian Church\, 5000 Colfax\, Valley Village
CATEGORIES:events
GEO:34.1616807;-118.3874832
X-APPLE-STRUCTURED-LOCATION;VALUE=URI;X-ADDRESS=Faith Presbyterian Church 5000 Colfax Valley Village;X-APPLE-RADIUS=500;X-TITLE=5000 Colfax:geo:-118.3874832,34.1616807
END:VEVENT
BEGIN:VEVENT
DTSTART;TZID=America/Los_Angeles:20201216T190000
DTEND;TZID=America/Los_Angeles:20201216T210000
DTSTAMP:20260423T230000
CREATED:20191119T230231Z
LAST-MODIFIED:20201212T205748Z
UID:5586-1608145200-1608152400@www.myvalleyvillage.com
SUMMARY:Light Up Valley Village
DESCRIPTION:Enjoy Light Up Valley Village which we are holding in place of our December Meeting \nPlease join your NCVV Board of Directors and your friends and neighbors as we join together for the 10th anniversary of one of our most cherished neighborhood events.  Light Up Valley Village @Home will be hosted by Village Arts own Pam Schaffer\, and will spotlight a variety of talents from Valley Village residents\, including the North Hollywood High Orchestra and Band\, our Colfax School principal and many more.  Most importantly we’re very excited that Santa himself has agreed to join the show! \nProduced by Luke Simon and our NCVV Student Committee\, this year’s holiday celebration will be completely online so you and your family can participate safely from your home.  Visit myvalleyvillage.com to register to participate in the ZOOM call\, then join us on December 16 at 7:30 pm sharp to kick off the holidays in style at the 10th Annual Light Up Valley Village! \nRegister Now!
URL:https://www.myvalleyvillage.com/event/ncvv-board-meeting-9-2020-12-23/
LOCATION:Faith Presbyterian Church\, 5000 Colfax\, Valley Village
CATEGORIES:meetings
GEO:34.1616807;-118.3874832
X-APPLE-STRUCTURED-LOCATION;VALUE=URI;X-ADDRESS=Faith Presbyterian Church 5000 Colfax Valley Village;X-APPLE-RADIUS=500;X-TITLE=5000 Colfax:geo:-118.3874832,34.1616807
END:VEVENT
BEGIN:VEVENT
DTSTART;TZID=America/Los_Angeles:20201118T190000
DTEND;TZID=America/Los_Angeles:20201118T210000
DTSTAMP:20260423T230000
CREATED:20191119T230231Z
LAST-MODIFIED:20201118T220754Z
UID:5583-1605726000-1605733200@www.myvalleyvillage.com
SUMMARY:NCVV Board Meeting
DESCRIPTION:November 18\, 2020 Board Agenda\nNCVV October 2020_MER
URL:https://www.myvalleyvillage.com/event/ncvv-board-meeting-9-2020-11-25/
LOCATION:Faith Presbyterian Church\, 5000 Colfax\, Valley Village
CATEGORIES:meetings
GEO:34.1616807;-118.3874832
X-APPLE-STRUCTURED-LOCATION;VALUE=URI;X-ADDRESS=Faith Presbyterian Church 5000 Colfax Valley Village;X-APPLE-RADIUS=500;X-TITLE=5000 Colfax:geo:-118.3874832,34.1616807
END:VEVENT
BEGIN:VEVENT
DTSTART;TZID=America/Los_Angeles:20201031T120000
DTEND;TZID=America/Los_Angeles:20201031T180000
DTSTAMP:20260423T230000
CREATED:20201002T214620Z
LAST-MODIFIED:20201002T214620Z
UID:6530-1604145600-1604167200@www.myvalleyvillage.com
SUMMARY:Halloween Hoopla
DESCRIPTION:Register for the Halloween Hoopla which you can experience from the safety of your own car: https://www.villageartstheatre.org
URL:https://www.myvalleyvillage.com/event/halloween-hoopla/
LOCATION:Faith Presbyterian Church\, 5000 Colfax\, Valley Village
CATEGORIES:events
GEO:34.1616807;-118.3874832
X-APPLE-STRUCTURED-LOCATION;VALUE=URI;X-ADDRESS=Faith Presbyterian Church 5000 Colfax Valley Village;X-APPLE-RADIUS=500;X-TITLE=5000 Colfax:geo:-118.3874832,34.1616807
END:VEVENT
BEGIN:VEVENT
DTSTART;TZID=America/Los_Angeles:20201028T190000
DTEND;TZID=America/Los_Angeles:20201028T210000
DTSTAMP:20260423T230000
CREATED:20191119T230231Z
LAST-MODIFIED:20201028T014641Z
UID:5582-1603911600-1603918800@www.myvalleyvillage.com
SUMMARY:NCVV Board Meeting
DESCRIPTION:October 28\, 2020 Agenda \nOctober 28\, 2020 Special Agenda
URL:https://www.myvalleyvillage.com/event/ncvv-board-meeting-9-2020-10-28/
LOCATION:Faith Presbyterian Church\, 5000 Colfax\, Valley Village
CATEGORIES:meetings
GEO:34.1616807;-118.3874832
X-APPLE-STRUCTURED-LOCATION;VALUE=URI;X-ADDRESS=Faith Presbyterian Church 5000 Colfax Valley Village;X-APPLE-RADIUS=500;X-TITLE=5000 Colfax:geo:-118.3874832,34.1616807
END:VEVENT
BEGIN:VEVENT
DTSTART;TZID=America/Los_Angeles:20200923T190000
DTEND;TZID=America/Los_Angeles:20200923T210000
DTSTAMP:20260423T230000
CREATED:20191119T230231Z
LAST-MODIFIED:20200923T212448Z
UID:5581-1600887600-1600894800@www.myvalleyvillage.com
SUMMARY:NCVV Board Meeting
DESCRIPTION:Join us for our next Neighborhood Council Valley Village Meeting on Wednesday\, September 23\, 7pm. \nWe will have a presentation on the Valley Village Street Tree Inventory. \nJoin: https://zoom.us/j/92878079138 \nor phone: 669-900-6833\, or 833-548-0276 and enter meeting ID 928 7807 9138 \nSeptember 23\, 2020 Agenda \nAugust 2020_MER NCVV \nMeets the 4th Wednesday
URL:https://www.myvalleyvillage.com/event/ncvv-board-meeting-9-2020-09-23/
LOCATION:Faith Presbyterian Church\, 5000 Colfax\, Valley Village
CATEGORIES:meetings
GEO:34.1616807;-118.3874832
X-APPLE-STRUCTURED-LOCATION;VALUE=URI;X-ADDRESS=Faith Presbyterian Church 5000 Colfax Valley Village;X-APPLE-RADIUS=500;X-TITLE=5000 Colfax:geo:-118.3874832,34.1616807
END:VEVENT
BEGIN:VEVENT
DTSTART;TZID=America/Los_Angeles:20200826T190000
DTEND;TZID=America/Los_Angeles:20200826T210000
DTSTAMP:20260423T230000
CREATED:20191119T230231Z
LAST-MODIFIED:20200826T172830Z
UID:5580-1598468400-1598475600@www.myvalleyvillage.com
SUMMARY:NCVV Board Meeting
DESCRIPTION:Please join us for our next Neighborhood Council Valley Village meeting on Wednesday\, August 26\, 7pm. \nTo join the meeting:\nCall 669-900-6833\, or 833-548-0276 and enter meeting ID 954 4022 4321 and press #\nor Join Online: https://zoom.us/j/95440224321 \nOn our agenda: \n\nA tribute to Women’s Suffrage 100th Anniversary\nUpdate on soundwalls\nStormwater Parks Capture Program\nPending State Assembly/Senate Legislation related to Land Use\n96 Pallet Homeless Housing at Alexandria Park\nWest Valley Animal Shelter\nProposed changes to Valley bus lines\n\nMeeting documents: \n\nAugust 26\, 2020 Board Agenda\nMooks Arbor NCVV Tree Maintenance\nNCVV Moore Business Results Website Management Proposal FY2021\nBartlett Tree Proposal NCVV\nNCVV June 14 2020 Special Called Meeting of the Board minutes\nNCVV June 2020 Board meeting and Town Hall Forum on Homelessness\nNCVV July 2020 Board minutes\nNCVV Communications Report August 2020\n\nCity Hall in purple and gold\, the colors of the Women’s Suffrage Movement
URL:https://www.myvalleyvillage.com/event/ncvv-board-meeting-9-2020-08-26/
LOCATION:Faith Presbyterian Church\, 5000 Colfax\, Valley Village
CATEGORIES:meetings
GEO:34.1616807;-118.3874832
X-APPLE-STRUCTURED-LOCATION;VALUE=URI;X-ADDRESS=Faith Presbyterian Church 5000 Colfax Valley Village;X-APPLE-RADIUS=500;X-TITLE=5000 Colfax:geo:-118.3874832,34.1616807
END:VEVENT
BEGIN:VEVENT
DTSTART;TZID=America/Los_Angeles:20200624T190000
DTEND;TZID=America/Los_Angeles:20200624T210000
DTSTAMP:20260423T230000
CREATED:20191119T230231Z
LAST-MODIFIED:20200619T165903Z
UID:5578-1593025200-1593032400@www.myvalleyvillage.com
SUMMARY:NCVV Bridging the Gap Town Hall
DESCRIPTION:Neighborhood Council Valley Village has partnered with the office of State Assemblymember Adrin Nazarian to host “Bridging The Gap”\, a town hall forum on renter’s rights and unemployment assistance. Join us as we hear about resources and support that can help you with issues such as: \n\nAvoiding eviction or other consequences if you’re unable to pay rent\nHelp navigating the EDD/Unemployment process to initiate your claim for benefits\nHow to seek an extension if your initial benefits have expired\n\nOur panel of experts includes Larry Gross\, Executive Director of Coalition for Economic Survival\, Emma Taylor\, District Director for Assemblymember Adrin Nazarian\, and Stephanie Mkhlian\, Field Representative Assemblymember Adrin Nazarian \nThe panelists will answer questions during the webinar – click here to submit your question before the meeting or you can ask questions of our experts during the webinar. \nPlease join us Wednesday\, June 24\, 7:00 pm to 8:30 pm to find out about resources that are available to help you and your family. \nYou are invited to a Zoom webinar.\nWhen: Jun 24\, 2020 07:00 PM Pacific Time (US and Canada)\nTopic: Bridging The GapPlease click the link below to join the webinar:\nhttps://zoom.us/j/96005123645Or iPhone one-tap :\nUS: +16699006833\,\,96005123645#  or +13462487799\,\,96005123645#\nOr Telephone:\nDial(for higher quality\, dial a number based on your current location):\nUS: +1 669 900 6833  or  888 475 4499 (Toll Free) \n\n\n    Webinar ID: 960 0512 3645\nInternational numbers available: https://zoom.us/u/adJXV7Hfnb\n\nJune 24\, 2020 Board Meeting & Town Hall Agenda
URL:https://www.myvalleyvillage.com/event/ncvv-board-meeting-9-2020-06-24/
LOCATION:Faith Presbyterian Church\, 5000 Colfax\, Valley Village
CATEGORIES:meetings
GEO:34.1616807;-118.3874832
X-APPLE-STRUCTURED-LOCATION;VALUE=URI;X-ADDRESS=Faith Presbyterian Church 5000 Colfax Valley Village;X-APPLE-RADIUS=500;X-TITLE=5000 Colfax:geo:-118.3874832,34.1616807
END:VEVENT
BEGIN:VEVENT
DTSTART;TZID=America/Los_Angeles:20200325T190000
DTEND;TZID=America/Los_Angeles:20200325T210000
DTSTAMP:20260423T230000
CREATED:20191119T230231Z
LAST-MODIFIED:20200317T171847Z
UID:5575-1585162800-1585170000@www.myvalleyvillage.com
SUMMARY:NCVV Board Meeting-Cancelled
DESCRIPTION:Meets the 4th Wednesday
URL:https://www.myvalleyvillage.com/event/ncvv-board-meeting-9-2020-03-25/
LOCATION:Faith Presbyterian Church\, 5000 Colfax\, Valley Village
CATEGORIES:meetings
GEO:34.1616807;-118.3874832
X-APPLE-STRUCTURED-LOCATION;VALUE=URI;X-ADDRESS=Faith Presbyterian Church 5000 Colfax Valley Village;X-APPLE-RADIUS=500;X-TITLE=5000 Colfax:geo:-118.3874832,34.1616807
END:VEVENT
BEGIN:VEVENT
DTSTART;TZID=America/Los_Angeles:20200311T191500
DTEND;TZID=America/Los_Angeles:20200311T203000
DTSTAMP:20260423T230000
CREATED:20200311T003048Z
LAST-MODIFIED:20200311T003048Z
UID:5830-1583954100-1583958600@www.myvalleyvillage.com
SUMMARY:Planning and Land Use Committee Meeting
DESCRIPTION:March 11\, 2020 Planning and Land Use Agenda
URL:https://www.myvalleyvillage.com/event/planning-and-land-use-committee-meeting-5/
LOCATION:Faith Presbyterian Church\, 5000 Colfax\, Valley Village
CATEGORIES:meetings
GEO:34.1616807;-118.3874832
X-APPLE-STRUCTURED-LOCATION;VALUE=URI;X-ADDRESS=Faith Presbyterian Church 5000 Colfax Valley Village;X-APPLE-RADIUS=500;X-TITLE=5000 Colfax:geo:-118.3874832,34.1616807
END:VEVENT
BEGIN:VEVENT
DTSTART;TZID=America/Los_Angeles:20200226T183000
DTEND;TZID=America/Los_Angeles:20200226T210000
DTSTAMP:20260423T230000
CREATED:20191119T230231Z
LAST-MODIFIED:20200225T225724Z
UID:5574-1582741800-1582750800@www.myvalleyvillage.com
SUMMARY:NCVV Board Meeting
DESCRIPTION:Election information and candidate statements \nFebruary 26\, 2020 Special Election Agenda \nFebruary 26\, 2020 Special Board Agenda \nThe election and meeting will be held at Caldwell Hall of Faith Presbyterian Church \nMeets the 4th Wednesday
URL:https://www.myvalleyvillage.com/event/ncvv-board-meeting-9-2020-02-26/
LOCATION:Faith Presbyterian Church\, 5000 Colfax\, Valley Village
CATEGORIES:meetings
GEO:34.1616807;-118.3874832
X-APPLE-STRUCTURED-LOCATION;VALUE=URI;X-ADDRESS=Faith Presbyterian Church 5000 Colfax Valley Village;X-APPLE-RADIUS=500;X-TITLE=5000 Colfax:geo:-118.3874832,34.1616807
END:VEVENT
BEGIN:VEVENT
DTSTART;TZID=America/Los_Angeles:20200220T193000
DTEND;TZID=America/Los_Angeles:20200220T203000
DTSTAMP:20260423T230000
CREATED:20200214T235734Z
LAST-MODIFIED:20200214T235734Z
UID:5765-1582227000-1582230600@www.myvalleyvillage.com
SUMMARY:Elections & Bylaws Committee Meeting
DESCRIPTION:February 20\, 2020 Elections & Bylaws Agenda
URL:https://www.myvalleyvillage.com/event/elections-bylaws-committee-meeting-3/
LOCATION:Faith Presbyterian Church\, 5000 Colfax\, Valley Village
CATEGORIES:meetings
GEO:34.1616807;-118.3874832
X-APPLE-STRUCTURED-LOCATION;VALUE=URI;X-ADDRESS=Faith Presbyterian Church 5000 Colfax Valley Village;X-APPLE-RADIUS=500;X-TITLE=5000 Colfax:geo:-118.3874832,34.1616807
END:VEVENT
BEGIN:VEVENT
DTSTART;TZID=America/Los_Angeles:20200219T190000
DTEND;TZID=America/Los_Angeles:20200219T203000
DTSTAMP:20260423T230000
CREATED:20200214T235640Z
LAST-MODIFIED:20200214T235640Z
UID:5763-1582138800-1582144200@www.myvalleyvillage.com
SUMMARY:Events & Outreach Committee Meeting
DESCRIPTION:February 19\, 2020 Outreach Agenda
URL:https://www.myvalleyvillage.com/event/events-outreach-committee-meeting-6/
LOCATION:Faith Presbyterian Church\, 5000 Colfax\, Valley Village
CATEGORIES:meetings
GEO:34.1616807;-118.3874832
X-APPLE-STRUCTURED-LOCATION;VALUE=URI;X-ADDRESS=Faith Presbyterian Church 5000 Colfax Valley Village;X-APPLE-RADIUS=500;X-TITLE=5000 Colfax:geo:-118.3874832,34.1616807
END:VEVENT
BEGIN:VEVENT
DTSTART;TZID=America/Los_Angeles:20200212T191500
DTEND;TZID=America/Los_Angeles:20200212T210000
DTSTAMP:20260423T230000
CREATED:20200208T014413Z
LAST-MODIFIED:20200208T014413Z
UID:5739-1581534900-1581541200@www.myvalleyvillage.com
SUMMARY:Planning and Land Use Committee
DESCRIPTION:February 12\, 2020 Planning and Land Use Agenda
URL:https://www.myvalleyvillage.com/event/planning-and-land-use-committee-4/
LOCATION:Faith Presbyterian Church\, 5000 Colfax\, Valley Village
CATEGORIES:meetings
GEO:34.1616807;-118.3874832
X-APPLE-STRUCTURED-LOCATION;VALUE=URI;X-ADDRESS=Faith Presbyterian Church 5000 Colfax Valley Village;X-APPLE-RADIUS=500;X-TITLE=5000 Colfax:geo:-118.3874832,34.1616807
END:VEVENT
BEGIN:VEVENT
DTSTART;TZID=America/Los_Angeles:20200122T190000
DTEND;TZID=America/Los_Angeles:20200122T210000
DTSTAMP:20260423T230000
CREATED:20191119T230231Z
LAST-MODIFIED:20200117T231624Z
UID:5572-1579719600-1579726800@www.myvalleyvillage.com
SUMMARY:NCVV Board Meeting
DESCRIPTION:Please join us for our NCVV Meeting on January 22\, 7pm at Faith Presbyterian Church. We will have an opportunity for Councilmember Paul Krekorian to speak and answer your questions. \nJanuary 22\, 2020 Board Agenda
URL:https://www.myvalleyvillage.com/event/ncvv-board-meeting-9/
LOCATION:Faith Presbyterian Church\, 5000 Colfax\, Valley Village
CATEGORIES:meetings
GEO:34.1616807;-118.3874832
X-APPLE-STRUCTURED-LOCATION;VALUE=URI;X-ADDRESS=Faith Presbyterian Church 5000 Colfax Valley Village;X-APPLE-RADIUS=500;X-TITLE=5000 Colfax:geo:-118.3874832,34.1616807
END:VEVENT
BEGIN:VEVENT
DTSTART;TZID=America/Los_Angeles:20200116T193000
DTEND;TZID=America/Los_Angeles:20200116T203000
DTSTAMP:20260423T230000
CREATED:20200115T203415Z
LAST-MODIFIED:20200115T203415Z
UID:5672-1579203000-1579206600@www.myvalleyvillage.com
SUMMARY:Elections & Bylaws Committee Meeting
DESCRIPTION:January 16\, 2020 Elections & Bylaws Agenda
URL:https://www.myvalleyvillage.com/event/elections-bylaws-committee-meeting-2/
LOCATION:Faith Presbyterian Church\, 5000 Colfax\, Valley Village
CATEGORIES:meetings
GEO:34.1616807;-118.3874832
X-APPLE-STRUCTURED-LOCATION;VALUE=URI;X-ADDRESS=Faith Presbyterian Church 5000 Colfax Valley Village;X-APPLE-RADIUS=500;X-TITLE=5000 Colfax:geo:-118.3874832,34.1616807
END:VEVENT
BEGIN:VEVENT
DTSTART;TZID=America/Los_Angeles:20200114T190000
DTEND;TZID=America/Los_Angeles:20200114T200000
DTSTAMP:20260423T230000
CREATED:20200115T203524Z
LAST-MODIFIED:20200115T203524Z
UID:5674-1579028400-1579032000@www.myvalleyvillage.com
SUMMARY:Events and Outreach Committee Meeting
DESCRIPTION:January 14\, 2020 Events & Outreach Special Meeting Agenda
URL:https://www.myvalleyvillage.com/event/eventsoutreach/
LOCATION:Faith Presbyterian Church\, 5000 Colfax\, Valley Village
CATEGORIES:meetings
GEO:34.1616807;-118.3874832
X-APPLE-STRUCTURED-LOCATION;VALUE=URI;X-ADDRESS=Faith Presbyterian Church 5000 Colfax Valley Village;X-APPLE-RADIUS=500;X-TITLE=5000 Colfax:geo:-118.3874832,34.1616807
END:VEVENT
BEGIN:VEVENT
DTSTART;TZID=America/Los_Angeles:20191113T190000
DTEND;TZID=America/Los_Angeles:20191113T210000
DTSTAMP:20260423T230000
CREATED:20181129T181225Z
LAST-MODIFIED:20191107T172651Z
UID:4826-1573671600-1573678800@www.myvalleyvillage.com
SUMMARY:NCVV Board Meeting
DESCRIPTION:November 13\, 2019 Board Agenda
URL:https://www.myvalleyvillage.com/event/ncvv-board-meeting-8/
LOCATION:Faith Presbyterian Church\, 5000 Colfax\, Valley Village
CATEGORIES:meetings
GEO:34.1616807;-118.3874832
X-APPLE-STRUCTURED-LOCATION;VALUE=URI;X-ADDRESS=Faith Presbyterian Church 5000 Colfax Valley Village;X-APPLE-RADIUS=500;X-TITLE=5000 Colfax:geo:-118.3874832,34.1616807
END:VEVENT
BEGIN:VEVENT
DTSTART;TZID=America/Los_Angeles:20191108T170000
DTEND;TZID=America/Los_Angeles:20191108T203000
DTSTAMP:20260423T230000
CREATED:20191101T191453Z
LAST-MODIFIED:20191101T191453Z
UID:5517-1573232400-1573245000@www.myvalleyvillage.com
SUMMARY:Holiday Hootenanny
DESCRIPTION:Hootenanny is an informal gathering with singing\, dancing\, pick up music and frivolity. Begins right after last performance of Alice in Wonderland. \nPotluck and BYOB\, free\, everyone invited. \n 
URL:https://www.myvalleyvillage.com/event/holiday-hootenanny/
LOCATION:Faith Presbyterian Church\, 5000 Colfax\, Valley Village
CATEGORIES:events
GEO:34.1616807;-118.3874832
X-APPLE-STRUCTURED-LOCATION;VALUE=URI;X-ADDRESS=Faith Presbyterian Church 5000 Colfax Valley Village;X-APPLE-RADIUS=500;X-TITLE=5000 Colfax:geo:-118.3874832,34.1616807
END:VEVENT
BEGIN:VEVENT
DTSTART;TZID=America/Los_Angeles:20191106T190000
DTEND;TZID=America/Los_Angeles:20191106T210000
DTSTAMP:20260423T230000
CREATED:20191101T192239Z
LAST-MODIFIED:20191101T192239Z
UID:5523-1573066800-1573074000@www.myvalleyvillage.com
SUMMARY:Village Arts Theater Performances
DESCRIPTION:
URL:https://www.myvalleyvillage.com/event/village-arts-theater-performances/
LOCATION:Faith Presbyterian Church\, 5000 Colfax\, Valley Village
CATEGORIES:events
GEO:34.1616807;-118.3874832
X-APPLE-STRUCTURED-LOCATION;VALUE=URI;X-ADDRESS=Faith Presbyterian Church 5000 Colfax Valley Village;X-APPLE-RADIUS=500;X-TITLE=5000 Colfax:geo:-118.3874832,34.1616807
END:VEVENT
BEGIN:VEVENT
DTSTART;TZID=America/Los_Angeles:20191023T190000
DTEND;TZID=America/Los_Angeles:20191023T210000
DTSTAMP:20260423T230000
CREATED:20181116T224455Z
LAST-MODIFIED:20191016T210807Z
UID:4806-1571857200-1571864400@www.myvalleyvillage.com
SUMMARY:NCVV Board Meeting-Cancelled
DESCRIPTION:The October meeting of NCVV’s Board of Directors has been cancelled. The next meeting will be held on November 13\, 2019.
URL:https://www.myvalleyvillage.com/event/ncvv-board-meeting-6-2019-10-23/
LOCATION:Faith Presbyterian Church\, 5000 Colfax\, Valley Village
CATEGORIES:meetings
GEO:34.1616807;-118.3874832
X-APPLE-STRUCTURED-LOCATION;VALUE=URI;X-ADDRESS=Faith Presbyterian Church 5000 Colfax Valley Village;X-APPLE-RADIUS=500;X-TITLE=5000 Colfax:geo:-118.3874832,34.1616807
END:VEVENT
BEGIN:VEVENT
DTSTART;TZID=America/Los_Angeles:20191017T193000
DTEND;TZID=America/Los_Angeles:20191017T210000
DTSTAMP:20260423T230000
CREATED:20191015T182144Z
LAST-MODIFIED:20191015T182144Z
UID:5486-1571340600-1571346000@www.myvalleyvillage.com
SUMMARY:Events & Outreach Committee Meeting
DESCRIPTION:October 17\, 2019 Events and Outreach Agenda 2019
URL:https://www.myvalleyvillage.com/event/events-outreach-committee-meeting-5/
LOCATION:Faith Presbyterian Church\, 5000 Colfax\, Valley Village
CATEGORIES:meetings
GEO:34.1616807;-118.3874832
X-APPLE-STRUCTURED-LOCATION;VALUE=URI;X-ADDRESS=Faith Presbyterian Church 5000 Colfax Valley Village;X-APPLE-RADIUS=500;X-TITLE=5000 Colfax:geo:-118.3874832,34.1616807
END:VEVENT
BEGIN:VEVENT
DTSTART;TZID=America/Los_Angeles:20191010T191500
DTEND;TZID=America/Los_Angeles:20191010T210000
DTSTAMP:20260423T230000
CREATED:20191004T234335Z
LAST-MODIFIED:20191009T182524Z
UID:5463-1570734900-1570741200@www.myvalleyvillage.com
SUMMARY:Planning and Land Use Committee Meeting-Cancelled
DESCRIPTION:October 10\, 2019 Planning and Land Use Committee Cancellation Notice \nOctober 10\, 2019 Planning and Land Use Committee Agenda
URL:https://www.myvalleyvillage.com/event/planning-and-land-use-committee-meeting-4/
LOCATION:Faith Presbyterian Church\, 5000 Colfax\, Valley Village
CATEGORIES:meetings
GEO:34.1616807;-118.3874832
X-APPLE-STRUCTURED-LOCATION;VALUE=URI;X-ADDRESS=Faith Presbyterian Church 5000 Colfax Valley Village;X-APPLE-RADIUS=500;X-TITLE=5000 Colfax:geo:-118.3874832,34.1616807
END:VEVENT
BEGIN:VEVENT
DTSTART;TZID=America/Los_Angeles:20190925T190000
DTEND;TZID=America/Los_Angeles:20190925T210000
DTSTAMP:20260423T230000
CREATED:20181116T224455Z
LAST-MODIFIED:20190923T212803Z
UID:4805-1569438000-1569445200@www.myvalleyvillage.com
SUMMARY:NCVV Board Meeting
DESCRIPTION:Meets on the 4th Wednesday of the month in Fellowship Hall. \nSeptember 25\, 2019 Board Agenda
URL:https://www.myvalleyvillage.com/event/ncvv-board-meeting-6-2019-09-25/
LOCATION:Faith Presbyterian Church\, 5000 Colfax\, Valley Village
CATEGORIES:meetings
GEO:34.1616807;-118.3874832
X-APPLE-STRUCTURED-LOCATION;VALUE=URI;X-ADDRESS=Faith Presbyterian Church 5000 Colfax Valley Village;X-APPLE-RADIUS=500;X-TITLE=5000 Colfax:geo:-118.3874832,34.1616807
END:VEVENT
END:VCALENDAR