BEGIN:VCALENDAR
VERSION:2.0
PRODID:-//Neighborhood Council Valley Village - ECPv6.15.20//NONSGML v1.0//EN
CALSCALE:GREGORIAN
METHOD:PUBLISH
X-ORIGINAL-URL:https://www.myvalleyvillage.com
X-WR-CALDESC:Events for Neighborhood Council Valley Village
REFRESH-INTERVAL;VALUE=DURATION:PT1H
X-Robots-Tag:noindex
X-PUBLISHED-TTL:PT1H
BEGIN:VTIMEZONE
TZID:America/Los_Angeles
BEGIN:DAYLIGHT
TZOFFSETFROM:-0800
TZOFFSETTO:-0700
TZNAME:PDT
DTSTART:20190310T100000
END:DAYLIGHT
BEGIN:STANDARD
TZOFFSETFROM:-0700
TZOFFSETTO:-0800
TZNAME:PST
DTSTART:20191103T090000
END:STANDARD
BEGIN:DAYLIGHT
TZOFFSETFROM:-0800
TZOFFSETTO:-0700
TZNAME:PDT
DTSTART:20200308T100000
END:DAYLIGHT
BEGIN:STANDARD
TZOFFSETFROM:-0700
TZOFFSETTO:-0800
TZNAME:PST
DTSTART:20201101T090000
END:STANDARD
BEGIN:DAYLIGHT
TZOFFSETFROM:-0800
TZOFFSETTO:-0700
TZNAME:PDT
DTSTART:20210314T100000
END:DAYLIGHT
BEGIN:STANDARD
TZOFFSETFROM:-0700
TZOFFSETTO:-0800
TZNAME:PST
DTSTART:20211107T090000
END:STANDARD
BEGIN:DAYLIGHT
TZOFFSETFROM:-0800
TZOFFSETTO:-0700
TZNAME:PDT
DTSTART:20220313T100000
END:DAYLIGHT
BEGIN:STANDARD
TZOFFSETFROM:-0700
TZOFFSETTO:-0800
TZNAME:PST
DTSTART:20221106T090000
END:STANDARD
BEGIN:DAYLIGHT
TZOFFSETFROM:-0800
TZOFFSETTO:-0700
TZNAME:PDT
DTSTART:20230312T100000
END:DAYLIGHT
BEGIN:STANDARD
TZOFFSETFROM:-0700
TZOFFSETTO:-0800
TZNAME:PST
DTSTART:20231105T090000
END:STANDARD
BEGIN:DAYLIGHT
TZOFFSETFROM:-0800
TZOFFSETTO:-0700
TZNAME:PDT
DTSTART:20240310T100000
END:DAYLIGHT
BEGIN:STANDARD
TZOFFSETFROM:-0700
TZOFFSETTO:-0800
TZNAME:PST
DTSTART:20241103T090000
END:STANDARD
BEGIN:DAYLIGHT
TZOFFSETFROM:-0800
TZOFFSETTO:-0700
TZNAME:PDT
DTSTART:20250309T100000
END:DAYLIGHT
BEGIN:STANDARD
TZOFFSETFROM:-0700
TZOFFSETTO:-0800
TZNAME:PST
DTSTART:20251102T090000
END:STANDARD
END:VTIMEZONE
BEGIN:VEVENT
DTSTART;TZID=America/Los_Angeles:20240608T100000
DTEND;TZID=America/Los_Angeles:20240608T113000
DTSTAMP:20260423T145510
CREATED:20240514T210641Z
LAST-MODIFIED:20240514T210641Z
UID:9899-1717840800-1717846200@www.myvalleyvillage.com
SUMMARY:Coffee with a Cop
DESCRIPTION:
URL:https://www.myvalleyvillage.com/event/coffee-with-a-cop-7/
LOCATION:Faith Presbyterian Church\, 5000 Colfax\, Valley Village
CATEGORIES:events
GEO:34.1616807;-118.3874832
X-APPLE-STRUCTURED-LOCATION;VALUE=URI;X-ADDRESS=Faith Presbyterian Church 5000 Colfax Valley Village;X-APPLE-RADIUS=500;X-TITLE=5000 Colfax:geo:-118.3874832,34.1616807
END:VEVENT
BEGIN:VEVENT
DTSTART;TZID=America/Los_Angeles:20240522T190000
DTEND;TZID=America/Los_Angeles:20240522T210000
DTSTAMP:20260423T145510
CREATED:20231120T215028Z
LAST-MODIFIED:20240515T193259Z
UID:9700-1716404400-1716411600@www.myvalleyvillage.com
SUMMARY:Board Meeting
DESCRIPTION:Join us for the next meeting of Neighborhood Council Valley Village on Wednesday\, May 22\, 7pm. \nMeeting documents: \n\nNCVV AGENDA MAY 2024 MEETING OF THE BOARD\nFY2025 NCVV NCFP AdminPacket-AnnualBudget\n\nThe meeting will be a Zoom Meeting – Participate Online or by Telephone\nParticipate online: join the meeting at https://us02web.zoom.us/j/86492085294\nParticipate by phone: (888) 475-4499 then enter Webinar ID: 864 9208 5294 and press #
URL:https://www.myvalleyvillage.com/event/board-meeting-2024-05-22/
LOCATION:Faith Presbyterian Church\, 5000 Colfax\, Valley Village
CATEGORIES:board,meetings
GEO:34.1616807;-118.3874832
X-APPLE-STRUCTURED-LOCATION;VALUE=URI;X-ADDRESS=Faith Presbyterian Church 5000 Colfax Valley Village;X-APPLE-RADIUS=500;X-TITLE=5000 Colfax:geo:-118.3874832,34.1616807
END:VEVENT
BEGIN:VEVENT
DTSTART;TZID=America/Los_Angeles:20240226T190000
DTEND;TZID=America/Los_Angeles:20240226T203000
DTSTAMP:20260423T145510
CREATED:20240223T232720Z
LAST-MODIFIED:20240223T232951Z
UID:9666-1708974000-1708979400@www.myvalleyvillage.com
SUMMARY:Community Improvement Committee
DESCRIPTION:Join us for a meeting of the Neighborhood Council Valley Village Community Improvement Committee\, February 26\, 7pm\, at Faith Presbyterian Church\, 5000 Colfax.
URL:https://www.myvalleyvillage.com/event/community-improvement-committee-3/
LOCATION:Faith Presbyterian Church\, 5000 Colfax\, Valley Village
CATEGORIES:Community Improvement,meetings
GEO:34.1616807;-118.3874832
X-APPLE-STRUCTURED-LOCATION;VALUE=URI;X-ADDRESS=Faith Presbyterian Church 5000 Colfax Valley Village;X-APPLE-RADIUS=500;X-TITLE=5000 Colfax:geo:-118.3874832,34.1616807
END:VEVENT
BEGIN:VEVENT
DTSTART;TZID=America/Los_Angeles:20240124T190000
DTEND;TZID=America/Los_Angeles:20240124T210000
DTSTAMP:20260423T145510
CREATED:20231120T214627Z
LAST-MODIFIED:20240120T012827Z
UID:9471-1706122800-1706130000@www.myvalleyvillage.com
SUMMARY:Board Meeting
DESCRIPTION:Join us for the next Neighborhood Council Valley Village Meeting on January 24\, 7pm on Zoom: https://us02web.zoom.us/j/86492085294\nParticipate by phone: (888) 475-4499 then enter Webinar ID: 864 9208 5294 and press # \nJanuary 24\, 2024 Board Agenda
URL:https://www.myvalleyvillage.com/event/board-meeting-7/
LOCATION:Faith Presbyterian Church\, 5000 Colfax\, Valley Village
CATEGORIES:board,meetings
GEO:34.1616807;-118.3874832
X-APPLE-STRUCTURED-LOCATION;VALUE=URI;X-ADDRESS=Faith Presbyterian Church 5000 Colfax Valley Village;X-APPLE-RADIUS=500;X-TITLE=5000 Colfax:geo:-118.3874832,34.1616807
END:VEVENT
BEGIN:VEVENT
DTSTART;TZID=America/Los_Angeles:20240110T190000
DTEND;TZID=America/Los_Angeles:20240110T200000
DTSTAMP:20260423T145510
CREATED:20240110T173726Z
LAST-MODIFIED:20240110T173726Z
UID:9584-1704913200-1704916800@www.myvalleyvillage.com
SUMMARY:Planning and Land Use Committee Meeting Cancelled
DESCRIPTION:NCVV PLU January 2024 CANCELLED Mtg
URL:https://www.myvalleyvillage.com/event/planning-and-land-use-committee-meeting-cancelled-2/
LOCATION:Faith Presbyterian Church\, 5000 Colfax\, Valley Village
CATEGORIES:meetings
GEO:34.1616807;-118.3874832
X-APPLE-STRUCTURED-LOCATION;VALUE=URI;X-ADDRESS=Faith Presbyterian Church 5000 Colfax Valley Village;X-APPLE-RADIUS=500;X-TITLE=5000 Colfax:geo:-118.3874832,34.1616807
END:VEVENT
BEGIN:VEVENT
DTSTART;TZID=America/Los_Angeles:20231207T100000
DTEND;TZID=America/Los_Angeles:20231207T140000
DTSTAMP:20260423T145510
CREATED:20231110T212919Z
LAST-MODIFIED:20231116T221425Z
UID:9450-1701943200-1701957600@www.myvalleyvillage.com
SUMMARY:Toy Drive
DESCRIPTION:
URL:https://www.myvalleyvillage.com/event/toy-drive/
LOCATION:Faith Presbyterian Church\, 5000 Colfax\, Valley Village
CATEGORIES:events
GEO:34.1616807;-118.3874832
X-APPLE-STRUCTURED-LOCATION;VALUE=URI;X-ADDRESS=Faith Presbyterian Church 5000 Colfax Valley Village;X-APPLE-RADIUS=500;X-TITLE=5000 Colfax:geo:-118.3874832,34.1616807
END:VEVENT
BEGIN:VEVENT
DTSTART;TZID=America/Los_Angeles:20231115T190000
DTEND;TZID=America/Los_Angeles:20231115T210000
DTSTAMP:20260423T145510
CREATED:20221118T184118Z
LAST-MODIFIED:20231115T000816Z
UID:8524-1700074800-1700082000@www.myvalleyvillage.com
SUMMARY:Board Meeting
DESCRIPTION:Join us for the next Neighborhood Council Valley Village Meeting Wednesday\, November 15\, 7pm at Faith Presbyterian Church\, 5000 Colfax Ave. \nNovember 15\, 2023 Board Agenda
URL:https://www.myvalleyvillage.com/event/board-meeting-5/
LOCATION:Faith Presbyterian Church\, 5000 Colfax\, Valley Village
CATEGORIES:meetings
GEO:34.1616807;-118.3874832
X-APPLE-STRUCTURED-LOCATION;VALUE=URI;X-ADDRESS=Faith Presbyterian Church 5000 Colfax Valley Village;X-APPLE-RADIUS=500;X-TITLE=5000 Colfax:geo:-118.3874832,34.1616807
END:VEVENT
BEGIN:VEVENT
DTSTART;TZID=America/Los_Angeles:20231114T190000
DTEND;TZID=America/Los_Angeles:20231114T203000
DTSTAMP:20260423T145510
CREATED:20231114T234619Z
LAST-MODIFIED:20231114T234619Z
UID:9453-1699988400-1699993800@www.myvalleyvillage.com
SUMMARY:City Services Committee Meeting
DESCRIPTION:Join us for the NCVV City Services Committee Meeting November 14\, 7pm at Faith Presbyterian Church\, 5000 Colfax. \nNovember 14\, 2023 City Services Committee Agenda
URL:https://www.myvalleyvillage.com/event/city-services-committee-meeting-27/
LOCATION:Faith Presbyterian Church\, 5000 Colfax\, Valley Village
CATEGORIES:meetings
GEO:34.1616807;-118.3874832
X-APPLE-STRUCTURED-LOCATION;VALUE=URI;X-ADDRESS=Faith Presbyterian Church 5000 Colfax Valley Village;X-APPLE-RADIUS=500;X-TITLE=5000 Colfax:geo:-118.3874832,34.1616807
END:VEVENT
BEGIN:VEVENT
DTSTART;TZID=America/Los_Angeles:20231113T190000
DTEND;TZID=America/Los_Angeles:20231113T203000
DTSTAMP:20260423T145510
CREATED:20231110T210937Z
LAST-MODIFIED:20231110T212534Z
UID:9444-1699902000-1699907400@www.myvalleyvillage.com
SUMMARY:Community Improvement Committee Meeting
DESCRIPTION:Join us for the next Community Improvement Committee Meeting November 13\, 7pm at Faith Presbyterian Church\, 5000 Colfax Ave. \nNovember 13\, 2023 Community Improvement Committee Agenda
URL:https://www.myvalleyvillage.com/event/community-improvement-committee-meeting-3/
LOCATION:Faith Presbyterian Church\, 5000 Colfax\, Valley Village
CATEGORIES:meetings
GEO:34.1616807;-118.3874832
X-APPLE-STRUCTURED-LOCATION;VALUE=URI;X-ADDRESS=Faith Presbyterian Church 5000 Colfax Valley Village;X-APPLE-RADIUS=500;X-TITLE=5000 Colfax:geo:-118.3874832,34.1616807
END:VEVENT
BEGIN:VEVENT
DTSTART;TZID=America/Los_Angeles:20231024T190000
DTEND;TZID=America/Los_Angeles:20231024T203000
DTSTAMP:20260423T145510
CREATED:20231018T171743Z
LAST-MODIFIED:20231018T171743Z
UID:9400-1698174000-1698179400@www.myvalleyvillage.com
SUMMARY:City Services Committee Meeting
DESCRIPTION:Join us for the next NCVV City Services Committee Meeting on October 24\, 7pm. \nOctober 24\, 2023 City Services Agenda
URL:https://www.myvalleyvillage.com/event/city-services-committee-meeting-26/
LOCATION:Faith Presbyterian Church\, 5000 Colfax\, Valley Village
CATEGORIES:meetings
GEO:34.1616807;-118.3874832
X-APPLE-STRUCTURED-LOCATION;VALUE=URI;X-ADDRESS=Faith Presbyterian Church 5000 Colfax Valley Village;X-APPLE-RADIUS=500;X-TITLE=5000 Colfax:geo:-118.3874832,34.1616807
END:VEVENT
BEGIN:VEVENT
DTSTART;TZID=America/Los_Angeles:20230913T190000
DTEND;TZID=America/Los_Angeles:20230913T210000
DTSTAMP:20260423T145510
CREATED:20230911T173717Z
LAST-MODIFIED:20230911T174433Z
UID:9336-1694631600-1694638800@www.myvalleyvillage.com
SUMMARY:Planning and Land Use Committee Meeting
DESCRIPTION:Join us for the next meeting of the NCVV Planning and Land Use Committee on September 13\, 7pm. \nSeptember 13\, 2023 Planning and Land Use Agenda
URL:https://www.myvalleyvillage.com/event/planning-and-land-use-committee-meeting-22/
LOCATION:Faith Presbyterian Church\, 5000 Colfax\, Valley Village
CATEGORIES:meetings
GEO:34.1616807;-118.3874832
X-APPLE-STRUCTURED-LOCATION;VALUE=URI;X-ADDRESS=Faith Presbyterian Church 5000 Colfax Valley Village;X-APPLE-RADIUS=500;X-TITLE=5000 Colfax:geo:-118.3874832,34.1616807
END:VEVENT
BEGIN:VEVENT
DTSTART;TZID=America/Los_Angeles:20230912T190000
DTEND;TZID=America/Los_Angeles:20230912T200000
DTSTAMP:20260423T145510
CREATED:20230908T224339Z
LAST-MODIFIED:20230908T224339Z
UID:9331-1694545200-1694548800@www.myvalleyvillage.com
SUMMARY:City Services Committee Meeting
DESCRIPTION:Join us for the NCVV City Services Committee September 12\, 7pm at Faith Presbyterian Church\, 5000 Colfax Ave. \nSeptember 12\, 2023 City Services Agenda
URL:https://www.myvalleyvillage.com/event/city-services-committee-meeting-25/
LOCATION:Faith Presbyterian Church\, 5000 Colfax\, Valley Village
CATEGORIES:meetings
GEO:34.1616807;-118.3874832
X-APPLE-STRUCTURED-LOCATION;VALUE=URI;X-ADDRESS=Faith Presbyterian Church 5000 Colfax Valley Village;X-APPLE-RADIUS=500;X-TITLE=5000 Colfax:geo:-118.3874832,34.1616807
END:VEVENT
BEGIN:VEVENT
DTSTART;TZID=America/Los_Angeles:20230830T190000
DTEND;TZID=America/Los_Angeles:20230830T203000
DTSTAMP:20260423T145510
CREATED:20230821T235707Z
LAST-MODIFIED:20230830T002024Z
UID:9314-1693422000-1693427400@www.myvalleyvillage.com
SUMMARY:Board Meeting
DESCRIPTION:Join us for a specially scheduled meeting of the Neighborhood Council Valley Village on August 30\, 7pm at Faith Presbyterian Church\, 5000 Colfax. \nMeeting documents: \n\nAugust 30\, 2023 Special Agenda\nMER July 2023
URL:https://www.myvalleyvillage.com/event/board-meeting-6/
LOCATION:Faith Presbyterian Church\, 5000 Colfax\, Valley Village
CATEGORIES:meetings
GEO:34.1616807;-118.3874832
X-APPLE-STRUCTURED-LOCATION;VALUE=URI;X-ADDRESS=Faith Presbyterian Church 5000 Colfax Valley Village;X-APPLE-RADIUS=500;X-TITLE=5000 Colfax:geo:-118.3874832,34.1616807
END:VEVENT
BEGIN:VEVENT
DTSTART;TZID=America/Los_Angeles:20230817T190000
DTEND;TZID=America/Los_Angeles:20230817T203000
DTSTAMP:20260423T145510
CREATED:20230803T233647Z
LAST-MODIFIED:20230803T233647Z
UID:9278-1692298800-1692304200@www.myvalleyvillage.com
SUMMARY:Events & Outreach Committee Meeting
DESCRIPTION:Join us for the next meeting of the NCVV Events & Outreach Committee Meeting August 16\, 7pm as we plan our anniversary event. \nAugust 16\, 2023 Events & Outreach Agenda
URL:https://www.myvalleyvillage.com/event/events-outreach-committee-meeting-10/
LOCATION:Faith Presbyterian Church\, 5000 Colfax\, Valley Village
CATEGORIES:meetings
GEO:34.1616807;-118.3874832
X-APPLE-STRUCTURED-LOCATION;VALUE=URI;X-ADDRESS=Faith Presbyterian Church 5000 Colfax Valley Village;X-APPLE-RADIUS=500;X-TITLE=5000 Colfax:geo:-118.3874832,34.1616807
END:VEVENT
BEGIN:VEVENT
DTSTART;TZID=America/Los_Angeles:20230809T190000
DTEND;TZID=America/Los_Angeles:20230809T210000
DTSTAMP:20260423T145510
CREATED:20230804T225013Z
LAST-MODIFIED:20230804T225013Z
UID:9296-1691607600-1691614800@www.myvalleyvillage.com
SUMMARY:Planning and Land Use Committee Meeting
DESCRIPTION:Join us for the NCVV Planning and Land Use Management Committee Meeting August 9\, 7pm at Faith Presbyterian Church. \nAugust 9\, 2023 Planning and Land Use Committee Agenda
URL:https://www.myvalleyvillage.com/event/planning-and-land-use-committee-meeting-21/
LOCATION:Faith Presbyterian Church\, 5000 Colfax\, Valley Village
CATEGORIES:meetings
GEO:34.1616807;-118.3874832
X-APPLE-STRUCTURED-LOCATION;VALUE=URI;X-ADDRESS=Faith Presbyterian Church 5000 Colfax Valley Village;X-APPLE-RADIUS=500;X-TITLE=5000 Colfax:geo:-118.3874832,34.1616807
END:VEVENT
BEGIN:VEVENT
DTSTART;TZID=America/Los_Angeles:20230726T190000
DTEND;TZID=America/Los_Angeles:20230726T210000
DTSTAMP:20260423T145510
CREATED:20221118T184019Z
LAST-MODIFIED:20230726T212635Z
UID:8520-1690398000-1690405200@www.myvalleyvillage.com
SUMMARY:Board Meeting
DESCRIPTION:Join us for the next Neighborhood Council Valley Village Meeting on Wednesday\, July 26\, 7pm at Faith Presbyterian Church\, 5000 Colfax Ave. \nMeeting documents: \n\nJuly 26\, 2023 Board Agenda\nFY23 June NCVV Monthly Expenditure Report\nFY23 June NCVV Transaction Registry (1)\nNCVV NCFP AdminPacket-AnnualBudget\nNCVVBrdMtg6-23
URL:https://www.myvalleyvillage.com/event/board-meeting-4-2023-07-26/
LOCATION:Faith Presbyterian Church\, 5000 Colfax\, Valley Village
CATEGORIES:meetings
GEO:34.1616807;-118.3874832
X-APPLE-STRUCTURED-LOCATION;VALUE=URI;X-ADDRESS=Faith Presbyterian Church 5000 Colfax Valley Village;X-APPLE-RADIUS=500;X-TITLE=5000 Colfax:geo:-118.3874832,34.1616807
END:VEVENT
BEGIN:VEVENT
DTSTART;TZID=America/Los_Angeles:20230704T080000
DTEND;TZID=America/Los_Angeles:20230704T094500
DTSTAMP:20260423T145510
CREATED:20230614T201644Z
LAST-MODIFIED:20230614T201644Z
UID:9147-1688457600-1688463900@www.myvalleyvillage.com
SUMMARY:Pancake Breakfast
DESCRIPTION:
URL:https://www.myvalleyvillage.com/event/pancake-breakfast-3/
LOCATION:Faith Presbyterian Church\, 5000 Colfax\, Valley Village
CATEGORIES:events
GEO:34.1616807;-118.3874832
X-APPLE-STRUCTURED-LOCATION;VALUE=URI;X-ADDRESS=Faith Presbyterian Church 5000 Colfax Valley Village;X-APPLE-RADIUS=500;X-TITLE=5000 Colfax:geo:-118.3874832,34.1616807
END:VEVENT
BEGIN:VEVENT
DTSTART;TZID=America/Los_Angeles:20230703T183000
DTEND;TZID=America/Los_Angeles:20230703T203000
DTSTAMP:20260423T145510
CREATED:20230703T161416Z
LAST-MODIFIED:20230703T161416Z
UID:9205-1688409000-1688416200@www.myvalleyvillage.com
SUMMARY:Special Meeting
DESCRIPTION:July 3\, 2023 Special Meeting Agenda
URL:https://www.myvalleyvillage.com/event/special-meeting-9/
LOCATION:Faith Presbyterian Church\, 5000 Colfax\, Valley Village
CATEGORIES:meetings
GEO:34.1616807;-118.3874832
X-APPLE-STRUCTURED-LOCATION;VALUE=URI;X-ADDRESS=Faith Presbyterian Church 5000 Colfax Valley Village;X-APPLE-RADIUS=500;X-TITLE=5000 Colfax:geo:-118.3874832,34.1616807
END:VEVENT
BEGIN:VEVENT
DTSTART;TZID=America/Los_Angeles:20230628T190000
DTEND;TZID=America/Los_Angeles:20230628T210000
DTSTAMP:20260423T145510
CREATED:20221118T184019Z
LAST-MODIFIED:20230628T161222Z
UID:8519-1687978800-1687986000@www.myvalleyvillage.com
SUMMARY:Board Meeting
DESCRIPTION:Join us for the next Neighborhood Council Valley Village Meeting on Wednesday\, June 28\, 7pm at Faith Presbyterian Church\, 5000 Colfax Ave. \nMeeting documents: \n\nJune 28\, 2023 Board Agenda\nFY23 May NCVV Monthly Expenditure Report\nMASTER FY232 NCVV Transaction Registry
URL:https://www.myvalleyvillage.com/event/board-meeting-4-2023-06-28/
LOCATION:Faith Presbyterian Church\, 5000 Colfax\, Valley Village
CATEGORIES:meetings
GEO:34.1616807;-118.3874832
X-APPLE-STRUCTURED-LOCATION;VALUE=URI;X-ADDRESS=Faith Presbyterian Church 5000 Colfax Valley Village;X-APPLE-RADIUS=500;X-TITLE=5000 Colfax:geo:-118.3874832,34.1616807
END:VEVENT
BEGIN:VEVENT
DTSTART;TZID=America/Los_Angeles:20230613T190000
DTEND;TZID=America/Los_Angeles:20230613T203000
DTSTAMP:20260423T145511
CREATED:20230608T210732Z
LAST-MODIFIED:20230608T210732Z
UID:9123-1686682800-1686688200@www.myvalleyvillage.com
SUMMARY:City Services Committee Meeting
DESCRIPTION:Join us for the NCVV City Services Committee Meeting June 13\, 7pm at Faith Presbyterian Church\, 5000 Colfax Ave. \nJune 13\, 2023 City Services Committee Agenda
URL:https://www.myvalleyvillage.com/event/city-services-committee-meeting-22/
LOCATION:Faith Presbyterian Church\, 5000 Colfax\, Valley Village
CATEGORIES:meetings
GEO:34.1616807;-118.3874832
X-APPLE-STRUCTURED-LOCATION;VALUE=URI;X-ADDRESS=Faith Presbyterian Church 5000 Colfax Valley Village;X-APPLE-RADIUS=500;X-TITLE=5000 Colfax:geo:-118.3874832,34.1616807
END:VEVENT
BEGIN:VEVENT
DTSTART;TZID=America/Los_Angeles:20230605T190000
DTEND;TZID=America/Los_Angeles:20230605T200000
DTSTAMP:20260423T145511
CREATED:20230605T200407Z
LAST-MODIFIED:20230605T200724Z
UID:9106-1685991600-1685995200@www.myvalleyvillage.com
SUMMARY:Special Meeting
DESCRIPTION:We will hold a specially scheduled NCVV Meeting June 5\, 7pm at Faith Presbyterian Church. \nJune 5\, 2023 Special Board Meeting Agenda
URL:https://www.myvalleyvillage.com/event/special-meeting-8/
LOCATION:Faith Presbyterian Church\, 5000 Colfax\, Valley Village
CATEGORIES:meetings
GEO:34.1616807;-118.3874832
X-APPLE-STRUCTURED-LOCATION;VALUE=URI;X-ADDRESS=Faith Presbyterian Church 5000 Colfax Valley Village;X-APPLE-RADIUS=500;X-TITLE=5000 Colfax:geo:-118.3874832,34.1616807
END:VEVENT
BEGIN:VEVENT
DTSTART;TZID=America/Los_Angeles:20230513T093000
DTEND;TZID=America/Los_Angeles:20230513T110000
DTSTAMP:20260423T145511
CREATED:20230320T183554Z
LAST-MODIFIED:20230503T002733Z
UID:8875-1683970200-1683975600@www.myvalleyvillage.com
SUMMARY:Coffee With A Cop
DESCRIPTION:
URL:https://www.myvalleyvillage.com/event/coffee-with-a-cop-6/
LOCATION:Faith Presbyterian Church\, 5000 Colfax\, Valley Village
CATEGORIES:events
GEO:34.1616807;-118.3874832
X-APPLE-STRUCTURED-LOCATION;VALUE=URI;X-ADDRESS=Faith Presbyterian Church 5000 Colfax Valley Village;X-APPLE-RADIUS=500;X-TITLE=5000 Colfax:geo:-118.3874832,34.1616807
END:VEVENT
BEGIN:VEVENT
DTSTART;TZID=America/Los_Angeles:20230510T190000
DTEND;TZID=America/Los_Angeles:20230510T203000
DTSTAMP:20260423T145511
CREATED:20230508T231732Z
LAST-MODIFIED:20230508T231732Z
UID:9060-1683745200-1683750600@www.myvalleyvillage.com
SUMMARY:Planning and Land Use Committee Meeting
DESCRIPTION:Join us for the NCVV Planning and Land Use Committee Meeting May 10\, 7pm at Faith Presbyterian Church\, 5000 Colfax Ave. \nMay 10\, 2023 Planning and Land Use Committee Agenda
URL:https://www.myvalleyvillage.com/event/planning-and-land-use-committee-meeting-20/
LOCATION:Faith Presbyterian Church\, 5000 Colfax\, Valley Village
CATEGORIES:meetings
GEO:34.1616807;-118.3874832
X-APPLE-STRUCTURED-LOCATION;VALUE=URI;X-ADDRESS=Faith Presbyterian Church 5000 Colfax Valley Village;X-APPLE-RADIUS=500;X-TITLE=5000 Colfax:geo:-118.3874832,34.1616807
END:VEVENT
BEGIN:VEVENT
DTSTART;TZID=America/Los_Angeles:20230509T190000
DTEND;TZID=America/Los_Angeles:20230509T203000
DTSTAMP:20260423T145511
CREATED:20230506T045058Z
LAST-MODIFIED:20230508T232202Z
UID:9055-1683658800-1683664200@www.myvalleyvillage.com
SUMMARY:City Services Committee Meeting
DESCRIPTION:May 9\, 2023 City Services Committee Agenda
URL:https://www.myvalleyvillage.com/event/city-services-committee-meeting-21/
LOCATION:Faith Presbyterian Church\, 5000 Colfax\, Valley Village
CATEGORIES:meetings
GEO:34.1616807;-118.3874832
X-APPLE-STRUCTURED-LOCATION;VALUE=URI;X-ADDRESS=Faith Presbyterian Church 5000 Colfax Valley Village;X-APPLE-RADIUS=500;X-TITLE=5000 Colfax:geo:-118.3874832,34.1616807
END:VEVENT
BEGIN:VEVENT
DTSTART;TZID=America/Los_Angeles:20230426T190000
DTEND;TZID=America/Los_Angeles:20230426T210000
DTSTAMP:20260423T145511
CREATED:20221118T184019Z
LAST-MODIFIED:20230426T005729Z
UID:8517-1682535600-1682542800@www.myvalleyvillage.com
SUMMARY:Board Meeting
DESCRIPTION:Join us for our In Person meeting of the Neighborhood Council Valley Village\, April 26\, 7pm at Faith Presbyterian Church. \nMeeting documents: \n\nApril 26\, 2023 Board Agenda\nFY23 March NCVV Monthly Expenditure Report\nFY232 March NCVV Transaction Registry (1)\nVVNCBrdMtg2-23\nVVNCBrdMtg3-23
URL:https://www.myvalleyvillage.com/event/board-meeting-4-2023-04-26/
LOCATION:Faith Presbyterian Church\, 5000 Colfax\, Valley Village
CATEGORIES:meetings
GEO:34.1616807;-118.3874832
X-APPLE-STRUCTURED-LOCATION;VALUE=URI;X-ADDRESS=Faith Presbyterian Church 5000 Colfax Valley Village;X-APPLE-RADIUS=500;X-TITLE=5000 Colfax:geo:-118.3874832,34.1616807
END:VEVENT
BEGIN:VEVENT
DTSTART;TZID=America/Los_Angeles:20230419T193000
DTEND;TZID=America/Los_Angeles:20230419T210000
DTSTAMP:20260423T145511
CREATED:20230420T152953Z
LAST-MODIFIED:20230420T152953Z
UID:8896-1681932600-1681938000@www.myvalleyvillage.com
SUMMARY:Elections & Bylaws Committee Meeting
DESCRIPTION:April 19\, 2023 Special Meeting Elections and Bylaws Committee Agenda
URL:https://www.myvalleyvillage.com/event/elections-bylaws-committee-meeting-15/
LOCATION:Faith Presbyterian Church\, 5000 Colfax\, Valley Village
CATEGORIES:meetings
GEO:34.1616807;-118.3874832
X-APPLE-STRUCTURED-LOCATION;VALUE=URI;X-ADDRESS=Faith Presbyterian Church 5000 Colfax Valley Village;X-APPLE-RADIUS=500;X-TITLE=5000 Colfax:geo:-118.3874832,34.1616807
END:VEVENT
BEGIN:VEVENT
DTSTART;TZID=America/Los_Angeles:20220704T080000
DTEND;TZID=America/Los_Angeles:20220704T094500
DTSTAMP:20260423T145511
CREATED:20220622T231609Z
LAST-MODIFIED:20220630T165120Z
UID:8094-1656921600-1656927900@www.myvalleyvillage.com
SUMMARY:Pancake Breakfast
DESCRIPTION:
URL:https://www.myvalleyvillage.com/event/pancake-breakfast-2/
LOCATION:Faith Presbyterian Church\, 5000 Colfax\, Valley Village
CATEGORIES:events
GEO:34.1616807;-118.3874832
X-APPLE-STRUCTURED-LOCATION;VALUE=URI;X-ADDRESS=Faith Presbyterian Church 5000 Colfax Valley Village;X-APPLE-RADIUS=500;X-TITLE=5000 Colfax:geo:-118.3874832,34.1616807
END:VEVENT
BEGIN:VEVENT
DTSTART;TZID=America/Los_Angeles:20201216T190000
DTEND;TZID=America/Los_Angeles:20201216T210000
DTSTAMP:20260423T145511
CREATED:20191119T230231Z
LAST-MODIFIED:20201212T205748Z
UID:5586-1608145200-1608152400@www.myvalleyvillage.com
SUMMARY:Light Up Valley Village
DESCRIPTION:Enjoy Light Up Valley Village which we are holding in place of our December Meeting \nPlease join your NCVV Board of Directors and your friends and neighbors as we join together for the 10th anniversary of one of our most cherished neighborhood events.  Light Up Valley Village @Home will be hosted by Village Arts own Pam Schaffer\, and will spotlight a variety of talents from Valley Village residents\, including the North Hollywood High Orchestra and Band\, our Colfax School principal and many more.  Most importantly we’re very excited that Santa himself has agreed to join the show! \nProduced by Luke Simon and our NCVV Student Committee\, this year’s holiday celebration will be completely online so you and your family can participate safely from your home.  Visit myvalleyvillage.com to register to participate in the ZOOM call\, then join us on December 16 at 7:30 pm sharp to kick off the holidays in style at the 10th Annual Light Up Valley Village! \nRegister Now!
URL:https://www.myvalleyvillage.com/event/ncvv-board-meeting-9-2020-12-23/
LOCATION:Faith Presbyterian Church\, 5000 Colfax\, Valley Village
CATEGORIES:meetings
GEO:34.1616807;-118.3874832
X-APPLE-STRUCTURED-LOCATION;VALUE=URI;X-ADDRESS=Faith Presbyterian Church 5000 Colfax Valley Village;X-APPLE-RADIUS=500;X-TITLE=5000 Colfax:geo:-118.3874832,34.1616807
END:VEVENT
BEGIN:VEVENT
DTSTART;TZID=America/Los_Angeles:20201118T190000
DTEND;TZID=America/Los_Angeles:20201118T210000
DTSTAMP:20260423T145511
CREATED:20191119T230231Z
LAST-MODIFIED:20201118T220754Z
UID:5583-1605726000-1605733200@www.myvalleyvillage.com
SUMMARY:NCVV Board Meeting
DESCRIPTION:November 18\, 2020 Board Agenda\nNCVV October 2020_MER
URL:https://www.myvalleyvillage.com/event/ncvv-board-meeting-9-2020-11-25/
LOCATION:Faith Presbyterian Church\, 5000 Colfax\, Valley Village
CATEGORIES:meetings
GEO:34.1616807;-118.3874832
X-APPLE-STRUCTURED-LOCATION;VALUE=URI;X-ADDRESS=Faith Presbyterian Church 5000 Colfax Valley Village;X-APPLE-RADIUS=500;X-TITLE=5000 Colfax:geo:-118.3874832,34.1616807
END:VEVENT
BEGIN:VEVENT
DTSTART;TZID=America/Los_Angeles:20201031T120000
DTEND;TZID=America/Los_Angeles:20201031T180000
DTSTAMP:20260423T145511
CREATED:20201002T214620Z
LAST-MODIFIED:20201002T214620Z
UID:6530-1604145600-1604167200@www.myvalleyvillage.com
SUMMARY:Halloween Hoopla
DESCRIPTION:Register for the Halloween Hoopla which you can experience from the safety of your own car: https://www.villageartstheatre.org
URL:https://www.myvalleyvillage.com/event/halloween-hoopla/
LOCATION:Faith Presbyterian Church\, 5000 Colfax\, Valley Village
CATEGORIES:events
GEO:34.1616807;-118.3874832
X-APPLE-STRUCTURED-LOCATION;VALUE=URI;X-ADDRESS=Faith Presbyterian Church 5000 Colfax Valley Village;X-APPLE-RADIUS=500;X-TITLE=5000 Colfax:geo:-118.3874832,34.1616807
END:VEVENT
END:VCALENDAR