BEGIN:VCALENDAR
VERSION:2.0
PRODID:-//Neighborhood Council Valley Village - ECPv6.15.20//NONSGML v1.0//EN
CALSCALE:GREGORIAN
METHOD:PUBLISH
X-ORIGINAL-URL:https://www.myvalleyvillage.com
X-WR-CALDESC:Events for Neighborhood Council Valley Village
REFRESH-INTERVAL;VALUE=DURATION:PT1H
X-Robots-Tag:noindex
X-PUBLISHED-TTL:PT1H
BEGIN:VTIMEZONE
TZID:America/Los_Angeles
BEGIN:DAYLIGHT
TZOFFSETFROM:-0800
TZOFFSETTO:-0700
TZNAME:PDT
DTSTART:20160313T100000
END:DAYLIGHT
BEGIN:STANDARD
TZOFFSETFROM:-0700
TZOFFSETTO:-0800
TZNAME:PST
DTSTART:20161106T090000
END:STANDARD
BEGIN:DAYLIGHT
TZOFFSETFROM:-0800
TZOFFSETTO:-0700
TZNAME:PDT
DTSTART:20170312T100000
END:DAYLIGHT
BEGIN:STANDARD
TZOFFSETFROM:-0700
TZOFFSETTO:-0800
TZNAME:PST
DTSTART:20171105T090000
END:STANDARD
BEGIN:DAYLIGHT
TZOFFSETFROM:-0800
TZOFFSETTO:-0700
TZNAME:PDT
DTSTART:20180311T100000
END:DAYLIGHT
BEGIN:STANDARD
TZOFFSETFROM:-0700
TZOFFSETTO:-0800
TZNAME:PST
DTSTART:20181104T090000
END:STANDARD
END:VTIMEZONE
BEGIN:VEVENT
DTSTART;TZID=America/Los_Angeles:20170426T190000
DTEND;TZID=America/Los_Angeles:20170426T210000
DTSTAMP:20260423T162208
CREATED:20170325T000211Z
LAST-MODIFIED:20170425T230853Z
UID:3504-1493233200-1493240400@www.myvalleyvillage.com
SUMMARY:NCVV Board Meeting
DESCRIPTION:Meets on the 4th Wednesday of the month. \nAgenda
URL:https://www.myvalleyvillage.com/event/ncvv-board-meeting-3/
LOCATION:Faith Presbyterian Church Social Hall\, 5000 Colfax Avenue\, Valley Village\, CA\, 91601
CATEGORIES:meetings
GEO:34.1617547;-118.387088
X-APPLE-STRUCTURED-LOCATION;VALUE=URI;X-ADDRESS=Faith Presbyterian Church Social Hall 5000 Colfax Avenue Valley Village CA 91601;X-APPLE-RADIUS=500;X-TITLE=5000 Colfax Avenue:geo:-118.387088,34.1617547
END:VEVENT
BEGIN:VEVENT
DTSTART;TZID=America/Los_Angeles:20170422T190000
DTEND;TZID=America/Los_Angeles:20170422T210000
DTSTAMP:20260423T162208
CREATED:20170407T230940Z
LAST-MODIFIED:20170417T233425Z
UID:3553-1492887600-1492894800@www.myvalleyvillage.com
SUMMARY:NCVV Earth Day
DESCRIPTION:Viewing of Dr. Keeling’s Curve\, “a one-man show performed by actor Mike Farrell\, who plays scientist Dr. David Keeling\, whose research on atmospheric carbon dioxide levels led to the iconic chart now known as the Keeling Curve.” Originally developed by playwright\, George Shay\, actor\, Mike Farrell\, and director\, Kirsten Sanderson\, the play is both thoughtful and funny and shows how science can be fun…and deadly serious. The playwright and Mike Farrell will be on hand to lead a discussion after the viewing. \nFaith Presbyterian Church\, Fellowship Hall\n5000 Colfax Ave.\, Valley Village\, CA 91601\n(intersection of Colfax and Addison Streets)\nStreet parking as well as adjacent parking lot \n \nRSVP
URL:https://www.myvalleyvillage.com/event/ncvv-earth-day/
LOCATION:Faith Presbyterian Church Social Hall\, 5000 Colfax Avenue\, Valley Village\, CA\, 91601
CATEGORIES:events
GEO:34.1617547;-118.387088
X-APPLE-STRUCTURED-LOCATION;VALUE=URI;X-ADDRESS=Faith Presbyterian Church Social Hall 5000 Colfax Avenue Valley Village CA 91601;X-APPLE-RADIUS=500;X-TITLE=5000 Colfax Avenue:geo:-118.387088,34.1617547
END:VEVENT
BEGIN:VEVENT
DTSTART;TZID=America/Los_Angeles:20170322T190000
DTEND;TZID=America/Los_Angeles:20170322T210000
DTSTAMP:20260423T162208
CREATED:20170218T010843Z
LAST-MODIFIED:20170223T002604Z
UID:3383-1490209200-1490216400@www.myvalleyvillage.com
SUMMARY:NCVV Board Meeting
DESCRIPTION:Meets on the 4th Wednesday of the month.
URL:https://www.myvalleyvillage.com/event/ncvv-board-meeting-2/
LOCATION:Faith Presbyterian Church Social Hall\, 5000 Colfax Avenue\, Valley Village\, CA\, 91601
CATEGORIES:meetings
GEO:34.1617547;-118.387088
X-APPLE-STRUCTURED-LOCATION;VALUE=URI;X-ADDRESS=Faith Presbyterian Church Social Hall 5000 Colfax Avenue Valley Village CA 91601;X-APPLE-RADIUS=500;X-TITLE=5000 Colfax Avenue:geo:-118.387088,34.1617547
END:VEVENT
BEGIN:VEVENT
DTSTART;TZID=America/Los_Angeles:20170222T190000
DTEND;TZID=America/Los_Angeles:20170222T210000
DTSTAMP:20260423T162208
CREATED:20170216T213751Z
LAST-MODIFIED:20170223T002527Z
UID:3330-1487790000-1487797200@www.myvalleyvillage.com
SUMMARY:NCVV Board Meeting
DESCRIPTION:
URL:https://www.myvalleyvillage.com/event/ncvv-board-meeting/
LOCATION:Faith Presbyterian Church Social Hall\, 5000 Colfax Avenue\, Valley Village\, CA\, 91601
CATEGORIES:meetings
GEO:34.1617547;-118.387088
X-APPLE-STRUCTURED-LOCATION;VALUE=URI;X-ADDRESS=Faith Presbyterian Church Social Hall 5000 Colfax Avenue Valley Village CA 91601;X-APPLE-RADIUS=500;X-TITLE=5000 Colfax Avenue:geo:-118.387088,34.1617547
END:VEVENT
END:VCALENDAR