BEGIN:VCALENDAR
VERSION:2.0
PRODID:-//Neighborhood Council Valley Village - ECPv6.15.20//NONSGML v1.0//EN
CALSCALE:GREGORIAN
METHOD:PUBLISH
X-WR-CALNAME:Neighborhood Council Valley Village
X-ORIGINAL-URL:https://www.myvalleyvillage.com
X-WR-CALDESC:Events for Neighborhood Council Valley Village
REFRESH-INTERVAL;VALUE=DURATION:PT1H
X-Robots-Tag:noindex
X-PUBLISHED-TTL:PT1H
BEGIN:VTIMEZONE
TZID:America/Los_Angeles
BEGIN:DAYLIGHT
TZOFFSETFROM:-0800
TZOFFSETTO:-0700
TZNAME:PDT
DTSTART:20240310T100000
END:DAYLIGHT
BEGIN:STANDARD
TZOFFSETFROM:-0700
TZOFFSETTO:-0800
TZNAME:PST
DTSTART:20241103T090000
END:STANDARD
BEGIN:DAYLIGHT
TZOFFSETFROM:-0800
TZOFFSETTO:-0700
TZNAME:PDT
DTSTART:20250309T100000
END:DAYLIGHT
BEGIN:STANDARD
TZOFFSETFROM:-0700
TZOFFSETTO:-0800
TZNAME:PST
DTSTART:20251102T090000
END:STANDARD
BEGIN:DAYLIGHT
TZOFFSETFROM:-0800
TZOFFSETTO:-0700
TZNAME:PDT
DTSTART:20260308T100000
END:DAYLIGHT
BEGIN:STANDARD
TZOFFSETFROM:-0700
TZOFFSETTO:-0800
TZNAME:PST
DTSTART:20261101T090000
END:STANDARD
END:VTIMEZONE
BEGIN:VEVENT
DTSTART;TZID=America/Los_Angeles:20250628T140000
DTEND;TZID=America/Los_Angeles:20250628T163000
DTSTAMP:20260423T191310
CREATED:20250625T144331Z
LAST-MODIFIED:20250625T144331Z
UID:10682-1751119200-1751128200@www.myvalleyvillage.com
SUMMARY:Die Like A Man Screening
DESCRIPTION:Please join us for free screenings of “Die Like a Man;” a powerful exploration of the root causes of gun violence\, and how it affects Los Angeles youth.\nIncluding a Q&A with Director Eric Nazarian and the cast (Friday and Saturday night)\nJune 27\, 2:00 PM – 4:30 PM\, LA Valley College Conference Room ACA 2505\nRSVP Here: https://docs.google.com/forms/d/e/1FAIpQLSf2sVLmBsZHUpIWofoChL-okHOm3CDtzsK0PDtEReK5oeq5PA/viewform\nJune 28\, 2:00 PM – 4:30 PM\, El Portal Theater\nRSVP Here: https://docs.google.com/forms/d/e/1FAIpQLSf2sVLmBsZHUpIWofoChL-okHOm3CDtzsK0PDtEReK5oeq5PA/viewform\nJune 28th\, 6:30 PM – 9:00 PM\, El Portal Theater\nRSVP Here: https://docs.google.com/forms/d/e/1FAIpQLSdeTegMPM15WlO3UTazCHuZdWJ1DdOb2awxiPgyDiDbzIZsbw/viewform
URL:https://www.myvalleyvillage.com/event/die-like-a-man-screening/
LOCATION:El Portal Theater\, 5269 Lankershim Blvd\, North Hollywood
CATEGORIES:events
END:VEVENT
END:VCALENDAR