BEGIN:VCALENDAR
VERSION:2.0
PRODID:-//Neighborhood Council Valley Village - ECPv6.15.20//NONSGML v1.0//EN
CALSCALE:GREGORIAN
METHOD:PUBLISH
X-ORIGINAL-URL:https://www.myvalleyvillage.com
X-WR-CALDESC:Events for Neighborhood Council Valley Village
REFRESH-INTERVAL;VALUE=DURATION:PT1H
X-Robots-Tag:noindex
X-PUBLISHED-TTL:PT1H
BEGIN:VTIMEZONE
TZID:America/Los_Angeles
BEGIN:DAYLIGHT
TZOFFSETFROM:-0800
TZOFFSETTO:-0700
TZNAME:PDT
DTSTART:20160313T100000
END:DAYLIGHT
BEGIN:STANDARD
TZOFFSETFROM:-0700
TZOFFSETTO:-0800
TZNAME:PST
DTSTART:20161106T090000
END:STANDARD
BEGIN:DAYLIGHT
TZOFFSETFROM:-0800
TZOFFSETTO:-0700
TZNAME:PDT
DTSTART:20170312T100000
END:DAYLIGHT
BEGIN:STANDARD
TZOFFSETFROM:-0700
TZOFFSETTO:-0800
TZNAME:PST
DTSTART:20171105T090000
END:STANDARD
BEGIN:DAYLIGHT
TZOFFSETFROM:-0800
TZOFFSETTO:-0700
TZNAME:PDT
DTSTART:20180311T100000
END:DAYLIGHT
BEGIN:STANDARD
TZOFFSETFROM:-0700
TZOFFSETTO:-0800
TZNAME:PST
DTSTART:20181104T090000
END:STANDARD
BEGIN:DAYLIGHT
TZOFFSETFROM:-0800
TZOFFSETTO:-0700
TZNAME:PDT
DTSTART:20190310T100000
END:DAYLIGHT
BEGIN:STANDARD
TZOFFSETFROM:-0700
TZOFFSETTO:-0800
TZNAME:PST
DTSTART:20191103T090000
END:STANDARD
END:VTIMEZONE
BEGIN:VEVENT
DTSTART;TZID=America/Los_Angeles:20180925T190000
DTEND;TZID=America/Los_Angeles:20180925T210000
DTSTAMP:20260423T210322
CREATED:20180924T163725Z
LAST-MODIFIED:20180924T163725Z
UID:4662-1537902000-1537909200@www.myvalleyvillage.com
SUMMARY:City of Los Angeles Board of Animal Services Commissioners Meeting
DESCRIPTION:Tuesday\, Sept. 25\, 7 pm\nEast Valley Animal Shelter\n14409 Vanowen St\nVan Nuys\, CA 91405 \nThe Board of the Los Angeles Animal Services Commissioners invites you to attend a community meeting to discuss concerns regarding animal issues in the city of Los Angeles.
URL:https://www.myvalleyvillage.com/event/city-of-los-angeles-board-of-animal-services-commissioners-meeting/
LOCATION:East Valley Shelter\, 14409 Vanowen St.\, Van Nuys\, 91405
CATEGORIES:events
GEO:34.1939425;-118.446232
X-APPLE-STRUCTURED-LOCATION;VALUE=URI;X-ADDRESS=East Valley Shelter 14409 Vanowen St. Van Nuys 91405;X-APPLE-RADIUS=500;X-TITLE=14409 Vanowen St.:geo:-118.446232,34.1939425
END:VEVENT
BEGIN:VEVENT
DTSTART;TZID=America/Los_Angeles:20170525T180000
DTEND;TZID=America/Los_Angeles:20170525T193000
DTSTAMP:20260423T210322
CREATED:20170406T203902Z
LAST-MODIFIED:20170406T203902Z
UID:3530-1495735200-1495740600@www.myvalleyvillage.com
SUMMARY:Wildlife Workshop
DESCRIPTION:Los Angeles\, March 30\, 2017 – LA Animal Services will begin hosting Wildlife Workshops for the community starting this April through December at the City Animal Shelters throughout Los Angeles. Wildlife staff specialists will share educational information with residents on how to handle wild animal situations they may encounter in their neighborhood and help address concerns. \nWildlife live throughout the Los Angeles area and can usually be scene year round. Normally\, wildlife pose no threat to humans and keep their distance. However\, if they have access to food\, water and cover\, these animals may continue to return to certain areas and begin to lose their fear of humans which can potentially lead to them becoming aggressive. \nThe LA Animal Services Wildlife Division works to aid City residents in rectifying wildlife problems in their community and some of the uneasiness they may face with these animals. The program provides on-site evaluations\, education on methods of exclusion\, deterrents and discouragement of wildlife forays into urban neighborhoods. Wildlife are common and an important integral part of the ecosystem and circle of life. Mindful consideration of precautions and basic knowledge of wild animal behavior will create a manageable co-habitation between the community and local wildlife. \nResidents will learn all of this and more at the presentations. The workshops will be held at the shelters on the following dates: \n  \nThursday\, May 25\, 2017\, 6 p.m. to 7:30 p.m..\nEast Valley Shelter\n14409 Vanowen St.\, Van Nuys\, CA 91405 \nThursday\, August 24\, 2017\, 6 p.m. to 7:30 p.m.\nEast Valley Shelter\n14409 Vanowen St.\, Van Nuys\, CA 91405 \nThursday\, December 7\, 2017\, 6 p.m. to 7:30 p.m.\nEast Valley Shelter\n14409 Vanowen St.\, Van Nuys\, CA 91405 \nFor an injured\, distressed or deceased wild animal\, contact LA Animal Services at\n888-452-7381. For more information on living responsibly with wildlife\, please visit LAAnimalServices.com/wildlife.
URL:https://www.myvalleyvillage.com/event/wildlife-workshop/2017-05-25/
LOCATION:East Valley Shelter\, 14409 Vanowen St.\, Van Nuys\, 91405
CATEGORIES:events
GEO:34.1939425;-118.446232
X-APPLE-STRUCTURED-LOCATION;VALUE=URI;X-ADDRESS=East Valley Shelter 14409 Vanowen St. Van Nuys 91405;X-APPLE-RADIUS=500;X-TITLE=14409 Vanowen St.:geo:-118.446232,34.1939425
END:VEVENT
END:VCALENDAR