BEGIN:VCALENDAR
VERSION:2.0
PRODID:-//Neighborhood Council Valley Village - ECPv6.15.20//NONSGML v1.0//EN
CALSCALE:GREGORIAN
METHOD:PUBLISH
X-ORIGINAL-URL:https://www.myvalleyvillage.com
X-WR-CALDESC:Events for Neighborhood Council Valley Village
REFRESH-INTERVAL;VALUE=DURATION:PT1H
X-Robots-Tag:noindex
X-PUBLISHED-TTL:PT1H
BEGIN:VTIMEZONE
TZID:America/Los_Angeles
BEGIN:DAYLIGHT
TZOFFSETFROM:-0800
TZOFFSETTO:-0700
TZNAME:PDT
DTSTART:20170312T100000
END:DAYLIGHT
BEGIN:STANDARD
TZOFFSETFROM:-0700
TZOFFSETTO:-0800
TZNAME:PST
DTSTART:20171105T090000
END:STANDARD
BEGIN:DAYLIGHT
TZOFFSETFROM:-0800
TZOFFSETTO:-0700
TZNAME:PDT
DTSTART:20180311T100000
END:DAYLIGHT
BEGIN:STANDARD
TZOFFSETFROM:-0700
TZOFFSETTO:-0800
TZNAME:PST
DTSTART:20181104T090000
END:STANDARD
BEGIN:DAYLIGHT
TZOFFSETFROM:-0800
TZOFFSETTO:-0700
TZNAME:PDT
DTSTART:20190310T100000
END:DAYLIGHT
BEGIN:STANDARD
TZOFFSETFROM:-0700
TZOFFSETTO:-0800
TZNAME:PST
DTSTART:20191103T090000
END:STANDARD
BEGIN:DAYLIGHT
TZOFFSETFROM:-0800
TZOFFSETTO:-0700
TZNAME:PDT
DTSTART:20200308T100000
END:DAYLIGHT
BEGIN:STANDARD
TZOFFSETFROM:-0700
TZOFFSETTO:-0800
TZNAME:PST
DTSTART:20201101T090000
END:STANDARD
END:VTIMEZONE
BEGIN:VEVENT
DTSTART;TZID=America/Los_Angeles:20190824T090000
DTEND;TZID=America/Los_Angeles:20190824T140000
DTSTAMP:20260423T175747
CREATED:20190731T214155Z
LAST-MODIFIED:20190731T214155Z
UID:5346-1566637200-1566655200@www.myvalleyvillage.com
SUMMARY:Southeast Valley Community Plan Update Workshops
DESCRIPTION:Over the past nine months\, we’ve been gathering community input to inform the first update of the Southeast Valley Community Plans in over 20 years. This summer\, we’ll share our initial concepts for changes to the Community Plans at four open house-style workshops throughout the Southeast Valley. Community members are invited to drop in anytime\, discuss the concepts with planning staff\, and provide feedback. Each of the workshops will have information about all three Community Plan Areas\, so you can attend any one you like. \n \nhttps://www.southeastvalleyplans.org/
URL:https://www.myvalleyvillage.com/event/southeast-valley-community-plan-update-workshops-2/
LOCATION:East Valley High School\, 5525 Vineland Av\, North Hollywood\, 91601
CATEGORIES:events
END:VEVENT
BEGIN:VEVENT
DTSTART;TZID=America/Los_Angeles:20180929T100000
DTEND;TZID=America/Los_Angeles:20180929T120000
DTSTAMP:20260423T175747
CREATED:20180924T163024Z
LAST-MODIFIED:20180924T163024Z
UID:4659-1538215200-1538222400@www.myvalleyvillage.com
SUMMARY:NoHo to Pasadena Transit Corridor Meeting
DESCRIPTION:You Are Invited to a Community Meeting on the NoHo to Pasadena Transit Corridor\nMetro is working to improve bus service connecting communities from North Hollywood to Pasadena. This new high-quality\, reliable Bus Rapid Transit (BRT) service will link key activity centers and improve access to jobs\, entertainment and the regional transit system. \nThe North Hollywood to Pasadena BRT Project extends approximately 16 miles and will provide a connection between the Metro Red\, Orange and Gold Lines. The areas that will be served by the proposed project include the Cities of Burbank\, Glendale\, Los Angeles’ Eagle Rock community and Pasadena. In planning for this project\, Metro will complete an Alternatives Analysis and Environmental Impact Report (EIR) that will consider various routes. \nMetro invites you to join us at a community meeting to learn about the project and provide your input. \nMeeting Schedule\nNorth Hollywood\nSaturday\, September 29\, 2018\, 10am–12pm\nEast Valley High School Auditorium\n5525 Vineland Av\, North Hollywood\, CA 91601
URL:https://www.myvalleyvillage.com/event/noho-to-pasadena-transit-corridor-meeting/
LOCATION:East Valley High School\, 5525 Vineland Av\, North Hollywood\, 91601
CATEGORIES:events
END:VEVENT
END:VCALENDAR