BEGIN:VCALENDAR
VERSION:2.0
PRODID:-//Neighborhood Council Valley Village - ECPv6.15.20//NONSGML v1.0//EN
CALSCALE:GREGORIAN
METHOD:PUBLISH
X-ORIGINAL-URL:https://www.myvalleyvillage.com
X-WR-CALDESC:Events for Neighborhood Council Valley Village
REFRESH-INTERVAL;VALUE=DURATION:PT1H
X-Robots-Tag:noindex
X-PUBLISHED-TTL:PT1H
BEGIN:VTIMEZONE
TZID:America/Los_Angeles
BEGIN:DAYLIGHT
TZOFFSETFROM:-0800
TZOFFSETTO:-0700
TZNAME:PDT
DTSTART:20230312T100000
END:DAYLIGHT
BEGIN:STANDARD
TZOFFSETFROM:-0700
TZOFFSETTO:-0800
TZNAME:PST
DTSTART:20231105T090000
END:STANDARD
BEGIN:DAYLIGHT
TZOFFSETFROM:-0800
TZOFFSETTO:-0700
TZNAME:PDT
DTSTART:20240310T100000
END:DAYLIGHT
BEGIN:STANDARD
TZOFFSETFROM:-0700
TZOFFSETTO:-0800
TZNAME:PST
DTSTART:20241103T090000
END:STANDARD
BEGIN:DAYLIGHT
TZOFFSETFROM:-0800
TZOFFSETTO:-0700
TZNAME:PDT
DTSTART:20250309T100000
END:DAYLIGHT
BEGIN:STANDARD
TZOFFSETFROM:-0700
TZOFFSETTO:-0800
TZNAME:PST
DTSTART:20251102T090000
END:STANDARD
END:VTIMEZONE
BEGIN:VEVENT
DTSTART;TZID=America/Los_Angeles:20240421T120000
DTEND;TZID=America/Los_Angeles:20240421T160000
DTSTAMP:20260423T192801
CREATED:20240404T182533Z
LAST-MODIFIED:20240404T182533Z
UID:9780-1713700800-1713715200@www.myvalleyvillage.com
SUMMARY:A Day of Play for LA
DESCRIPTION:Mark your calendars! 🗓️ Join us for our annual Healthy Kids Day on Sunday\, April 21st\, from 12-4pm at the iconic Los Angeles Memorial Coliseum! 🏟️ It’s going to be a day of PLAY for LA\, bringing our amazing community together for a FREE day of family fun! 🎉 \nDon’t miss out on this fantastic opportunity to bond with your loved ones while engaging in healthy activities and enjoying the beautiful LA sunshine! ☀️ \nClick the link to secure your FREE tickets now! 🎟️ Let’s make memories together and celebrate health and happiness! 💪👨‍👩‍👧‍👦 #HealthyKidsDay #FamilyFun #LosAngelesCommunity #playforla
URL:https://www.myvalleyvillage.com/event/a-day-of-play-for-la/
LOCATION:Coliseum\, 3911 S Figueroa St\, Los Angeles
CATEGORIES:events
END:VEVENT
END:VCALENDAR