BEGIN:VCALENDAR
VERSION:2.0
PRODID:-//Neighborhood Council Valley Village - ECPv6.15.20//NONSGML v1.0//EN
CALSCALE:GREGORIAN
METHOD:PUBLISH
X-WR-CALNAME:Neighborhood Council Valley Village
X-ORIGINAL-URL:https://www.myvalleyvillage.com
X-WR-CALDESC:Events for Neighborhood Council Valley Village
REFRESH-INTERVAL;VALUE=DURATION:PT1H
X-Robots-Tag:noindex
X-PUBLISHED-TTL:PT1H
BEGIN:VTIMEZONE
TZID:America/Los_Angeles
BEGIN:DAYLIGHT
TZOFFSETFROM:-0800
TZOFFSETTO:-0700
TZNAME:PDT
DTSTART:20170312T100000
END:DAYLIGHT
BEGIN:STANDARD
TZOFFSETFROM:-0700
TZOFFSETTO:-0800
TZNAME:PST
DTSTART:20171105T090000
END:STANDARD
BEGIN:DAYLIGHT
TZOFFSETFROM:-0800
TZOFFSETTO:-0700
TZNAME:PDT
DTSTART:20180311T100000
END:DAYLIGHT
BEGIN:STANDARD
TZOFFSETFROM:-0700
TZOFFSETTO:-0800
TZNAME:PST
DTSTART:20181104T090000
END:STANDARD
BEGIN:DAYLIGHT
TZOFFSETFROM:-0800
TZOFFSETTO:-0700
TZNAME:PDT
DTSTART:20190310T100000
END:DAYLIGHT
BEGIN:STANDARD
TZOFFSETFROM:-0700
TZOFFSETTO:-0800
TZNAME:PST
DTSTART:20191103T090000
END:STANDARD
END:VTIMEZONE
BEGIN:VEVENT
DTSTART;TZID=America/Los_Angeles:20180922T073000
DTEND;TZID=America/Los_Angeles:20180922T170000
DTSTAMP:20260423T225109
CREATED:20180731T010739Z
LAST-MODIFIED:20180731T010739Z
UID:4559-1537601400-1537635600@www.myvalleyvillage.com
SUMMARY:Congress of Neighborhoods
DESCRIPTION:A day of education & networking for Neighborhood Council leaders \n2018 CONGRESS OF NEIGHBORHOODS \nSaturday\nSeptember 22nd\, 2018\nLA City Hall \nOver 40 free workshops +\nfree breakfast\, lunch & parking if you RSVP\nTake classes on skills & subjects key to Neighborhood Council success \nNetwork with elected officials & staff from every City department \nJoin regional & Citywide alliances of Neighborhood Councils \nShare your success stories with other Neighborhood Council leaders
URL:https://www.myvalleyvillage.com/event/congress-of-neighborhoods-2/
LOCATION:City Hall
CATEGORIES:events
END:VEVENT
END:VCALENDAR