BEGIN:VCALENDAR
VERSION:2.0
PRODID:-//Neighborhood Council Valley Village - ECPv6.15.20//NONSGML v1.0//EN
CALSCALE:GREGORIAN
METHOD:PUBLISH
X-WR-CALNAME:Neighborhood Council Valley Village
X-ORIGINAL-URL:https://www.myvalleyvillage.com
X-WR-CALDESC:Events for Neighborhood Council Valley Village
REFRESH-INTERVAL;VALUE=DURATION:PT1H
X-Robots-Tag:noindex
X-PUBLISHED-TTL:PT1H
BEGIN:VTIMEZONE
TZID:America/Los_Angeles
BEGIN:DAYLIGHT
TZOFFSETFROM:-0800
TZOFFSETTO:-0700
TZNAME:PDT
DTSTART:20160313T100000
END:DAYLIGHT
BEGIN:STANDARD
TZOFFSETFROM:-0700
TZOFFSETTO:-0800
TZNAME:PST
DTSTART:20161106T090000
END:STANDARD
BEGIN:DAYLIGHT
TZOFFSETFROM:-0800
TZOFFSETTO:-0700
TZNAME:PDT
DTSTART:20170312T100000
END:DAYLIGHT
BEGIN:STANDARD
TZOFFSETFROM:-0700
TZOFFSETTO:-0800
TZNAME:PST
DTSTART:20171105T090000
END:STANDARD
BEGIN:DAYLIGHT
TZOFFSETFROM:-0800
TZOFFSETTO:-0700
TZNAME:PDT
DTSTART:20180311T100000
END:DAYLIGHT
BEGIN:STANDARD
TZOFFSETFROM:-0700
TZOFFSETTO:-0800
TZNAME:PST
DTSTART:20181104T090000
END:STANDARD
END:VTIMEZONE
BEGIN:VEVENT
DTSTART;TZID=America/Los_Angeles:20171021T083000
DTEND;TZID=America/Los_Angeles:20171021T120000
DTSTAMP:20260423T225301
CREATED:20170908T192946Z
LAST-MODIFIED:20171005T161126Z
UID:3885-1508574600-1508587200@www.myvalleyvillage.com
SUMMARY:Emergency Preparedness Summit
DESCRIPTION:It’s not “if” but “when”! Do you have an emergency plan and supplies to help you and your family through a disaster? Are you prepared for the “big one”? Join your neighbors and hear expert speakers from CalTech\, LA County\, LAPD\, LAFD and the American Red Cross for the latest information on how to ensure that you know what to do before\, during and after an earthquake or other natural or man-made disaster. This meeting is sponsored by the Council District 2 (Krekorian) and 4 (Ryu)\, with support from NCVV. \nWhen: Saturday\, October 21\, 8:30 am to 12:00 noon \nWhere: Church of Scientology\, 11455 Burbank Boulevard\, North Hollywood \n(parking across Burbank on south side)
URL:https://www.myvalleyvillage.com/event/emergency-preparedness-summit/
LOCATION:Church of Scientology\, 11455 Burbank\, North Hollywood\, 91601
CATEGORIES:events
GEO:34.1723066;-118.380579
X-APPLE-STRUCTURED-LOCATION;VALUE=URI;X-ADDRESS=Church of Scientology 11455 Burbank North Hollywood 91601;X-APPLE-RADIUS=500;X-TITLE=11455 Burbank:geo:-118.380579,34.1723066
END:VEVENT
BEGIN:VEVENT
DTSTART;TZID=America/Los_Angeles:20171005T180000
DTEND;TZID=America/Los_Angeles:20171005T203000
DTSTAMP:20260423T225301
CREATED:20170929T225925Z
LAST-MODIFIED:20170929T225925Z
UID:3937-1507226400-1507235400@www.myvalleyvillage.com
SUMMARY:LAPD Public Safety Community Meeting
DESCRIPTION:
URL:https://www.myvalleyvillage.com/event/lapd-public-safety-community-meeting/
LOCATION:Church of Scientology\, 11455 Burbank\, North Hollywood\, 91601
CATEGORIES:events
GEO:34.1723066;-118.380579
X-APPLE-STRUCTURED-LOCATION;VALUE=URI;X-ADDRESS=Church of Scientology 11455 Burbank North Hollywood 91601;X-APPLE-RADIUS=500;X-TITLE=11455 Burbank:geo:-118.380579,34.1723066
END:VEVENT
END:VCALENDAR