BEGIN:VCALENDAR
VERSION:2.0
PRODID:-//Neighborhood Council Valley Village - ECPv6.15.20//NONSGML v1.0//EN
CALSCALE:GREGORIAN
METHOD:PUBLISH
X-WR-CALNAME:Neighborhood Council Valley Village
X-ORIGINAL-URL:https://www.myvalleyvillage.com
X-WR-CALDESC:Events for Neighborhood Council Valley Village
REFRESH-INTERVAL;VALUE=DURATION:PT1H
X-Robots-Tag:noindex
X-PUBLISHED-TTL:PT1H
BEGIN:VTIMEZONE
TZID:America/Los_Angeles
BEGIN:DAYLIGHT
TZOFFSETFROM:-0800
TZOFFSETTO:-0700
TZNAME:PDT
DTSTART:20160313T100000
END:DAYLIGHT
BEGIN:STANDARD
TZOFFSETFROM:-0700
TZOFFSETTO:-0800
TZNAME:PST
DTSTART:20161106T090000
END:STANDARD
BEGIN:DAYLIGHT
TZOFFSETFROM:-0800
TZOFFSETTO:-0700
TZNAME:PDT
DTSTART:20170312T100000
END:DAYLIGHT
BEGIN:STANDARD
TZOFFSETFROM:-0700
TZOFFSETTO:-0800
TZNAME:PST
DTSTART:20171105T090000
END:STANDARD
BEGIN:DAYLIGHT
TZOFFSETFROM:-0800
TZOFFSETTO:-0700
TZNAME:PDT
DTSTART:20180311T100000
END:DAYLIGHT
BEGIN:STANDARD
TZOFFSETFROM:-0700
TZOFFSETTO:-0800
TZNAME:PST
DTSTART:20181104T090000
END:STANDARD
END:VTIMEZONE
BEGIN:VEVENT
DTSTART;TZID=America/Los_Angeles:20171123T073000
DTEND;TZID=America/Los_Angeles:20171123T110000
DTSTAMP:20260423T161825
CREATED:20171107T000018Z
LAST-MODIFIED:20171107T000018Z
UID:4003-1511422200-1511434800@www.myvalleyvillage.com
SUMMARY:Drumstick Dash
DESCRIPTION:Register
URL:https://www.myvalleyvillage.com/event/drumstick-dash/
LOCATION:CBS Studios\, 4024 Radford\, Studio City
CATEGORIES:events
GEO:34.1445712;-118.3923772
X-APPLE-STRUCTURED-LOCATION;VALUE=URI;X-ADDRESS=CBS Studios 4024 Radford Studio City;X-APPLE-RADIUS=500;X-TITLE=4024 Radford:geo:-118.3923772,34.1445712
END:VEVENT
BEGIN:VEVENT
DTSTART;TZID=America/Los_Angeles:20171109T180000
DTEND;TZID=America/Los_Angeles:20171109T210000
DTSTAMP:20260423T161825
CREATED:20171107T000121Z
LAST-MODIFIED:20171107T000121Z
UID:4007-1510250400-1510261200@www.myvalleyvillage.com
SUMMARY:Planning Forum
DESCRIPTION:
URL:https://www.myvalleyvillage.com/event/planning-forum/
LOCATION:CBS Studios\, 4024 Radford\, Studio City
CATEGORIES:events
GEO:34.1445712;-118.3923772
X-APPLE-STRUCTURED-LOCATION;VALUE=URI;X-ADDRESS=CBS Studios 4024 Radford Studio City;X-APPLE-RADIUS=500;X-TITLE=4024 Radford:geo:-118.3923772,34.1445712
END:VEVENT
END:VCALENDAR