BEGIN:VCALENDAR
VERSION:2.0
PRODID:-//Neighborhood Council Valley Village - ECPv6.15.20//NONSGML v1.0//EN
CALSCALE:GREGORIAN
METHOD:PUBLISH
X-ORIGINAL-URL:https://www.myvalleyvillage.com
X-WR-CALDESC:Events for Neighborhood Council Valley Village
REFRESH-INTERVAL;VALUE=DURATION:PT1H
X-Robots-Tag:noindex
X-PUBLISHED-TTL:PT1H
BEGIN:VTIMEZONE
TZID:America/Los_Angeles
BEGIN:DAYLIGHT
TZOFFSETFROM:-0800
TZOFFSETTO:-0700
TZNAME:PDT
DTSTART:20160313T100000
END:DAYLIGHT
BEGIN:STANDARD
TZOFFSETFROM:-0700
TZOFFSETTO:-0800
TZNAME:PST
DTSTART:20161106T090000
END:STANDARD
BEGIN:DAYLIGHT
TZOFFSETFROM:-0800
TZOFFSETTO:-0700
TZNAME:PDT
DTSTART:20170312T100000
END:DAYLIGHT
BEGIN:STANDARD
TZOFFSETFROM:-0700
TZOFFSETTO:-0800
TZNAME:PST
DTSTART:20171105T090000
END:STANDARD
BEGIN:DAYLIGHT
TZOFFSETFROM:-0800
TZOFFSETTO:-0700
TZNAME:PDT
DTSTART:20180311T100000
END:DAYLIGHT
BEGIN:STANDARD
TZOFFSETFROM:-0700
TZOFFSETTO:-0800
TZNAME:PST
DTSTART:20181104T090000
END:STANDARD
BEGIN:DAYLIGHT
TZOFFSETFROM:-0800
TZOFFSETTO:-0700
TZNAME:PDT
DTSTART:20190310T100000
END:DAYLIGHT
BEGIN:STANDARD
TZOFFSETFROM:-0700
TZOFFSETTO:-0800
TZNAME:PST
DTSTART:20191103T090000
END:STANDARD
BEGIN:DAYLIGHT
TZOFFSETFROM:-0800
TZOFFSETTO:-0700
TZNAME:PDT
DTSTART:20200308T100000
END:DAYLIGHT
BEGIN:STANDARD
TZOFFSETFROM:-0700
TZOFFSETTO:-0800
TZNAME:PST
DTSTART:20201101T090000
END:STANDARD
BEGIN:DAYLIGHT
TZOFFSETFROM:-0800
TZOFFSETTO:-0700
TZNAME:PDT
DTSTART:20210314T100000
END:DAYLIGHT
BEGIN:STANDARD
TZOFFSETFROM:-0700
TZOFFSETTO:-0800
TZNAME:PST
DTSTART:20211107T090000
END:STANDARD
BEGIN:DAYLIGHT
TZOFFSETFROM:-0800
TZOFFSETTO:-0700
TZNAME:PDT
DTSTART:20220313T100000
END:DAYLIGHT
BEGIN:STANDARD
TZOFFSETFROM:-0700
TZOFFSETTO:-0800
TZNAME:PST
DTSTART:20221106T090000
END:STANDARD
BEGIN:DAYLIGHT
TZOFFSETFROM:-0800
TZOFFSETTO:-0700
TZNAME:PDT
DTSTART:20230312T100000
END:DAYLIGHT
BEGIN:STANDARD
TZOFFSETFROM:-0700
TZOFFSETTO:-0800
TZNAME:PST
DTSTART:20231105T090000
END:STANDARD
BEGIN:DAYLIGHT
TZOFFSETFROM:-0800
TZOFFSETTO:-0700
TZNAME:PDT
DTSTART:20240310T100000
END:DAYLIGHT
BEGIN:STANDARD
TZOFFSETFROM:-0700
TZOFFSETTO:-0800
TZNAME:PST
DTSTART:20241103T090000
END:STANDARD
BEGIN:DAYLIGHT
TZOFFSETFROM:-0800
TZOFFSETTO:-0700
TZNAME:PDT
DTSTART:20250309T100000
END:DAYLIGHT
BEGIN:STANDARD
TZOFFSETFROM:-0700
TZOFFSETTO:-0800
TZNAME:PST
DTSTART:20251102T090000
END:STANDARD
END:VTIMEZONE
BEGIN:VEVENT
DTSTART;TZID=America/Los_Angeles:20241005T170000
DTEND;TZID=America/Los_Angeles:20241005T190000
DTSTAMP:20260423T210319
CREATED:20240920T211515Z
LAST-MODIFIED:20240920T211620Z
UID:10145-1728147600-1728154800@www.myvalleyvillage.com
SUMMARY:Halloween Show
DESCRIPTION:
URL:https://www.myvalleyvillage.com/event/halloween-show/
LOCATION:Carter Sexton Art Supply\, 5308 Laurel Canyon Boulevard\, Valley Village\, CA\, 91607\, United States
CATEGORIES:events
GEO:34.1669844;-118.3962171
X-APPLE-STRUCTURED-LOCATION;VALUE=URI;X-ADDRESS=Carter Sexton Art Supply 5308 Laurel Canyon Boulevard Valley Village CA 91607 United States;X-APPLE-RADIUS=500;X-TITLE=5308 Laurel Canyon Boulevard:geo:-118.3962171,34.1669844
END:VEVENT
BEGIN:VEVENT
DTSTART;TZID=America/Los_Angeles:20180721T160000
DTEND;TZID=America/Los_Angeles:20180721T200000
DTSTAMP:20260423T210319
CREATED:20180622T235202Z
LAST-MODIFIED:20180622T235202Z
UID:4462-1532188800-1532203200@www.myvalleyvillage.com
SUMMARY:Valley Village Artist Fair Reception
DESCRIPTION:Valley Village is home to many talented people in the creative arts\, and NCVV wants to give you a chance to meet some of them! The LIFE…the SPIRIT of VALLEY VILLAGE ARTISTS is a three week celebration of these talented people\, where you can meet the artists and see their outstanding work. Presented by Carter Sexton & The Art Parlor and sponsored by Neighborhood Council Valley Village\, the festival kicks off with a reception at Carter Sexton on Saturday July 21\, 4pm to 8pm. The show continues daily with artwork on display through August 10. Refreshments will be served at the July 21 reception. \nCome by and experience the visual artistry and passion of your Valley Village neighbors\, and maybe even buy an original piece of art. Throughout the show NCVV will also accept food donations for the North Hollywood Food Pantry. For more information about The LIFE…The SPIRIT of VALLEY VILLAGE ARTISTS please contact NCVV Board member Paulette Stokes at 818-505-8060 or email us at info@myvalleyvillage.com. We hope to see you at this exciting event!
URL:https://www.myvalleyvillage.com/event/valley-village-artist-fair-reception/
LOCATION:Carter Sexton Art Supply\, 5308 Laurel Canyon Boulevard\, Valley Village\, CA\, 91607\, United States
CATEGORIES:events
GEO:34.1669844;-118.3962171
X-APPLE-STRUCTURED-LOCATION;VALUE=URI;X-ADDRESS=Carter Sexton Art Supply 5308 Laurel Canyon Boulevard Valley Village CA 91607 United States;X-APPLE-RADIUS=500;X-TITLE=5308 Laurel Canyon Boulevard:geo:-118.3962171,34.1669844
END:VEVENT
BEGIN:VEVENT
DTSTART;TZID=America/Los_Angeles:20170621T190000
DTEND;TZID=America/Los_Angeles:20170621T210000
DTSTAMP:20260423T210319
CREATED:20170610T014138Z
LAST-MODIFIED:20170610T020313Z
UID:3730-1498071600-1498078800@www.myvalleyvillage.com
SUMMARY:Events & Outreach Committee
DESCRIPTION:Join us for our Events & Outreach Committee meeting Wednesday\, June 21\, 7pm at Carter Sexton Art Supply\, 5308 Laurel Canyon Blvd\, Valley Village as we plan our upcoming events. \nAgenda
URL:https://www.myvalleyvillage.com/event/events-outreach-committee/
LOCATION:Carter Sexton Art Supply\, 5308 Laurel Canyon Boulevard\, Valley Village\, CA\, 91607\, United States
CATEGORIES:meetings
GEO:34.1669844;-118.3962171
X-APPLE-STRUCTURED-LOCATION;VALUE=URI;X-ADDRESS=Carter Sexton Art Supply 5308 Laurel Canyon Boulevard Valley Village CA 91607 United States;X-APPLE-RADIUS=500;X-TITLE=5308 Laurel Canyon Boulevard:geo:-118.3962171,34.1669844
END:VEVENT
BEGIN:VEVENT
DTSTART;TZID=America/Los_Angeles:20170517T190000
DTEND;TZID=America/Los_Angeles:20170517T210000
DTSTAMP:20260423T210319
CREATED:20170512T185641Z
LAST-MODIFIED:20170512T185641Z
UID:3626-1495047600-1495054800@www.myvalleyvillage.com
SUMMARY:Events & Outreach Committee meeting
DESCRIPTION:
URL:https://www.myvalleyvillage.com/event/events-outreach-committee-meeting/
LOCATION:Carter Sexton Art Supply\, 5308 Laurel Canyon Boulevard\, Valley Village\, CA\, 91607\, United States
CATEGORIES:meetings
ORGANIZER;CN="NCVV":MAILTO:info@myvalleyvillage.com
GEO:34.1669844;-118.3962171
X-APPLE-STRUCTURED-LOCATION;VALUE=URI;X-ADDRESS=Carter Sexton Art Supply 5308 Laurel Canyon Boulevard Valley Village CA 91607 United States;X-APPLE-RADIUS=500;X-TITLE=5308 Laurel Canyon Boulevard:geo:-118.3962171,34.1669844
END:VEVENT
END:VCALENDAR