BEGIN:VCALENDAR
VERSION:2.0
PRODID:-//Neighborhood Council Valley Village - ECPv6.15.20//NONSGML v1.0//EN
CALSCALE:GREGORIAN
METHOD:PUBLISH
X-WR-CALNAME:Neighborhood Council Valley Village
X-ORIGINAL-URL:https://www.myvalleyvillage.com
X-WR-CALDESC:Events for Neighborhood Council Valley Village
REFRESH-INTERVAL;VALUE=DURATION:PT1H
X-Robots-Tag:noindex
X-PUBLISHED-TTL:PT1H
BEGIN:VTIMEZONE
TZID:America/Los_Angeles
BEGIN:DAYLIGHT
TZOFFSETFROM:-0800
TZOFFSETTO:-0700
TZNAME:PDT
DTSTART:20160313T100000
END:DAYLIGHT
BEGIN:STANDARD
TZOFFSETFROM:-0700
TZOFFSETTO:-0800
TZNAME:PST
DTSTART:20161106T090000
END:STANDARD
BEGIN:DAYLIGHT
TZOFFSETFROM:-0800
TZOFFSETTO:-0700
TZNAME:PDT
DTSTART:20170312T100000
END:DAYLIGHT
BEGIN:STANDARD
TZOFFSETFROM:-0700
TZOFFSETTO:-0800
TZNAME:PST
DTSTART:20171105T090000
END:STANDARD
BEGIN:DAYLIGHT
TZOFFSETFROM:-0800
TZOFFSETTO:-0700
TZNAME:PDT
DTSTART:20180311T100000
END:DAYLIGHT
BEGIN:STANDARD
TZOFFSETFROM:-0700
TZOFFSETTO:-0800
TZNAME:PST
DTSTART:20181104T090000
END:STANDARD
BEGIN:DAYLIGHT
TZOFFSETFROM:-0800
TZOFFSETTO:-0700
TZNAME:PDT
DTSTART:20190310T100000
END:DAYLIGHT
BEGIN:STANDARD
TZOFFSETFROM:-0700
TZOFFSETTO:-0800
TZNAME:PST
DTSTART:20191103T090000
END:STANDARD
BEGIN:DAYLIGHT
TZOFFSETFROM:-0800
TZOFFSETTO:-0700
TZNAME:PDT
DTSTART:20200308T100000
END:DAYLIGHT
BEGIN:STANDARD
TZOFFSETFROM:-0700
TZOFFSETTO:-0800
TZNAME:PST
DTSTART:20201101T090000
END:STANDARD
BEGIN:DAYLIGHT
TZOFFSETFROM:-0800
TZOFFSETTO:-0700
TZNAME:PDT
DTSTART:20210314T100000
END:DAYLIGHT
BEGIN:STANDARD
TZOFFSETFROM:-0700
TZOFFSETTO:-0800
TZNAME:PST
DTSTART:20211107T090000
END:STANDARD
END:VTIMEZONE
BEGIN:VEVENT
DTSTART;TZID=America/Los_Angeles:20200211T160000
DTEND;TZID=America/Los_Angeles:20200211T190000
DTSTAMP:20260423T192800
CREATED:20200124T021037Z
LAST-MODIFIED:20200124T021037Z
UID:5703-1581436800-1581447600@www.myvalleyvillage.com
SUMMARY:Southeast Valley Community Plan Office Hours
DESCRIPTION:The Southeast Valley Community Plans team has continued gathering feedback and synthesizing what was heard since sharing initial concepts and guiding principles for the Community Plans Update in summer 2019. While there was great attendance and input\, the team is always seeking to engage more stakeholders in the Southeast Valley. \n\n\n\n\nFor this reason\, the Department will be hosting three public office hour events by appointment throughout the month of February!\nOffice Hours will be an opportunity for the public to be a part of guided conversations with LA City Planning staff regarding the proposed land use concepts and guiding principles for the Community Plan Updates. \nOffice Hour event details: \nFebruary 11\, 2020\n4:00 – 7:00 PM\nCampo De Cahuenga\, 3919 Lankershim Blvd.\, Studio City\, CA 91604 \nFebruary 18\, 2020\n4:15 – 7:15 PM\nMarvin Braude Building\, Room 1A\, 6262 Van Nuys Blvd.\, Van Nuys\, CA 91401 \nFebruary 24\, 2020\n4:00 – 7:00 PM\nNorth Hollywood Amelia Earhart Regional Library\, 5211 Tujunga Ave.\, North Hollywood\, CA 91601 \nSpace is limited\, so please sign up soon here! Your appointment will be confirmed by the Southeast Valley Team.
URL:https://www.myvalleyvillage.com/event/southeast-valley-community-plan-office-hours/
LOCATION:Campo de Cahuenga\, 3919 Lankershim Blvd\, Studio City\, 91604
CATEGORIES:events
GEO:34.1395945;-118.3618646
X-APPLE-STRUCTURED-LOCATION;VALUE=URI;X-ADDRESS=Campo de Cahuenga 3919 Lankershim Blvd Studio City 91604;X-APPLE-RADIUS=500;X-TITLE=3919 Lankershim Blvd:geo:-118.3618646,34.1395945
END:VEVENT
BEGIN:VEVENT
DTSTART;TZID=America/Los_Angeles:20170715T120000
DTEND;TZID=America/Los_Angeles:20170715T160000
DTSTAMP:20260423T192800
CREATED:20170630T230408Z
LAST-MODIFIED:20170630T230408Z
UID:3788-1500120000-1500134400@www.myvalleyvillage.com
SUMMARY:Campo de Cahuenga Family Day
DESCRIPTION:Pack your favorite picnic lunch and join the community at the historic Campo de Cahuenga for an afternoon of fun. The event is free for the whole family.
URL:https://www.myvalleyvillage.com/event/campo-de-cahuenga-family-day/
LOCATION:Campo de Cahuenga\, 3919 Lankershim Blvd\, Studio City\, 91604
CATEGORIES:events
GEO:34.1395945;-118.3618646
X-APPLE-STRUCTURED-LOCATION;VALUE=URI;X-ADDRESS=Campo de Cahuenga 3919 Lankershim Blvd Studio City 91604;X-APPLE-RADIUS=500;X-TITLE=3919 Lankershim Blvd:geo:-118.3618646,34.1395945
END:VEVENT
END:VCALENDAR