BEGIN:VCALENDAR
VERSION:2.0
PRODID:-//Neighborhood Council Valley Village - ECPv6.15.20//NONSGML v1.0//EN
CALSCALE:GREGORIAN
METHOD:PUBLISH
X-WR-CALNAME:Neighborhood Council Valley Village
X-ORIGINAL-URL:https://www.myvalleyvillage.com
X-WR-CALDESC:Events for Neighborhood Council Valley Village
REFRESH-INTERVAL;VALUE=DURATION:PT1H
X-Robots-Tag:noindex
X-PUBLISHED-TTL:PT1H
BEGIN:VTIMEZONE
TZID:America/Los_Angeles
BEGIN:DAYLIGHT
TZOFFSETFROM:-0800
TZOFFSETTO:-0700
TZNAME:PDT
DTSTART:20170312T100000
END:DAYLIGHT
BEGIN:STANDARD
TZOFFSETFROM:-0700
TZOFFSETTO:-0800
TZNAME:PST
DTSTART:20171105T090000
END:STANDARD
BEGIN:DAYLIGHT
TZOFFSETFROM:-0800
TZOFFSETTO:-0700
TZNAME:PDT
DTSTART:20180311T100000
END:DAYLIGHT
BEGIN:STANDARD
TZOFFSETFROM:-0700
TZOFFSETTO:-0800
TZNAME:PST
DTSTART:20181104T090000
END:STANDARD
BEGIN:DAYLIGHT
TZOFFSETFROM:-0800
TZOFFSETTO:-0700
TZNAME:PDT
DTSTART:20190310T100000
END:DAYLIGHT
BEGIN:STANDARD
TZOFFSETFROM:-0700
TZOFFSETTO:-0800
TZNAME:PST
DTSTART:20191103T090000
END:STANDARD
END:VTIMEZONE
BEGIN:VEVENT
DTSTART;TZID=America/Los_Angeles:20180415T123000
DTEND;TZID=America/Los_Angeles:20180415T143000
DTSTAMP:20260424T003129
CREATED:20180322T212355Z
LAST-MODIFIED:20180322T212355Z
UID:4269-1523795400-1523802600@www.myvalleyvillage.com
SUMMARY:Free Women's Self Defense Workshop
DESCRIPTION:
URL:https://www.myvalleyvillage.com/event/free-womens-self-defense-workshop-2/
LOCATION:Adat Ari El\, 12020 Burbank Blvvd\, Valley Village\, 91607
CATEGORIES:events
GEO:34.1721535;-118.3954073
X-APPLE-STRUCTURED-LOCATION;VALUE=URI;X-ADDRESS=Adat Ari El 12020 Burbank Blvvd Valley Village 91607;X-APPLE-RADIUS=500;X-TITLE=12020 Burbank Blvvd:geo:-118.3954073,34.1721535
END:VEVENT
END:VCALENDAR