BEGIN:VCALENDAR
VERSION:2.0
PRODID:-//Neighborhood Council Valley Village - ECPv6.15.20//NONSGML v1.0//EN
CALSCALE:GREGORIAN
METHOD:PUBLISH
X-ORIGINAL-URL:https://www.myvalleyvillage.com
X-WR-CALDESC:Events for Neighborhood Council Valley Village
REFRESH-INTERVAL;VALUE=DURATION:PT1H
X-Robots-Tag:noindex
X-PUBLISHED-TTL:PT1H
BEGIN:VTIMEZONE
TZID:America/Los_Angeles
BEGIN:DAYLIGHT
TZOFFSETFROM:-0800
TZOFFSETTO:-0700
TZNAME:PDT
DTSTART:20250309T100000
END:DAYLIGHT
BEGIN:STANDARD
TZOFFSETFROM:-0700
TZOFFSETTO:-0800
TZNAME:PST
DTSTART:20251102T090000
END:STANDARD
BEGIN:DAYLIGHT
TZOFFSETFROM:-0800
TZOFFSETTO:-0700
TZNAME:PDT
DTSTART:20260308T100000
END:DAYLIGHT
BEGIN:STANDARD
TZOFFSETFROM:-0700
TZOFFSETTO:-0800
TZNAME:PST
DTSTART:20261101T090000
END:STANDARD
BEGIN:DAYLIGHT
TZOFFSETFROM:-0800
TZOFFSETTO:-0700
TZNAME:PDT
DTSTART:20270314T100000
END:DAYLIGHT
BEGIN:STANDARD
TZOFFSETFROM:-0700
TZOFFSETTO:-0800
TZNAME:PST
DTSTART:20271107T090000
END:STANDARD
END:VTIMEZONE
BEGIN:VEVENT
DTSTART;TZID=America/Los_Angeles:20260423T194500
DTEND;TZID=America/Los_Angeles:20260423T203000
DTSTAMP:20260423T070235
CREATED:20260421T161314Z
LAST-MODIFIED:20260421T161314Z
UID:11411-1776973500-1776976200@www.myvalleyvillage.com
SUMMARY:Lighting Ceremony
DESCRIPTION:Join us for the lighting of the Noho Gateway sign after 13 years. The event will be Thursday\, April 23\, 7:45 PM at Johnny’s Auto Body\, 4865 Lankershim Blvd.
URL:https://www.myvalleyvillage.com/event/lighting-ceremony/
CATEGORIES:events
END:VEVENT
BEGIN:VEVENT
DTSTART;TZID=America/Los_Angeles:20260425T090000
DTEND;TZID=America/Los_Angeles:20260425T120000
DTSTAMP:20260423T070235
CREATED:20260127T230838Z
LAST-MODIFIED:20260421T175057Z
UID:11180-1777107600-1777118400@www.myvalleyvillage.com
SUMMARY:Earth Day Celebration
DESCRIPTION:Please join your neighbors and your NCVV Board for Earth Day 2026\, to be held on April 25 at Valley Village Park. NCVV’s Board will provide free shredding of personal documents\, free trees to the first fifty “adopters”\, and we will be collecting people and pet food for the North Hollywood Interfaith Food Pantry. Please collect your personal documents\, and grab a bag of food\, and join us from 9:00 am to 12:00 noon at the Park!
URL:https://www.myvalleyvillage.com/event/earth-day-celebration-3/
LOCATION:Valley Village Park\, Hesby and Westpark
CATEGORIES:events
GEO:34.1621791;-118.3828946
X-APPLE-STRUCTURED-LOCATION;VALUE=URI;X-ADDRESS=Valley Village Park Hesby and Westpark;X-APPLE-RADIUS=500;X-TITLE=Hesby and Westpark:geo:-118.3828946,34.1621791
END:VEVENT
BEGIN:VEVENT
DTSTART;TZID=America/Los_Angeles:20260429T100000
DTEND;TZID=America/Los_Angeles:20260429T113000
DTSTAMP:20260423T070235
CREATED:20260416T214154Z
LAST-MODIFIED:20260416T214154Z
UID:11388-1777456800-1777462200@www.myvalleyvillage.com
SUMMARY:Grand Opening NHHS
DESCRIPTION:Grand Opening & Ribbon-Cutting Ceremony for the John Williams Performing Arts Center & the Comprehensive Modernization Project at North Hollywood High School \nPlease Join Us In-Person or Virtually \nZoom WEBINAR ID: 850 4877 8471
URL:https://www.myvalleyvillage.com/event/grand-opening-nhhs/
LOCATION:North Hollywood High School\, 5231 Colfax Avenue\, North Hollywood\, CA\, 91601
CATEGORIES:events
GEO:34.1665787;-118.3889878
X-APPLE-STRUCTURED-LOCATION;VALUE=URI;X-ADDRESS=North Hollywood High School 5231 Colfax Avenue North Hollywood CA 91601;X-APPLE-RADIUS=500;X-TITLE=5231 Colfax Avenue:geo:-118.3889878,34.1665787
END:VEVENT
END:VCALENDAR