BEGIN:VCALENDAR
VERSION:2.0
PRODID:-//Neighborhood Council Valley Village - ECPv6.15.20//NONSGML v1.0//EN
CALSCALE:GREGORIAN
METHOD:PUBLISH
X-ORIGINAL-URL:https://www.myvalleyvillage.com
X-WR-CALDESC:Events for Neighborhood Council Valley Village
REFRESH-INTERVAL;VALUE=DURATION:PT1H
X-Robots-Tag:noindex
X-PUBLISHED-TTL:PT1H
BEGIN:VTIMEZONE
TZID:America/Los_Angeles
BEGIN:DAYLIGHT
TZOFFSETFROM:-0800
TZOFFSETTO:-0700
TZNAME:PDT
DTSTART:20250309T100000
END:DAYLIGHT
BEGIN:STANDARD
TZOFFSETFROM:-0700
TZOFFSETTO:-0800
TZNAME:PST
DTSTART:20251102T090000
END:STANDARD
BEGIN:DAYLIGHT
TZOFFSETFROM:-0800
TZOFFSETTO:-0700
TZNAME:PDT
DTSTART:20260308T100000
END:DAYLIGHT
BEGIN:STANDARD
TZOFFSETFROM:-0700
TZOFFSETTO:-0800
TZNAME:PST
DTSTART:20261101T090000
END:STANDARD
BEGIN:DAYLIGHT
TZOFFSETFROM:-0800
TZOFFSETTO:-0700
TZNAME:PDT
DTSTART:20270314T100000
END:DAYLIGHT
BEGIN:STANDARD
TZOFFSETFROM:-0700
TZOFFSETTO:-0800
TZNAME:PST
DTSTART:20271107T090000
END:STANDARD
END:VTIMEZONE
BEGIN:VEVENT
DTSTART;VALUE=DATE:20260201
DTEND;VALUE=DATE:20260202
DTSTAMP:20260423T100417
CREATED:20260127T190038Z
LAST-MODIFIED:20260127T190101Z
UID:11173-1769904000-1769990399@www.myvalleyvillage.com
SUMMARY:Celebrating Black History Month
DESCRIPTION:Stream films on Kanopy (kanopy.com)  or Hoopla (hoopladigital.com)\, both on-demand streaming film services. They both have extensive libraries of African American cinema and documentaries\, available free with your Los Angeles City or Los Angeles County library card.
URL:https://www.myvalleyvillage.com/event/celebrating-black-history-month/
CATEGORIES:events
END:VEVENT
BEGIN:VEVENT
DTSTART;TZID=America/Los_Angeles:20260210T184500
DTEND;TZID=America/Los_Angeles:20260210T200000
DTSTAMP:20260423T100417
CREATED:20260206T014156Z
LAST-MODIFIED:20260206T014156Z
UID:11203-1770749100-1770753600@www.myvalleyvillage.com
SUMMARY:Bylaws Committee Meeting
DESCRIPTION:NCVV 1st Bylaws Meeting is Scheduled for this Coming 2/10/26  Via Zoom.\n\nAttached is the Agenda.\n\nEveryone Please Read the BYLAWS on Our Website BEFORE the Meeting.\nJune 2024 Version. Here is a Link for Your Convenience: https://www.myvalleyvillage.com/wp-content/uploads/2025/07/NCVV-Bylaws-Update-June-26-2024.pdf\n\nPlease Note that we are only able to make changes in Articles V\, VI\, VII\, VIII Section 1\, Article IX Section 4.  Any changes have to be approved by BONC.\n\nZoom Meeting – Participate Online or by Telephone\nParticipate online: Join the meeting at https://us02web.zoom.us/j/85195670518\nParticipate by phone: (833) 548 0282 then enter Meeting ID: 85195670518 and press #
URL:https://www.myvalleyvillage.com/event/bylaws-committee-meeting/
CATEGORIES:elections-bylaw,meetings
END:VEVENT
BEGIN:VEVENT
DTSTART;TZID=America/Los_Angeles:20260211T191500
DTEND;TZID=America/Los_Angeles:20260211T203000
DTSTAMP:20260423T100417
CREATED:20260207T021629Z
LAST-MODIFIED:20260209T224605Z
UID:11210-1770837300-1770841800@www.myvalleyvillage.com
SUMMARY:Planning and Land Use Committee Meeting
DESCRIPTION:Join us for the NCVV Planning and Land Use Committee Meeting February 11\, 7:15pm online. \nParticipate online: Join the meeting at https://us02web.zoom.us/j/82620257242\nParticipate by phone: (833) 548 0282 then enter Meeting ID: 82620257242 and press #
URL:https://www.myvalleyvillage.com/event/planning-and-land-use-committee-meeting-34/
CATEGORIES:meetings,Planning and Land Use
END:VEVENT
BEGIN:VEVENT
DTSTART;TZID=America/Los_Angeles:20260211T193000
DTEND;TZID=America/Los_Angeles:20260211T210000
DTSTAMP:20260423T100417
CREATED:20260209T224925Z
LAST-MODIFIED:20260209T224925Z
UID:11219-1770838200-1770843600@www.myvalleyvillage.com
SUMMARY:Student Committee Meeting
DESCRIPTION:Zoom Meeting – Participate Online or by Telephone\nParticipate online: Join the meeting at https://uclahs.zoom.us/j/91291297785\nParticipate by phone: (833) 548 0282 then enter Meeting ID: 91291297785 and press #
URL:https://www.myvalleyvillage.com/event/student-committee-meeting-12/
CATEGORIES:meetings,Student
END:VEVENT
BEGIN:VEVENT
DTSTART;TZID=America/Los_Angeles:20260214T090000
DTEND;TZID=America/Los_Angeles:20260214T110000
DTSTAMP:20260423T100417
CREATED:20260127T232052Z
LAST-MODIFIED:20260127T232052Z
UID:11190-1771059600-1771066800@www.myvalleyvillage.com
SUMMARY:Free Home Composting Workshop
DESCRIPTION:FREE Home Composting Workshops and Urban Gardening – Griffith Park\n5400 Griffith Park Dr.\nLos Angeles\, CA 90027 \nLearn to compost with LASAN. Workshops are free and include plant giveaways as well as raffles! \nThis workshop will teach you how to turn kitchen scraps and yard trimmings into a nutrient-rich soil amendment. Home composting is taught by a team of ten rotating LA Sanitation & Environment green waste specialists. Each participant will take home a free garden plant at the end of the event. Some workshops even have surprise guests!
URL:https://www.myvalleyvillage.com/event/free-home-composting-workshop/
CATEGORIES:events
END:VEVENT
BEGIN:VEVENT
DTSTART;TZID=America/Los_Angeles:20260214T163000
DTEND;TZID=America/Los_Angeles:20260214T193000
DTSTAMP:20260423T100417
CREATED:20260127T231406Z
LAST-MODIFIED:20260127T231406Z
UID:11184-1771086600-1771097400@www.myvalleyvillage.com
SUMMARY:ATTUNE Light + Sound Art Exhibition
DESCRIPTION:Residents are invited to experience Attune\, a unique sound and light activation taking place at Barnsdall Park\, Jane and Bert Boeckmann Park at Hansen Dam and more. Produced by NXT Art Foundation\, this immersive exhibition uses sound as a shared\, relational experience\, connecting artists and audiences through listening\, presence\, and subtle environmental resonance. \nAttune encourages visitors to slow down\, reflect\, and engage with their surroundings in a new way\, offering a free\, accessible experience that highlights community\, creativity\, and connection. \nAttune will take place on February 14 from 4:30pm to 7:30pm at various locations throughout the county. Visitors are encouraged to stop by\, linger\, and engage with this free\, accessible community experience. \nEventbrite Tickets
URL:https://www.myvalleyvillage.com/event/attune-light-sound-art-exhibition/
CATEGORIES:events
END:VEVENT
BEGIN:VEVENT
DTSTART;TZID=America/Los_Angeles:20260217T190000
DTEND;TZID=America/Los_Angeles:20260217T210000
DTSTAMP:20260423T100417
CREATED:20260212T224347Z
LAST-MODIFIED:20260219T182211Z
UID:11223-1771354800-1771362000@www.myvalleyvillage.com
SUMMARY:Special Meeting
DESCRIPTION:The NCVV Board of Directors will hold a special meeting February 17\, 7pm online. \nZoom Meeting – Participate Online or by Telephone\nParticipate online: Join the meeting at https://us02web.zoom.us/j/83900652651\nParticipate by phone: (833) 548 0282 then enter Meeting ID: 83900652651 and press #
URL:https://www.myvalleyvillage.com/event/special-meeting-18/
CATEGORIES:board,meetings
END:VEVENT
BEGIN:VEVENT
DTSTART;TZID=America/Los_Angeles:20260223T080000
DTEND;TZID=America/Los_Angeles:20260223T170000
DTSTAMP:20260423T100417
CREATED:20260223T231515Z
LAST-MODIFIED:20260223T231515Z
UID:11259-1771833600-1771866000@www.myvalleyvillage.com
SUMMARY:Special City Services Meeting
DESCRIPTION:Join us for the Special City Services Meeting on Tuesday\, February 24\, 10am online. \nParticipate online: Join the meeting at: https://us02web.zoom.us/j/89384599499\nMeeting ID: 893 8459 9499\nParticipate by phone: (888) 475-4499 then enter Webinar ID: 89384599499 and press # to Join \n \n 
URL:https://www.myvalleyvillage.com/event/special-city-services-meeting/
CATEGORIES:cityservices,meetings
END:VEVENT
BEGIN:VEVENT
DTSTART;TZID=America/Los_Angeles:20260225T190000
DTEND;TZID=America/Los_Angeles:20260225T210000
DTSTAMP:20260423T100417
CREATED:20251120T234819Z
LAST-MODIFIED:20260224T181229Z
UID:11036-1772046000-1772053200@www.myvalleyvillage.com
SUMMARY:Board Meeting
DESCRIPTION:Join us for our next Neighborhood Council Valley Village Meeting Wednesday\, February 25\, 7pm. \nWe will have a guest speaker: \nMargo Rees\, Chair of the LA County League of Women Voters\, will discuss the impact of Proposition G (expansion of the LA County Board of Supervisors) and upcoming deadlines mandated by the LA County Charter Reform. \nZoom Meeting – Participate Online or by Telephone\nParticipate online: Join the meeting at https://us02web.zoom.us/j/86492085294\nParticipate by phone: (833) 548 0282 then enter Meeting ID: 86492085294 and press #
URL:https://www.myvalleyvillage.com/event/board-meeting-15-2026-02-25/
CATEGORIES:board,meetings
END:VEVENT
END:VCALENDAR