BEGIN:VCALENDAR
VERSION:2.0
PRODID:-//Neighborhood Council Valley Village - ECPv6.15.20//NONSGML v1.0//EN
CALSCALE:GREGORIAN
METHOD:PUBLISH
X-WR-CALNAME:Neighborhood Council Valley Village
X-ORIGINAL-URL:https://www.myvalleyvillage.com
X-WR-CALDESC:Events for Neighborhood Council Valley Village
REFRESH-INTERVAL;VALUE=DURATION:PT1H
X-Robots-Tag:noindex
X-PUBLISHED-TTL:PT1H
BEGIN:VTIMEZONE
TZID:America/Los_Angeles
BEGIN:DAYLIGHT
TZOFFSETFROM:-0800
TZOFFSETTO:-0700
TZNAME:PDT
DTSTART:20250309T100000
END:DAYLIGHT
BEGIN:STANDARD
TZOFFSETFROM:-0700
TZOFFSETTO:-0800
TZNAME:PST
DTSTART:20251102T090000
END:STANDARD
BEGIN:DAYLIGHT
TZOFFSETFROM:-0800
TZOFFSETTO:-0700
TZNAME:PDT
DTSTART:20260308T100000
END:DAYLIGHT
BEGIN:STANDARD
TZOFFSETFROM:-0700
TZOFFSETTO:-0800
TZNAME:PST
DTSTART:20261101T090000
END:STANDARD
BEGIN:DAYLIGHT
TZOFFSETFROM:-0800
TZOFFSETTO:-0700
TZNAME:PDT
DTSTART:20270314T100000
END:DAYLIGHT
BEGIN:STANDARD
TZOFFSETFROM:-0700
TZOFFSETTO:-0800
TZNAME:PST
DTSTART:20271107T090000
END:STANDARD
END:VTIMEZONE
BEGIN:VEVENT
DTSTART;TZID=America/Los_Angeles:20260606T080000
DTEND;TZID=America/Los_Angeles:20260606T160000
DTSTAMP:20260423T173202
CREATED:20260310T232957Z
LAST-MODIFIED:20260311T180103Z
UID:11318-1780732800-1780761600@www.myvalleyvillage.com
SUMMARY:2026 EmpowerLA Youth Conference
DESCRIPTION:EmpowerLA is excited to announce that registration for the 2026 EmpowerLA Youth Conference is now open! On Saturday\, June 6\, 2026\, from 8:00 a.m. to 4:00 p.m.\, EmpowerLA will host 100 young people between the ages of 14 and 17 from across Los Angeles at Los Angeles City Hall to participate in a one-day event focused on civic engagement\, leadership development\, and local government. Conference attendees will dive into the role the Neighborhood Council system plays in grassroots local democracy\, attend learning sessions on ways to be civically engaged in the community\, network with like-minded young leaders\, engage with City leaders\, and so much more! \nThis year’s conference attendees will be selected through a random lottery – registration does not guarantee admission. Registration closes on Friday\, April 24\, 2026.
URL:https://www.myvalleyvillage.com/event/2026-empowerla-youth-conference/
CATEGORIES:events
END:VEVENT
BEGIN:VEVENT
DTSTART;TZID=America/Los_Angeles:20260624T190000
DTEND;TZID=America/Los_Angeles:20260624T210000
DTSTAMP:20260423T173202
CREATED:20251120T234819Z
LAST-MODIFIED:20260417T231320Z
UID:11040-1782327600-1782334800@www.myvalleyvillage.com
SUMMARY:Board Meeting
DESCRIPTION:Join us for our next Neighborhood Council Valley Village Board of Directors meeting on April 22\, 7:00 PM Online. We will have a special presentation from Jessica Legaspi\, Construction Relations Manager for Metro. She will give an update on the G / Orange Line safety upgrades.
URL:https://www.myvalleyvillage.com/event/board-meeting-15-2026-04-22-2026-05-27/2026-06-24/
CATEGORIES:board,meetings
END:VEVENT
BEGIN:VEVENT
DTSTART;TZID=America/Los_Angeles:20260722T190000
DTEND;TZID=America/Los_Angeles:20260722T210000
DTSTAMP:20260423T173202
CREATED:20251120T234819Z
LAST-MODIFIED:20260417T231320Z
UID:11041-1784746800-1784754000@www.myvalleyvillage.com
SUMMARY:Board Meeting
DESCRIPTION:Join us for our next Neighborhood Council Valley Village Board of Directors meeting on April 22\, 7:00 PM Online. We will have a special presentation from Jessica Legaspi\, Construction Relations Manager for Metro. She will give an update on the G / Orange Line safety upgrades.
URL:https://www.myvalleyvillage.com/event/board-meeting-15-2026-04-22-2026-05-27/2026-07-22/
CATEGORIES:board,meetings
END:VEVENT
BEGIN:VEVENT
DTSTART;TZID=America/Los_Angeles:20260826T190000
DTEND;TZID=America/Los_Angeles:20260826T210000
DTSTAMP:20260423T173202
CREATED:20251120T234819Z
LAST-MODIFIED:20260417T231320Z
UID:11042-1787770800-1787778000@www.myvalleyvillage.com
SUMMARY:Board Meeting
DESCRIPTION:Join us for our next Neighborhood Council Valley Village Board of Directors meeting on April 22\, 7:00 PM Online. We will have a special presentation from Jessica Legaspi\, Construction Relations Manager for Metro. She will give an update on the G / Orange Line safety upgrades.
URL:https://www.myvalleyvillage.com/event/board-meeting-15-2026-04-22-2026-05-27/2026-08-26/
CATEGORIES:board,meetings
END:VEVENT
BEGIN:VEVENT
DTSTART;TZID=America/Los_Angeles:20260923T190000
DTEND;TZID=America/Los_Angeles:20260923T210000
DTSTAMP:20260423T173202
CREATED:20251120T234819Z
LAST-MODIFIED:20260417T231320Z
UID:11043-1790190000-1790197200@www.myvalleyvillage.com
SUMMARY:Board Meeting
DESCRIPTION:Join us for our next Neighborhood Council Valley Village Board of Directors meeting on April 22\, 7:00 PM Online. We will have a special presentation from Jessica Legaspi\, Construction Relations Manager for Metro. She will give an update on the G / Orange Line safety upgrades.
URL:https://www.myvalleyvillage.com/event/board-meeting-15-2026-04-22-2026-05-27/2026-09-23/
CATEGORIES:board,meetings
END:VEVENT
BEGIN:VEVENT
DTSTART;TZID=America/Los_Angeles:20261028T190000
DTEND;TZID=America/Los_Angeles:20261028T210000
DTSTAMP:20260423T173202
CREATED:20251120T234819Z
LAST-MODIFIED:20260417T231320Z
UID:11044-1793214000-1793221200@www.myvalleyvillage.com
SUMMARY:Board Meeting
DESCRIPTION:Join us for our next Neighborhood Council Valley Village Board of Directors meeting on April 22\, 7:00 PM Online. We will have a special presentation from Jessica Legaspi\, Construction Relations Manager for Metro. She will give an update on the G / Orange Line safety upgrades.
URL:https://www.myvalleyvillage.com/event/board-meeting-15-2026-04-22-2026-05-27/2026-10-28/
CATEGORIES:board,meetings
END:VEVENT
BEGIN:VEVENT
DTSTART;TZID=America/Los_Angeles:20261118T190000
DTEND;TZID=America/Los_Angeles:20261118T210000
DTSTAMP:20260423T173202
CREATED:20251120T234845Z
LAST-MODIFIED:20251120T234845Z
UID:11046-1795028400-1795035600@www.myvalleyvillage.com
SUMMARY:Board Meeting
DESCRIPTION:
URL:https://www.myvalleyvillage.com/event/board-meeting-16/
CATEGORIES:board,meetings
END:VEVENT
BEGIN:VEVENT
DTSTART;TZID=America/Los_Angeles:20261216T190000
DTEND;TZID=America/Los_Angeles:20261216T210000
DTSTAMP:20260423T173202
CREATED:20251120T234912Z
LAST-MODIFIED:20251120T234912Z
UID:11048-1797447600-1797454800@www.myvalleyvillage.com
SUMMARY:Board Meeting
DESCRIPTION:
URL:https://www.myvalleyvillage.com/event/board-meeting-17/
CATEGORIES:board,meetings
END:VEVENT
END:VCALENDAR