BEGIN:VCALENDAR
VERSION:2.0
PRODID:-//Neighborhood Council Valley Village - ECPv6.15.20//NONSGML v1.0//EN
CALSCALE:GREGORIAN
METHOD:PUBLISH
X-WR-CALNAME:Neighborhood Council Valley Village
X-ORIGINAL-URL:https://www.myvalleyvillage.com
X-WR-CALDESC:Events for Neighborhood Council Valley Village
REFRESH-INTERVAL;VALUE=DURATION:PT1H
X-Robots-Tag:noindex
X-PUBLISHED-TTL:PT1H
BEGIN:VTIMEZONE
TZID:America/Los_Angeles
BEGIN:DAYLIGHT
TZOFFSETFROM:-0800
TZOFFSETTO:-0700
TZNAME:PDT
DTSTART:20240310T100000
END:DAYLIGHT
BEGIN:STANDARD
TZOFFSETFROM:-0700
TZOFFSETTO:-0800
TZNAME:PST
DTSTART:20241103T090000
END:STANDARD
BEGIN:DAYLIGHT
TZOFFSETFROM:-0800
TZOFFSETTO:-0700
TZNAME:PDT
DTSTART:20250309T100000
END:DAYLIGHT
BEGIN:STANDARD
TZOFFSETFROM:-0700
TZOFFSETTO:-0800
TZNAME:PST
DTSTART:20251102T090000
END:STANDARD
BEGIN:DAYLIGHT
TZOFFSETFROM:-0800
TZOFFSETTO:-0700
TZNAME:PDT
DTSTART:20260308T100000
END:DAYLIGHT
BEGIN:STANDARD
TZOFFSETFROM:-0700
TZOFFSETTO:-0800
TZNAME:PST
DTSTART:20261101T090000
END:STANDARD
END:VTIMEZONE
BEGIN:VEVENT
DTSTART;TZID=America/Los_Angeles:20250918T180000
DTEND;TZID=America/Los_Angeles:20250918T213000
DTSTAMP:20260423T222942
CREATED:20250903T193948Z
LAST-MODIFIED:20250903T193948Z
UID:10903-1758218400-1758231000@www.myvalleyvillage.com
SUMMARY:Park Needs Assessment Meeting
DESCRIPTION:September 9\nGeneral Virtual Community Meeting and Q&A\nOur general virtual community meeting will include a presentation and interactive Q+A session via Zoom.\n6:00–7:30p\nVia Zoom \nSeptember 10\nTopical Virtual Meeting – Budgets\, Cost Estimates\, and Decision Making\nOur deep-dive virtual meetings will include more specific discussions on various topics pertaining to LA Recreation and Parks via Zoom.\n6:00–7:30p\nVia Zoom \nSeptember 11\nTopical Virtual Meeting – Budgets\, Cost Estimates\, and Decision Making\nOur deep-dive virtual meetings will include more specific discussions on various topics pertaining to LA Recreation and Parks via Zoom.\n6:00–7:30p\nVia Zoom \nSeptember 18\nTopical Virtual Meeting – Budgets\, Cost Estimates\, and Decision Making\nOur deep-dive virtual meetings will include more specific discussions on various topics pertaining to LA Recreation and Parks via Zoom.\n6:00–7:30p\nVia Zoom
URL:https://www.myvalleyvillage.com/event/park-needs-assessment-meeting-2/2025-09-18/
CATEGORIES:events
END:VEVENT
BEGIN:VEVENT
DTSTART;TZID=America/Los_Angeles:20250918T173000
DTEND;TZID=America/Los_Angeles:20250918T183000
DTSTAMP:20260423T222942
CREATED:20250916T154706Z
LAST-MODIFIED:20250916T155250Z
UID:10934-1758216600-1758220200@www.myvalleyvillage.com
SUMMARY:Assemblymember Nick Schultz Town Hall
DESCRIPTION:The Assemblymember will be joined by Speaker Robert Rivas’s Budget Policy Advisor to discuss the impacts of H.R.1 on California’s fiscal standing. The Assemblymember will also provide an overview of his legislative package.
URL:https://www.myvalleyvillage.com/event/assemblymember-nick-schultz-town-hall/
CATEGORIES:events
END:VEVENT
BEGIN:VEVENT
DTSTART;TZID=America/Los_Angeles:20250917T190000
DTEND;TZID=America/Los_Angeles:20250917T210000
DTSTAMP:20260423T222942
CREATED:20241119T173734Z
LAST-MODIFIED:20251209T215920Z
UID:10261-1758135600-1758142800@www.myvalleyvillage.com
SUMMARY:Board Meeting
DESCRIPTION:Join us for a Special Meeting of the Neighborhood Council Valley Village Board of Directors on September 17\, 7pm. \nPlease note\, we are meeting earlier this month due to Rosh Hashanah. \nThe meeting will be held online: \nAt https://us02web.zoom.us/j/86492085294\nParticipate by phone: (888) 475-4499 then enter Webinar ID: 864 9208 5294 and press # \n 
URL:https://www.myvalleyvillage.com/event/board-meeting-12-2025-09-17/
CATEGORIES:board,meetings
END:VEVENT
BEGIN:VEVENT
DTSTART;TZID=America/Los_Angeles:20250914T140000
DTEND;TZID=America/Los_Angeles:20250914T160000
DTSTAMP:20260423T222942
CREATED:20250903T192801Z
LAST-MODIFIED:20250903T192801Z
UID:10894-1757858400-1757865600@www.myvalleyvillage.com
SUMMARY:Dr. Ellen Ochoa: A Spark In Our Sky
DESCRIPTION:
URL:https://www.myvalleyvillage.com/event/dr-ellen-ochoa-a-spark-in-our-sky/
CATEGORIES:events
END:VEVENT
BEGIN:VEVENT
DTSTART;TZID=America/Los_Angeles:20250914T140000
DTEND;TZID=America/Los_Angeles:20250914T160000
DTSTAMP:20260423T222942
CREATED:20250903T192416Z
LAST-MODIFIED:20250903T192416Z
UID:10891-1757858400-1757865600@www.myvalleyvillage.com
SUMMARY:Harnessing AI for Education and Mental Health
DESCRIPTION:
URL:https://www.myvalleyvillage.com/event/harnessing-ai-for-education-and-mental-health/
CATEGORIES:events
END:VEVENT
BEGIN:VEVENT
DTSTART;TZID=America/Los_Angeles:20250911T180000
DTEND;TZID=America/Los_Angeles:20250911T213000
DTSTAMP:20260423T222942
CREATED:20250903T193948Z
LAST-MODIFIED:20250903T193948Z
UID:10902-1757613600-1757626200@www.myvalleyvillage.com
SUMMARY:Park Needs Assessment Meeting
DESCRIPTION:September 9\nGeneral Virtual Community Meeting and Q&A\nOur general virtual community meeting will include a presentation and interactive Q+A session via Zoom.\n6:00–7:30p\nVia Zoom \nSeptember 10\nTopical Virtual Meeting – Budgets\, Cost Estimates\, and Decision Making\nOur deep-dive virtual meetings will include more specific discussions on various topics pertaining to LA Recreation and Parks via Zoom.\n6:00–7:30p\nVia Zoom \nSeptember 11\nTopical Virtual Meeting – Budgets\, Cost Estimates\, and Decision Making\nOur deep-dive virtual meetings will include more specific discussions on various topics pertaining to LA Recreation and Parks via Zoom.\n6:00–7:30p\nVia Zoom \nSeptember 18\nTopical Virtual Meeting – Budgets\, Cost Estimates\, and Decision Making\nOur deep-dive virtual meetings will include more specific discussions on various topics pertaining to LA Recreation and Parks via Zoom.\n6:00–7:30p\nVia Zoom
URL:https://www.myvalleyvillage.com/event/park-needs-assessment-meeting-2/2025-09-11/
CATEGORIES:events
END:VEVENT
BEGIN:VEVENT
DTSTART;TZID=America/Los_Angeles:20250910T191500
DTEND;TZID=America/Los_Angeles:20250910T210000
DTSTAMP:20260423T222942
CREATED:20250714T222742Z
LAST-MODIFIED:20250909T011411Z
UID:10724-1757531700-1757538000@www.myvalleyvillage.com
SUMMARY:Planning and Land Use Committee Meeting
DESCRIPTION:Meets the 2nd Wednesday
URL:https://www.myvalleyvillage.com/event/planning-and-land-use-committee-meeting-33-2025-09-10/
CATEGORIES:meetings,Planning and Land Use
END:VEVENT
BEGIN:VEVENT
DTSTART;TZID=America/Los_Angeles:20250910T180000
DTEND;TZID=America/Los_Angeles:20250910T213000
DTSTAMP:20260423T222942
CREATED:20250903T193948Z
LAST-MODIFIED:20250903T193948Z
UID:10901-1757527200-1757539800@www.myvalleyvillage.com
SUMMARY:Park Needs Assessment Meeting
DESCRIPTION:September 9\nGeneral Virtual Community Meeting and Q&A\nOur general virtual community meeting will include a presentation and interactive Q+A session via Zoom.\n6:00–7:30p\nVia Zoom \nSeptember 10\nTopical Virtual Meeting – Budgets\, Cost Estimates\, and Decision Making\nOur deep-dive virtual meetings will include more specific discussions on various topics pertaining to LA Recreation and Parks via Zoom.\n6:00–7:30p\nVia Zoom \nSeptember 11\nTopical Virtual Meeting – Budgets\, Cost Estimates\, and Decision Making\nOur deep-dive virtual meetings will include more specific discussions on various topics pertaining to LA Recreation and Parks via Zoom.\n6:00–7:30p\nVia Zoom \nSeptember 18\nTopical Virtual Meeting – Budgets\, Cost Estimates\, and Decision Making\nOur deep-dive virtual meetings will include more specific discussions on various topics pertaining to LA Recreation and Parks via Zoom.\n6:00–7:30p\nVia Zoom
URL:https://www.myvalleyvillage.com/event/park-needs-assessment-meeting-2/2025-09-10/
CATEGORIES:events
END:VEVENT
BEGIN:VEVENT
DTSTART;TZID=America/Los_Angeles:20250909T180000
DTEND;TZID=America/Los_Angeles:20250909T213000
DTSTAMP:20260423T222942
CREATED:20250903T193948Z
LAST-MODIFIED:20250904T173646Z
UID:10898-1757440800-1757453400@www.myvalleyvillage.com
SUMMARY:Park Needs Assessment Meeting
DESCRIPTION:September 9\nGeneral Virtual Community Meeting and Q&A\nOur general virtual community meeting will include a presentation and interactive Q+A session via Zoom.\n6:00–7:30p\nVia Zoom \nSeptember 10\nTopical Virtual Meeting – Budgets\, Cost Estimates\, and Decision Making\nOur deep-dive virtual meetings will include more specific discussions on various topics pertaining to LA Recreation and Parks via Zoom.\n6:00–7:30p\nVia Zoom \nSeptember 11\nTopical Virtual Meeting – Budgets\, Cost Estimates\, and Decision Making\nOur deep-dive virtual meetings will include more specific discussions on various topics pertaining to LA Recreation and Parks via Zoom.\n6:00–7:30p\nVia Zoom \nSeptember 18\nTopical Virtual Meeting – Budgets\, Cost Estimates\, and Decision Making\nOur deep-dive virtual meetings will include more specific discussions on various topics pertaining to LA Recreation and Parks via Zoom.\n6:00–7:30p\nVia Zoom
URL:https://www.myvalleyvillage.com/event/park-needs-assessment-meeting-2/2025-09-09/
CATEGORIES:events
END:VEVENT
BEGIN:VEVENT
DTSTART;TZID=America/Los_Angeles:20250909T110000
DTEND;TZID=America/Los_Angeles:20250909T120000
DTSTAMP:20260423T222942
CREATED:20250714T222601Z
LAST-MODIFIED:20250904T231713Z
UID:10718-1757415600-1757419200@www.myvalleyvillage.com
SUMMARY:City Services Committee
DESCRIPTION:Participate online: Join the meeting at: https://us02web.zoom.us/j/89384599499\nMeeting ID: 893 8459 9499\nParticipate by phone: (888) 475-4499 then enter Webinar ID: 89384599499 and press #
URL:https://www.myvalleyvillage.com/event/city-services-committee-12-2025-09-09/
CATEGORIES:cityservices,meetings
END:VEVENT
BEGIN:VEVENT
DTSTART;TZID=America/Los_Angeles:20250904T153000
DTEND;TZID=America/Los_Angeles:20250904T180000
DTSTAMP:20260423T222942
CREATED:20250827T215608Z
LAST-MODIFIED:20250827T215608Z
UID:10872-1756999800-1757008800@www.myvalleyvillage.com
SUMMARY:LAUSD Scott Schmerelson's Open House
DESCRIPTION:Open House on Thursday\, September 18 from 3:30-6:00 PM at our Field Office\, located at 6621 Balboa Boulevard. \nPlease RSVP by September 4. \nYou’ll have a chance to taste new menu items from Cafe LA\, enjoy student performances\, learn about our Why We Love Our Schools campaign\, plus free goodies!
URL:https://www.myvalleyvillage.com/event/lausd-scott-schmerelsons-open-house/
CATEGORIES:events
END:VEVENT
BEGIN:VEVENT
DTSTART;TZID=America/Los_Angeles:20250827T190000
DTEND;TZID=America/Los_Angeles:20250827T210000
DTSTAMP:20260423T222942
CREATED:20241119T173734Z
LAST-MODIFIED:20251209T215836Z
UID:10260-1756321200-1756328400@www.myvalleyvillage.com
SUMMARY:Board Meeting
DESCRIPTION:Join us for the next NCVV Board of Directors Meeting on Wednesday\, August 27\, 7pm online \njoin the meeting at https://us02web.zoom.us/j/86492085294\nParticipate by phone: (888) 475-4499 then enter Webinar ID: 864 9208 5294 and press # \nMeeting documents: \n\nNCVV AGENDA AUGUST 2025 MEETING OF THE BOARD\nNCVV July 2025 MER\nNeighborhood Council of Valley Village FY2026 Rollover
URL:https://www.myvalleyvillage.com/event/board-meeting-12-2025-08-27/
CATEGORIES:board,meetings
END:VEVENT
BEGIN:VEVENT
DTSTART;TZID=America/Los_Angeles:20250826T190000
DTEND;TZID=America/Los_Angeles:20250826T210000
DTSTAMP:20260423T222942
CREATED:20250805T165332Z
LAST-MODIFIED:20250805T165332Z
UID:10796-1756234800-1756242000@www.myvalleyvillage.com
SUMMARY:Women's Equality Day
DESCRIPTION:On August 26 we commemorate adoption of the 19th Amendment to the U.S. Constitution\,  which prohibits the states and the federal government from denying the right to vote to citizens of the United States on the basis of sex. \nToday\, some jurisdictions are attempting to invalidate the voter registrations of women who use their married names for purposes other than voting. Learn the history of the struggle for women’s suffrage and how to defend the right to vote. \nRSVP
URL:https://www.myvalleyvillage.com/event/womens-equality-day/
CATEGORIES:events
END:VEVENT
BEGIN:VEVENT
DTSTART;TZID=America/Los_Angeles:20250824T110000
DTEND;TZID=America/Los_Angeles:20250824T130000
DTSTAMP:20260423T222942
CREATED:20250818T190237Z
LAST-MODIFIED:20250818T190237Z
UID:10856-1756033200-1756040400@www.myvalleyvillage.com
SUMMARY:Self Defense Clinic
DESCRIPTION:Councilmember Nazarian invites you to a FREE self-defense clinic at Valley Plaza Recreation Center in North Hollywood. \nSunday\, August 24\, 2025\n11:00 AM to 1:00 PM\nValley Plaza Recreation Center\n12240 Archwood Street\nNorth Hollywood\, CA 91606 \nLearn tips and tricks to help save your life\, and defensive techniques you’ll remember even if you panic. \nRSVP to register for this FREE workshop. Call 818 213 7783 for more information.
URL:https://www.myvalleyvillage.com/event/self-defense-clinic-2/
LOCATION:Valley Plaza Park\, 12240 Archwood St\, North Hollywood\, 91606
CATEGORIES:events
END:VEVENT
BEGIN:VEVENT
DTSTART;TZID=America/Los_Angeles:20250823T190000
DTEND;TZID=America/Los_Angeles:20250823T213000
DTSTAMP:20260423T222942
CREATED:20250804T222416Z
LAST-MODIFIED:20250822T210943Z
UID:10783-1755975600-1755984600@www.myvalleyvillage.com
SUMMARY:Movie in the Park
DESCRIPTION:This is a Joint Event with CD2\, NCVV and NoHo NC on Saturday\, August 23rd for Posting. \nMovie Starts @ 7:30PM \nFREE Movie Night\nFree Popcorn\nFree Snow Cones\nFree Snacks\, Water and More! \nJOIN US! Bring Your Chair or Blanket and Picnic Basket. Food Trucks on Site at 7pm \nFree Lighted Parking Off Magnolia in Rec and Parks Parking Lot\nParking Entrance is Before the 170 North Freeway On-Ramp on Magnolia
URL:https://www.myvalleyvillage.com/event/movie-in-the-park/
LOCATION:North Hollywood Park
CATEGORIES:events
END:VEVENT
BEGIN:VEVENT
DTSTART;TZID=America/Los_Angeles:20250823T090000
DTEND;TZID=America/Los_Angeles:20250823T113000
DTSTAMP:20260423T222942
CREATED:20250818T190058Z
LAST-MODIFIED:20250818T190058Z
UID:10852-1755939600-1755948600@www.myvalleyvillage.com
SUMMARY:Free Community Pancake Breakfast
DESCRIPTION:Saluting Our Firefighting Heroes: Breakfast with the Brave \nThank You\, Los Angeles Firefighters\, for Protecting The Valley during the January Firestorms. Our Heroes! \nFree Community Pancake Breakfast • Saturday\, August 23\, 2025\nHosted by the 818 Week Coalition & Community Partners \nWho \nThe 818 Week Coalition\, in partnership with IHOP\, local businesses\, faith leaders\, neighborhood groups\, and elected officials\, invites all media outlets to cover a powerful community tribute: \n“Saluting Our Firefighting Heroes – Breakfast with the Brave” \nA free\, family-friendly pancake breakfast and celebration honoring Los Angeles Firefighters who protected the San Fernando Valley during the devastating January 2025 firestorms. \nWhat \nNewsworthy visuals and interviews from a vibrant event that includes: \n\nComplimentary IHOP pancake breakfast\nFire station tours & fire engine displays\nDisaster preparedness and health resources\nLive performances from youth and cultural groups\nElected official appearances and community recognitions\nKids’ Zone with activities and giveaways\nVibrant sponsor booths and community partners\nThank You Banner (community members will write messages to LAFD)\n\nConfirmed Speakers & Guests \n\nCA State Senator Caroline Menjivar\nLA City Councilmember 6 Imelda Padilla\nLA City Councilmember 4 Nithya Raman\nLA City Councilmember 2 Adrin Nazarian\nSan Fernando Mayor Mary Mendoza\nLAUSD School Board President Scott Schmerelson
URL:https://www.myvalleyvillage.com/event/free-community-pancake-breakfast/
LOCATION:LAFD 39\, 14615 Oxnard St.\, Van Nuys\, 91411
CATEGORIES:events
END:VEVENT
BEGIN:VEVENT
DTSTART;TZID=America/Los_Angeles:20250820T191500
DTEND;TZID=America/Los_Angeles:20250820T203000
DTSTAMP:20260423T222942
CREATED:20250815T234013Z
LAST-MODIFIED:20250815T234013Z
UID:10843-1755717300-1755721800@www.myvalleyvillage.com
SUMMARY:Planning and Land Use Committee Special Meeting
DESCRIPTION:Join us for the next NCVV Planning and Land Use Committee Special Meeting August 20\, 7:15pm online. \nOn our agenda: \n\n4714-4718 Colfax\n11944\, 11950 Riverside\n\nZoom Meeting – Participate Online or by Telephone\nParticipate online: Join the meeting at https://us02web.zoom.us/j/85659479460\nParticipate by phone: (669) 444-9171 then enter Meeting ID: 82620257242 and press #
URL:https://www.myvalleyvillage.com/event/planning-and-land-use-committee-special-meeting/
CATEGORIES:meetings,Planning and Land Use
END:VEVENT
BEGIN:VEVENT
DTSTART;TZID=America/Los_Angeles:20250816T190000
DTEND;TZID=America/Los_Angeles:20250816T213000
DTSTAMP:20260423T222942
CREATED:20250711T215215Z
LAST-MODIFIED:20250711T215215Z
UID:10711-1755370800-1755379800@www.myvalleyvillage.com
SUMMARY:NoHo Summer Nights: Britney Spears Tribute
DESCRIPTION:IT’S BRITNEY BEEP – Britney Spears Tribute with Emerging Artist Dogs Forever
URL:https://www.myvalleyvillage.com/event/noho-summer-nights-britney-spears-tribute/
LOCATION:North Hollywood Park
CATEGORIES:events
END:VEVENT
BEGIN:VEVENT
DTSTART;TZID=America/Los_Angeles:20250813T191500
DTEND;TZID=America/Los_Angeles:20250813T210000
DTSTAMP:20260423T222942
CREATED:20250714T222742Z
LAST-MODIFIED:20250811T173815Z
UID:10723-1755112500-1755118800@www.myvalleyvillage.com
SUMMARY:Planning and Land Use Committee Meeting
DESCRIPTION:Join us for the NCVV Planning and Land Use Committee Meeting on Wednesday\, August 13\, 7:15pm online. \nhttps://us02web.zoom.us/j/82620257242 \nParticipate by phone: (833) 548 0282 then enter Meeting ID: 82620257242 and press #
URL:https://www.myvalleyvillage.com/event/planning-and-land-use-committee-meeting-33/
CATEGORIES:meetings,Planning and Land Use
END:VEVENT
BEGIN:VEVENT
DTSTART;TZID=America/Los_Angeles:20250812T110000
DTEND;TZID=America/Los_Angeles:20250812T120000
DTSTAMP:20260423T222942
CREATED:20250714T222601Z
LAST-MODIFIED:20250809T005141Z
UID:10717-1754996400-1755000000@www.myvalleyvillage.com
SUMMARY:City Services Committee
DESCRIPTION:
URL:https://www.myvalleyvillage.com/event/city-services-committee-12/
CATEGORIES:cityservices,meetings
END:VEVENT
BEGIN:VEVENT
DTSTART;TZID=America/Los_Angeles:20250809T190000
DTEND;TZID=America/Los_Angeles:20250809T213000
DTSTAMP:20260423T222942
CREATED:20250711T215002Z
LAST-MODIFIED:20250711T215002Z
UID:10708-1754766000-1754775000@www.myvalleyvillage.com
SUMMARY:NoHo Summer Nights: DJ Sal Roses
DESCRIPTION:Rapper-Songwriter DJ SAL ROSES
URL:https://www.myvalleyvillage.com/event/noho-summer-nights-dj-sal-roses/
LOCATION:North Hollywood Park
CATEGORIES:events
END:VEVENT
BEGIN:VEVENT
DTSTART;TZID=America/Los_Angeles:20250805T183000
DTEND;TZID=America/Los_Angeles:20250805T200000
DTSTAMP:20260423T222942
CREATED:20250714T222329Z
LAST-MODIFIED:20250804T222506Z
UID:10714-1754418600-1754424000@www.myvalleyvillage.com
SUMMARY:National Night Out
DESCRIPTION:Join your neighbors in Valley Village Park on August 5th for the 41st Annual National Night Out. Sponsored by NCVV\, the event features food and refreshments\, giveaways from Target and other Valley Village businesses\, live music from Jimmy Dale\, and members of LAPD and other city departments. The festivities begin at 6:30pm and wrap up with a glow stick walk for the family. \nYou are invited to bring food for our food drive benefitting North Hollywood Interfaith Food Pantry. We are collecting food for people and pets. \nBe sure to turn your porch lights on!
URL:https://www.myvalleyvillage.com/event/national-night-out-8/
LOCATION:Valley Village Park\, Hesby and Westpark
CATEGORIES:events
GEO:34.1621791;-118.3828946
X-APPLE-STRUCTURED-LOCATION;VALUE=URI;X-ADDRESS=Valley Village Park Hesby and Westpark;X-APPLE-RADIUS=500;X-TITLE=Hesby and Westpark:geo:-118.3828946,34.1621791
END:VEVENT
BEGIN:VEVENT
DTSTART;TZID=America/Los_Angeles:20250802T190000
DTEND;TZID=America/Los_Angeles:20250802T213000
DTSTAMP:20260423T222942
CREATED:20250711T214902Z
LAST-MODIFIED:20250711T214902Z
UID:10705-1754161200-1754170200@www.myvalleyvillage.com
SUMMARY:NoHo Summer Nights: Rolling Stones Tribute
DESCRIPTION:START ME UP – The Rolling Stones Tribute with Emerging Artist Tonight’s Sunshine
URL:https://www.myvalleyvillage.com/event/noho-summer-nights-rolling-stones-tribute/
LOCATION:North Hollywood Park
CATEGORIES:events
END:VEVENT
BEGIN:VEVENT
DTSTART;TZID=America/Los_Angeles:20250726T190000
DTEND;TZID=America/Los_Angeles:20250726T213000
DTSTAMP:20260423T222942
CREATED:20250711T214753Z
LAST-MODIFIED:20250711T214753Z
UID:10702-1753556400-1753565400@www.myvalleyvillage.com
SUMMARY:NoHo Summer Nights Jelly Soul
DESCRIPTION:
URL:https://www.myvalleyvillage.com/event/noho-summer-nights-jelly-soul/
LOCATION:North Hollywood Park
CATEGORIES:events
END:VEVENT
BEGIN:VEVENT
DTSTART;TZID=America/Los_Angeles:20250725T110000
DTEND;TZID=America/Los_Angeles:20250725T130000
DTSTAMP:20260423T222942
CREATED:20250725T030618Z
LAST-MODIFIED:20250725T030947Z
UID:10772-1753441200-1753448400@www.myvalleyvillage.com
SUMMARY:SPECIAL MEETING NCVV BOARD OF DIRECTORS
DESCRIPTION:July 25\, 2025 –11:00 AM \nZoom Meeting Participate Online or by Telephone \nParticipate online: join the meeting at https://uclahs.zoom.us/j/91433066962 \nParticipate by phone: 1-669-444-9171 then enter Webinar ID: 91433066962 and press #
URL:https://www.myvalleyvillage.com/event/special-meeting-ncvv-board-of-directors/
CATEGORIES:board,meetings
END:VEVENT
BEGIN:VEVENT
DTSTART;TZID=America/Los_Angeles:20250723T203000
DTEND;TZID=America/Los_Angeles:20250723T213000
DTSTAMP:20260423T222942
CREATED:20250722T032219Z
LAST-MODIFIED:20251209T215749Z
UID:10758-1753302600-1753306200@www.myvalleyvillage.com
SUMMARY:Special Meeting of the Board of Directors
DESCRIPTION:NEIGHBORHOOD COUNCIL VALLEY VILLAGE \nSpecial Meeting of the Board of Directors \nIN PERSON MEETING \nJuly 23\, 2025 \n8:30 PM \nSocial Hall \nFaith Presbyterian Church \n5000 Colfax Avenue\, Valley Village
URL:https://www.myvalleyvillage.com/event/special-meeting-of-the-board-of-directors/
LOCATION:Faith Presbyterian Church\, 5000 Colfax\, Valley Village
CATEGORIES:board,meetings
GEO:34.1616807;-118.3874832
X-APPLE-STRUCTURED-LOCATION;VALUE=URI;X-ADDRESS=Faith Presbyterian Church 5000 Colfax Valley Village;X-APPLE-RADIUS=500;X-TITLE=5000 Colfax:geo:-118.3874832,34.1616807
END:VEVENT
BEGIN:VEVENT
DTSTART;TZID=America/Los_Angeles:20250723T190000
DTEND;TZID=America/Los_Angeles:20250723T210000
DTSTAMP:20260423T222942
CREATED:20241119T173734Z
LAST-MODIFIED:20251209T215723Z
UID:10259-1753297200-1753304400@www.myvalleyvillage.com
SUMMARY:Board Meeting
DESCRIPTION:Join us for the next Neighborhood Council Valley Village Board of Directors Meeting\, Wednesday\, July 23\, 7pm at Faith Presbyterian Church\, 5000 Colfax. We will swear in our newly elected board members and choose our executive team.
URL:https://www.myvalleyvillage.com/event/board-meeting-12-2025-07-23/
CATEGORIES:board,meetings
END:VEVENT
BEGIN:VEVENT
DTSTART;TZID=America/Los_Angeles:20250722T110000
DTEND;TZID=America/Los_Angeles:20250722T120000
DTSTAMP:20260423T222942
CREATED:20250716T210628Z
LAST-MODIFIED:20250716T210704Z
UID:10731-1753182000-1753185600@www.myvalleyvillage.com
SUMMARY:City Services Committee Meeting
DESCRIPTION:Join us for our next NCVV City Services Committee Meeting Tuesday\, July 22\, 11am online. \nParticipate online: Join the meeting at: https://us02web.zoom.us/j/89384599499\nMeeting ID: 893 8459 9499\nParticipate by phone: (888) 475-4499 then enter Webinar ID: 89384599499 and press # \n \n 
URL:https://www.myvalleyvillage.com/event/city-service-committee-meeting/
CATEGORIES:cityservices,meetings
END:VEVENT
BEGIN:VEVENT
DTSTART;TZID=America/Los_Angeles:20250720T103000
DTEND;TZID=America/Los_Angeles:20250720T123000
DTSTAMP:20260423T222942
CREATED:20250710T221716Z
LAST-MODIFIED:20250710T221716Z
UID:10698-1753007400-1753014600@www.myvalleyvillage.com
SUMMARY:Self Defense Clinic
DESCRIPTION:
URL:https://www.myvalleyvillage.com/event/self-defense-clinic/
LOCATION:12020 Burbank Blvd\, 12020 Burbank Blvd\, Valley Village
CATEGORIES:events
END:VEVENT
BEGIN:VEVENT
DTSTART;TZID=America/Los_Angeles:20250704T080000
DTEND;TZID=America/Los_Angeles:20250704T093000
DTSTAMP:20260423T222942
CREATED:20250623T205157Z
LAST-MODIFIED:20250623T205157Z
UID:10670-1751616000-1751621400@www.myvalleyvillage.com
SUMMARY:Pancake Breakfast
DESCRIPTION:
URL:https://www.myvalleyvillage.com/event/pancake-breakfast-4/
LOCATION:Faith Presbyterian Church\, 5000 Colfax\, Valley Village
CATEGORIES:events
GEO:34.1616807;-118.3874832
X-APPLE-STRUCTURED-LOCATION;VALUE=URI;X-ADDRESS=Faith Presbyterian Church 5000 Colfax Valley Village;X-APPLE-RADIUS=500;X-TITLE=5000 Colfax:geo:-118.3874832,34.1616807
END:VEVENT
END:VCALENDAR