BEGIN:VCALENDAR
VERSION:2.0
PRODID:-//Neighborhood Council Valley Village - ECPv6.15.20//NONSGML v1.0//EN
CALSCALE:GREGORIAN
METHOD:PUBLISH
X-WR-CALNAME:Neighborhood Council Valley Village
X-ORIGINAL-URL:https://www.myvalleyvillage.com
X-WR-CALDESC:Events for Neighborhood Council Valley Village
REFRESH-INTERVAL;VALUE=DURATION:PT1H
X-Robots-Tag:noindex
X-PUBLISHED-TTL:PT1H
BEGIN:VTIMEZONE
TZID:America/Los_Angeles
BEGIN:DAYLIGHT
TZOFFSETFROM:-0800
TZOFFSETTO:-0700
TZNAME:PDT
DTSTART:20230312T100000
END:DAYLIGHT
BEGIN:STANDARD
TZOFFSETFROM:-0700
TZOFFSETTO:-0800
TZNAME:PST
DTSTART:20231105T090000
END:STANDARD
BEGIN:DAYLIGHT
TZOFFSETFROM:-0800
TZOFFSETTO:-0700
TZNAME:PDT
DTSTART:20240310T100000
END:DAYLIGHT
BEGIN:STANDARD
TZOFFSETFROM:-0700
TZOFFSETTO:-0800
TZNAME:PST
DTSTART:20241103T090000
END:STANDARD
BEGIN:DAYLIGHT
TZOFFSETFROM:-0800
TZOFFSETTO:-0700
TZNAME:PDT
DTSTART:20250309T100000
END:DAYLIGHT
BEGIN:STANDARD
TZOFFSETFROM:-0700
TZOFFSETTO:-0800
TZNAME:PST
DTSTART:20251102T090000
END:STANDARD
END:VTIMEZONE
BEGIN:VEVENT
DTSTART;TZID=America/Los_Angeles:20240710T191500
DTEND;TZID=America/Los_Angeles:20240710T210000
DTSTAMP:20260423T205621
CREATED:20240705T183238Z
LAST-MODIFIED:20240705T183238Z
UID:9985-1720638900-1720645200@www.myvalleyvillage.com
SUMMARY:Planning and Land Use Committee Meeting
DESCRIPTION:Join us for the next NCVV Planning and Land Use Committee Meeting Wednesday\, July 10\, 7:15pm on Zoom. \nParticipate online: join the meeting at https://us02web.zoom.us/j/82620257242\nParticipate by phone: (888) 475-4499 then enter Webinar ID: 81416927352 and press #
URL:https://www.myvalleyvillage.com/event/planning-and-land-use-committee-meeting-25/
CATEGORIES:meetings,Planning and Land Use
END:VEVENT
BEGIN:VEVENT
DTSTART;TZID=America/Los_Angeles:20240612T191500
DTEND;TZID=America/Los_Angeles:20240612T191500
DTSTAMP:20260423T205621
CREATED:20240607T205714Z
LAST-MODIFIED:20240607T205714Z
UID:9946-1718219700-1718219700@www.myvalleyvillage.com
SUMMARY:Planning and Land Use Committee Cancelled
DESCRIPTION:
URL:https://www.myvalleyvillage.com/event/planning-and-land-use-committee-cancelled/
CATEGORIES:meetings,Planning and Land Use
END:VEVENT
BEGIN:VEVENT
DTSTART;TZID=America/Los_Angeles:20240508T190000
DTEND;TZID=America/Los_Angeles:20240508T200000
DTSTAMP:20260423T205621
CREATED:20240503T223921Z
LAST-MODIFIED:20240503T223921Z
UID:9865-1715194800-1715198400@www.myvalleyvillage.com
SUMMARY:Planning and Land Use Committee Meeting Cancelled
DESCRIPTION:
URL:https://www.myvalleyvillage.com/event/planning-and-land-use-committee-meeting-cancelled-3/
CATEGORIES:meetings,Planning and Land Use
END:VEVENT
BEGIN:VEVENT
DTSTART;TZID=America/Los_Angeles:20240410T190000
DTEND;TZID=America/Los_Angeles:20240410T203000
DTSTAMP:20260423T205621
CREATED:20240404T180312Z
LAST-MODIFIED:20240404T180312Z
UID:9772-1712775600-1712781000@www.myvalleyvillage.com
SUMMARY:Planning and Land Use Committee Meeting
DESCRIPTION:The Neighborhood Council Valley Village Planning and Land Use Committee will hold a meeting Wednesday\, April 10\, 7pm on Zoom. \nOn our agenda: \n\n5555 Morella\nLaurel Canyon Redevelopment Plan\nDraft Ordinance ED1 letter submission to Mayor and Councilmember Krekorian\nSoutheast Valley Community Plan Update\nHousing Element Review\, Concept Explorer\nLandscape and Site Design Ordinance\n\nZoom Meeting – Participate Online or by Telephone\nParticipate online: join the meeting at https://us02web.zoom.us/j/82620257242\nParticipate by phone: (888) 475-4499 then enter Webinar ID: 826 2025 7242 and press #
URL:https://www.myvalleyvillage.com/event/planning-and-land-use-committee-meeting-24/
CATEGORIES:meetings,Planning and Land Use
END:VEVENT
BEGIN:VEVENT
DTSTART;TZID=America/Los_Angeles:20240313T190000
DTEND;TZID=America/Los_Angeles:20240313T210000
DTSTAMP:20260423T205621
CREATED:20240311T183048Z
LAST-MODIFIED:20240311T223103Z
UID:9714-1710356400-1710363600@www.myvalleyvillage.com
SUMMARY:Planning and Land Use
DESCRIPTION:Join us for the next NCVV Planning and Land Use Committee Meeting March 13\, 7pm on Zoom \nOn our agenda: \n\nED1 Draft Ordinance\nCommunity Plan Updates\n\nZoom Meeting – Participate Online or by Telephone\nParticipate online: join the meeting at https://us02web.zoom.us/j/82620257242\nParticipate by phone: (888) 475-4499 then enter Webinar ID: 82620257242 and press #
URL:https://www.myvalleyvillage.com/event/planning-and-land-use/
CATEGORIES:meetings,Planning and Land Use
END:VEVENT
BEGIN:VEVENT
DTSTART;TZID=America/Los_Angeles:20240214T190000
DTEND;TZID=America/Los_Angeles:20240214T200000
DTSTAMP:20260423T205621
CREATED:20240212T203639Z
LAST-MODIFIED:20240212T203639Z
UID:9654-1707937200-1707940800@www.myvalleyvillage.com
SUMMARY:Planning and Land Use Committee
DESCRIPTION:Join us for the next meeting of the NCVV Planning and Land Use Committee\, February 14\, 7pm on Zoom. \nJoin by phone: +1-669-900-6833\, and use meeting ID:818 4586 6836 \nor online: https://us02web.zoom.us/j/81845866836
URL:https://www.myvalleyvillage.com/event/planning-and-land-use-committee-9/
CATEGORIES:meetings,Planning and Land Use
END:VEVENT
END:VCALENDAR